BEGIN:VCALENDAR
VERSION:2.0
PRODID:-//East Jordan Chamber - ECPv6.15.20//NONSGML v1.0//EN
CALSCALE:GREGORIAN
METHOD:PUBLISH
X-ORIGINAL-URL:https://ejchamber.org
X-WR-CALDESC:Events for East Jordan Chamber
REFRESH-INTERVAL;VALUE=DURATION:PT1H
X-Robots-Tag:noindex
X-PUBLISHED-TTL:PT1H
BEGIN:VTIMEZONE
TZID:America/Detroit
BEGIN:DAYLIGHT
TZOFFSETFROM:-0500
TZOFFSETTO:-0400
TZNAME:EDT
DTSTART:20230312T070000
END:DAYLIGHT
BEGIN:STANDARD
TZOFFSETFROM:-0400
TZOFFSETTO:-0500
TZNAME:EST
DTSTART:20231105T060000
END:STANDARD
BEGIN:DAYLIGHT
TZOFFSETFROM:-0500
TZOFFSETTO:-0400
TZNAME:EDT
DTSTART:20240310T070000
END:DAYLIGHT
BEGIN:STANDARD
TZOFFSETFROM:-0400
TZOFFSETTO:-0500
TZNAME:EST
DTSTART:20241103T060000
END:STANDARD
BEGIN:DAYLIGHT
TZOFFSETFROM:-0500
TZOFFSETTO:-0400
TZNAME:EDT
DTSTART:20250309T070000
END:DAYLIGHT
BEGIN:STANDARD
TZOFFSETFROM:-0400
TZOFFSETTO:-0500
TZNAME:EST
DTSTART:20251102T060000
END:STANDARD
END:VTIMEZONE
BEGIN:VEVENT
DTSTART;TZID=America/Detroit:20240303T160000
DTEND;TZID=America/Detroit:20240303T170000
DTSTAMP:20260419T082325
CREATED:20240222T164418Z
LAST-MODIFIED:20240222T164418Z
UID:6814-1709481600-1709485200@ejchamber.org
SUMMARY:GLCO presents Drumheads percussion ensemble
DESCRIPTION:Enjoy the many sounds of percussion with The Drumheads ensemble from the Great Lakes Chamber Orchestra.  The free concert\, part of the GLCO’s Sunday Series\, will take place at 4 PM on Sunday March 3rd at the First Congregational Church\, 101 State St. in Charlevoix. Tim Mocny\, Bob Sagan\, and Ken Yagiela will perform favorites\, reimagined classics\, video game music and more in creative percussion arrangements with drums\, glockenspiel\, marimba\, cymbals\, and “found” instruments\, to name a few.  There is something for everyone and all ages in this dynamic performance. The free of charge Sunday Series recitals are made possible through the generous support of Carolyn Klender. The Great Lakes Chamber Orchestra is a nonprofit professional orchestra headquartered at 219 E. Lake St.\, Petoskey. For more information\, visit www.glcorchestra.org or call 231-487-0010.
URL:https://ejchamber.org/event/glco-presents-drumheads-percussion-ensemble/
LOCATION:First Congregational Church\, 101 State St\, Charlevoix\, MI\, 49720\, United States
CATEGORIES:One Time Events
ORGANIZER;CN="Great Lakes Chamber Orchestra":MAILTO:info@glcorchestra.org
END:VEVENT
BEGIN:VEVENT
DTSTART;TZID=America/Detroit:20240303T160000
DTEND;TZID=America/Detroit:20240303T170000
DTSTAMP:20260419T082325
CREATED:20240223T172525Z
LAST-MODIFIED:20240223T172525Z
UID:6808-1709481600-1709485200@ejchamber.org
SUMMARY:GLCO presents Drumheads percussion ensemble
DESCRIPTION:Enjoy the many sounds of percussion with The Drumheads ensemble from the Great Lakes Chamber Orchestra.  The free concert\, part of the GLCO’s Sunday Series\, will take place at 4 PM on Sunday March 3rd at the First Congregational Church\, 101 State St. in Charlevoix. \nTim Mocny\, Bob Sagan\, and Ken Yagiela will perform favorites\, reimagined classics\, video game music and more in creative percussion arrangements with drums\, glockenspiel\, marimba\, cymbals\, and “found” instruments\, to name a few.  There is something for everyone and all ages in this dynamic performance. \nThe free of charge Sunday Series recitals are made possible through the generous support of Carolyn Klender. \nThe Great Lakes Chamber Orchestra is a nonprofit professional orchestra headquartered at 219 E. Lake St.\, Petoskey. For more information\, visit www.glcorchestra.org or call 231-487-0010. \n  \n 
URL:https://ejchamber.org/event/glco-presents-drumheads-percussion-ensemble-2/
LOCATION:First Congregational Church\, 101 State St\, Charlevoix\, MI\, 49720\, United States
CATEGORIES:One Time Events
ATTACH;FMTTYPE=image/png:https://ejchamber.org/wp-content/uploads/2024/02/March-32024-Drumheads.png
ORGANIZER;CN="Great Lakes Chamber Orchestra":MAILTO:info@glcorchestra.org
END:VEVENT
BEGIN:VEVENT
DTSTART;TZID=America/Detroit:20240309T100000
DTEND;TZID=America/Detroit:20240309T130000
DTSTAMP:20260419T082325
CREATED:20240223T172542Z
LAST-MODIFIED:20240223T172605Z
UID:6818-1709978400-1709989200@ejchamber.org
SUMMARY:Community Sale
DESCRIPTION:What to Expect:\nYard Sale Finds: Explore a wide array of pre-loved treasures as community members clear out their closets and offer unique yard sale items. \nCrafters’ Corner: Immerse yourself in a world of creativity! Talented crafters from our community will showcase handmade goods\, bringing an artistic flair to your day. \nDirect Sale Delights: Discover fantastic products and services from local direct sale businesses. Support your neighbors while indulging in quality goods. \nAdmission: FREE for all! This is an inclusive event open to everyone in the community. \nDon’t miss out on this fantastic opportunity to shop\, connect\, and celebrate community spirit at our Community Sale on March 9th. Bring your family\, invite your friends\, and make it a day to remember! \nSee you there!
URL:https://ejchamber.org/event/community-sale/
LOCATION:Castle Farms\, 5052 M-66 North\, Charlevoix\, MI\, 49720\, United States
ATTACH;FMTTYPE=image/png:https://ejchamber.org/wp-content/uploads/2024/02/Blue-Spring-Sale-Facebook-Post-3.png
ORGANIZER;CN="Jessica Anderson":MAILTO:jessica@castlefarms.com
END:VEVENT
BEGIN:VEVENT
DTSTART;TZID=America/Detroit:20240317T110000
DTEND;TZID=America/Detroit:20240317T130000
DTSTAMP:20260419T082325
CREATED:20240223T172619Z
LAST-MODIFIED:20240223T172619Z
UID:6824-1710673200-1710680400@ejchamber.org
SUMMARY:FAMILY FUN SPRING POTTERY PAINTING
DESCRIPTION:Get ready for an exciting morning filled with creativity and laughter as we celebrate the magic of spring with our Family Fun Spring Pottery Painting event on Sunday\, March 17th\, starting at 11 am. Join us for a fantastic adventure where kids and families alike can let their imaginations soar and create treasured memories together. \nIn this enchanting workshop\, children and their families will have the choice between painting a delightful chick with a patterned egg or a lovable bunny with a patterned egg. Whether your little ones are fascinated by chirping chicks or hopping bunnies\, there’s something for every member of the family to enjoy. \nFor just $30 per person\, participants will receive expert guidance from our friendly instructor\, along with all the colorful paints and brushes needed to bring their pottery piece to life. And to keep the fun going\, we’ll also be serving up a special snack to satisfy those hungry tummies\, along with our refreshing Bunny Punch for a burst of seasonal cheer. \nWhether your child is a budding Picasso or simply loves to get hands-on with arts and crafts\, this class is perfect for kids and families of all skill levels. So round up the whole gang and come join us for a morning of creativity\, laughter\, and endless fun! \nSpaces are limited\, so don’t miss out – reserve your family’s spot today and get ready to paint some springtime magic together! 🎨🐥🐰
URL:https://ejchamber.org/event/family-fun-spring-pottery-painting/
LOCATION:Castle Farms\, 5052 M-66 North\, Charlevoix\, MI\, 49720\, United States
ATTACH;FMTTYPE=image/png:https://ejchamber.org/wp-content/uploads/2024/02/Spring-Pottery-Facebook-Post-1.png
ORGANIZER;CN="Jessica Anderson":MAILTO:jessica@castlefarms.com
END:VEVENT
BEGIN:VEVENT
DTSTART;TZID=America/Detroit:20240324T123000
DTEND;TZID=America/Detroit:20240324T163000
DTSTAMP:20260419T082325
CREATED:20240318T141350Z
LAST-MODIFIED:20240318T141359Z
UID:6866-1711283400-1711297800@ejchamber.org
SUMMARY:Exhibition Opening Reception at Jordan River Arts Council
DESCRIPTION:The Jordan River Arts Council kicks off its 2024 exhibition season with a free reception on Sunday\, March 24 from 12:30 to 4:30 pm. “United by Verse” celebrates and unites collaborations between visual artists and poets and includes works by 28 local artists. 301 Main St. Photo Credit: Karen Walker\, photography; Art Curtis\, poem
URL:https://ejchamber.org/event/exhibition-opening-reception-at-jordan-river-arts-council/
LOCATION:Jordan River Arts Council\, 301 Main Stree\, East Jordan\, MI\, 49727\, United States
CATEGORIES:One Time Events
ATTACH;FMTTYPE=image/jpeg:https://ejchamber.org/wp-content/uploads/2024/03/Collaborative-Artwork-2_Karen-Walker-Verse-Art-Curtis.jpeg
ORGANIZER;CN="Jordan River Arts Council":MAILTO:jracinfo@att.net
END:VEVENT
END:VCALENDAR