BEGIN:VCALENDAR
VERSION:2.0
PRODID:-//East Jordan Chamber - ECPv6.15.20//NONSGML v1.0//EN
CALSCALE:GREGORIAN
METHOD:PUBLISH
X-ORIGINAL-URL:https://ejchamber.org
X-WR-CALDESC:Events for East Jordan Chamber
REFRESH-INTERVAL;VALUE=DURATION:PT1H
X-Robots-Tag:noindex
X-PUBLISHED-TTL:PT1H
BEGIN:VTIMEZONE
TZID:America/Detroit
BEGIN:DAYLIGHT
TZOFFSETFROM:-0500
TZOFFSETTO:-0400
TZNAME:EDT
DTSTART:20220313T070000
END:DAYLIGHT
BEGIN:STANDARD
TZOFFSETFROM:-0400
TZOFFSETTO:-0500
TZNAME:EST
DTSTART:20221106T060000
END:STANDARD
BEGIN:DAYLIGHT
TZOFFSETFROM:-0500
TZOFFSETTO:-0400
TZNAME:EDT
DTSTART:20230312T070000
END:DAYLIGHT
BEGIN:STANDARD
TZOFFSETFROM:-0400
TZOFFSETTO:-0500
TZNAME:EST
DTSTART:20231105T060000
END:STANDARD
BEGIN:DAYLIGHT
TZOFFSETFROM:-0500
TZOFFSETTO:-0400
TZNAME:EDT
DTSTART:20240310T070000
END:DAYLIGHT
BEGIN:STANDARD
TZOFFSETFROM:-0400
TZOFFSETTO:-0500
TZNAME:EST
DTSTART:20241103T060000
END:STANDARD
END:VTIMEZONE
BEGIN:VEVENT
DTSTART;TZID=America/Detroit:20231104T190000
DTEND;TZID=America/Detroit:20231104T203000
DTSTAMP:20260419T082325
CREATED:20231019T194119Z
LAST-MODIFIED:20231019T194119Z
UID:6740-1699124400-1699129800@ejchamber.org
SUMMARY:GLCO presents Echoes from the Musikverein concert
DESCRIPTION:Join the Great Lakes Chamber Orchestra for “Echoes from the Musikverein: Music from Vienna’s Golden Concert Hall” on Saturday\, November 4th at 7 PM at the Great Lakes Center for the Arts in Bay Harbor\, Petoskey.  The GLCO\, conducted by Maestro Libor Ondras\, brings to life masterpieces by Mozart\, Schubert\, and Haydn in this celebration of the rich cultural heritage of Vienna. The concert features guest piano soloist Michael Barrett in Mozart’s Piano Concerto No. 19. In addition\, 14-year-old violinist Eeva Rintala of Boyne City and winner of GLCO’s 2023 Charles F. Davis Young Artist Competition\, will be performing Beethoven’s Romance No. 2 with the orchestra.  Tickets are available at www.glcorchestra.org/concerts. Complimentary tickets are available for veterans\, active service members and students 18 and under by calling 231-487-0010. \n 
URL:https://ejchamber.org/event/glco-presents-echoes-from-the-musikverein-concert/
LOCATION:Great Lakes Center for the Arts\, Bay Harbor\, 800 Bay Harbor Drive\, Bay Harbor\, MI\, 49770\, United States
CATEGORIES:One Time Events
ATTACH;FMTTYPE=image/png:https://ejchamber.org/wp-content/uploads/2023/10/Musikverein-HS-Ad-1.png
ORGANIZER;CN="Great Lakes Chamber Orchestra":MAILTO:info@glcorchestra.org
END:VEVENT
BEGIN:VEVENT
DTSTART;TZID=America/Detroit:20231130T173000
DTEND;TZID=America/Detroit:20231130T190000
DTSTAMP:20260419T082325
CREATED:20231030T160312Z
LAST-MODIFIED:20231110T181437Z
UID:6746-1701365400-1701370800@ejchamber.org
SUMMARY:Jubilee of Trees for 501 C3's & Holiday Business After Hours
DESCRIPTION:Join us at The Boathouse on Lake Charlevoix (204 Water Street\, East Jordan)  for the 2023 Jubilee of Trees for 501 C3’s and the Holiday Business After Hours event proudly sponsored by EJ. 25 beautifully decorated Christmas Trees and 5 Baskets will be on display and part of a silent auction. As a winning bidder\, you will be allowed to choose the Chamber Member 501 C3 that you would like your donation to go to. The Holiday Business After Hours is open to everyone and it’s a great time to meet\, network and learn about our local businesses\, their owners/managers and kick-off the holiday season. Entry to the event will be by cash donations that will be divided between our local food pantries. Care and Share of East Jordan and The Good Samarian of Ellsworth.
URL:https://ejchamber.org/event/jubilee-of-trees-for-501-c3s-holiday-business-after-hours/
LOCATION:The Boathouse on Lake Charlevoix\, 204 Water Street\, East Jordan\, MI\, 49727\, United States
CATEGORIES:Festival Events
END:VEVENT
END:VCALENDAR