BEGIN:VCALENDAR
VERSION:2.0
PRODID:-//East Jordan Chamber - ECPv6.15.20//NONSGML v1.0//EN
CALSCALE:GREGORIAN
METHOD:PUBLISH
X-WR-CALNAME:East Jordan Chamber
X-ORIGINAL-URL:https://ejchamber.org
X-WR-CALDESC:Events for East Jordan Chamber
REFRESH-INTERVAL;VALUE=DURATION:PT1H
X-Robots-Tag:noindex
X-PUBLISHED-TTL:PT1H
BEGIN:VTIMEZONE
TZID:UTC
BEGIN:STANDARD
TZOFFSETFROM:+0000
TZOFFSETTO:+0000
TZNAME:UTC
DTSTART:20210101T000000
END:STANDARD
END:VTIMEZONE
BEGIN:VTIMEZONE
TZID:America/Detroit
BEGIN:DAYLIGHT
TZOFFSETFROM:-0500
TZOFFSETTO:-0400
TZNAME:EDT
DTSTART:20210314T070000
END:DAYLIGHT
BEGIN:STANDARD
TZOFFSETFROM:-0400
TZOFFSETTO:-0500
TZNAME:EST
DTSTART:20211107T060000
END:STANDARD
BEGIN:DAYLIGHT
TZOFFSETFROM:-0500
TZOFFSETTO:-0400
TZNAME:EDT
DTSTART:20220313T070000
END:DAYLIGHT
BEGIN:STANDARD
TZOFFSETFROM:-0400
TZOFFSETTO:-0500
TZNAME:EST
DTSTART:20221106T060000
END:STANDARD
BEGIN:DAYLIGHT
TZOFFSETFROM:-0500
TZOFFSETTO:-0400
TZNAME:EDT
DTSTART:20230312T070000
END:DAYLIGHT
BEGIN:STANDARD
TZOFFSETFROM:-0400
TZOFFSETTO:-0500
TZNAME:EST
DTSTART:20231105T060000
END:STANDARD
END:VTIMEZONE
BEGIN:VEVENT
DTSTART;TZID=UTC:20221001T100000
DTEND;TZID=UTC:20221001T170000
DTSTAMP:20260419T081522
CREATED:20220302T215148Z
LAST-MODIFIED:20220302T215148Z
UID:5204-1664618400-1664643600@ejchamber.org
SUMMARY:Breezeway Fall Color Cruise
DESCRIPTION:Cruise the 26 Mile C-48 The Breezeway at your own pace stopping along the way. So much to see and do from dining\, shopping\, apples\, pumpkin patches\, art walks and much\, much more. Pick up your goodie bags filled with coupons and trinkets at Royal Farms from 10:00 AM – Noon.
URL:https://ejchamber.org/event/breezeway-fall-color-cruise-10/
LOCATION:MI
CATEGORIES:Recurring Events
END:VEVENT
BEGIN:VEVENT
DTSTART;TZID=America/Detroit:20221001T190000
DTEND;TZID=America/Detroit:20221001T210000
DTSTAMP:20260419T081522
CREATED:20220912T165839Z
LAST-MODIFIED:20220912T165839Z
UID:5492-1664650800-1664658000@ejchamber.org
SUMMARY:GLCO presents Aspects of America
DESCRIPTION:“Aspects of America\,” the opening concert of the Great Lakes Chamber Orchestra’s ’22 – ’23 season\, will be held at 7 pm on Saturday\, Oct. 1\, at the Great Lakes Center for the Arts in Bay Harbor. The journey through the history of American music features composers from the late 19th century to present day\, and highlights the 2022 Charles F. Davis Young Artist Competition winner Karlie Thomas\, 15\, from Charlevoix\, on saxophone. \nThis program includes compositions that showcase the developments in American classical music pivotal in establishing the characteristics that set it apart from its European ancestors. Many classical composers of the 20th century captured a uniquely American spirit\, incorporating several musical traditions (such as pop\, blues\, folk\, rag\, tango\, ultra-modern\, and European music).  Composers represented are Grant Still\, Piazzolla\, Barber\, Villa-Lobos\, Milhaud\, Kernis\, Bolcom\, Paus\, and Gould. \nA pre-concert talk by Libor Ondras\, orchestra conductor and music director\, starts at 6 p.m. in the Community Engagement Room. \nGreat Lakes Chamber Orchestra is a non-profit organization headquartered in downtown Petoskey. Tickets from $35 – $65 for the Oct. 1 event are available at www.glcorchestra.org.  The concert is free for veterans\, active service members and students 18 and under by calling 231-487-0010. \n 
URL:https://ejchamber.org/event/glco-presents-aspects-of-america-2/
LOCATION:Great Lakes Center for the Arts\, Bay Harbor\, 800 Bay Harbor Drive\, Bay Harbor\, MI\, 49770\, United States
ORGANIZER;CN="Great Lakes Chamber Orchestra":MAILTO:info@glcorchestra.org
END:VEVENT
BEGIN:VEVENT
DTSTART;TZID=UTC:20221008T100000
DTEND;TZID=UTC:20221008T170000
DTSTAMP:20260419T081522
CREATED:20220302T213740Z
LAST-MODIFIED:20220302T215031Z
UID:5199-1665223200-1665248400@ejchamber.org
SUMMARY:Breezeway Fall Color Cruise
DESCRIPTION:Cruise the 26 Mile C-48 The Breezeway at your own pace stopping along the way. So much to see and do from dining\, shopping\, apples\, pumpkin patches\, art walks and much\, much more. Pick up your goodie bags filled with coupons and trinkets at Royal Farms from 10:00 AM – Noon.
URL:https://ejchamber.org/event/breezeway-fall-color-cruise-9/
LOCATION:The Breezeway\, U.S 31 to U.S. 131\, MI\, United States
CATEGORIES:Recurring Events
END:VEVENT
BEGIN:VEVENT
DTSTART;TZID=America/Detroit:20221025T114500
DTEND;TZID=America/Detroit:20221025T130000
DTSTAMP:20260419T081522
CREATED:20221017T193144Z
LAST-MODIFIED:20221017T193144Z
UID:5538-1666698300-1666702800@ejchamber.org
SUMMARY:East Jordan State of the Community Luncheon
DESCRIPTION:Join the EJ Chamber to find out what’s happening in East Jordan. Presentations from Mary H. Faculak\, Tom Teske\, Tom Cannon\, Chip Hansen\, Kieran Fleming\, Matt Stevenson. \nRSVP required \nBoxed Lunch will be available for take-out – $20 from EJ Chamber Members\, $25 not-yet-members \nContact the Chamber by Thursday\, Oct. 20 to make reservations – 231-536-7351 or info@ejchamber.org
URL:https://ejchamber.org/event/east-jordan-state-of-the-community-luncheon/
LOCATION:East Jordan Community Auditorium\, 304 Fourth Street\, East Jordan\, MI\, 49727\, United States
END:VEVENT
BEGIN:VEVENT
DTSTART;TZID=America/Detroit:20221027T170000
DTEND;TZID=America/Detroit:20221027T183000
DTSTAMP:20260419T081522
CREATED:20221017T200647Z
LAST-MODIFIED:20221017T200647Z
UID:5549-1666890000-1666895400@ejchamber.org
SUMMARY:Business After Hours
DESCRIPTION:Join us for some fall fun at Royal Farms Wine Room. Networking\, snacks\, cash bar and fun. \nSponsored by: Royal Farms\, Ellsworth Farmers Exchange & House on the Hill Bed & Breakfast \nFREE for EJ Chamber Members – $10 for Not-Yet-Members
URL:https://ejchamber.org/event/business-after-hours-11/
LOCATION:Royal Farms Farm Market & Wine Cellar\, 10445 US 31\, Ellsworth\, MI\, 49729
CATEGORIES:One Time Events
END:VEVENT
BEGIN:VEVENT
DTSTART;TZID=America/Detroit:20221027T190000
DTEND;TZID=America/Detroit:20221028T210000
DTSTAMP:20260419T081522
CREATED:20221017T194624Z
LAST-MODIFIED:20221017T194624Z
UID:5546-1666897200-1666990800@ejchamber.org
SUMMARY:3rd Annual Pumpkin Walk
DESCRIPTION:Family Fun Night – October 27 starting at 7:00 PM – Walk the path lit with decorated pumpkins \nDisc Golf Tournament – October 28 – 5:00 PM \nHaunted Trail – October 28 starting at 7:00 PM – Enter if you dare – the trail will become haunted so enter for thrills and chills \nEnter by donation. All donations to benefit The Depot Jordan Valley Teen Center
URL:https://ejchamber.org/event/3rd-annual-pumpkin-walk/
LOCATION:East Jordan Community Park\, 805 Maple Street\, East Jordan\, MI\, 49727\, United States
ORGANIZER;CN="The Depot Jordan Valley Teen Center":MAILTO:depotjvteencenter@gmail.com
END:VEVENT
BEGIN:VEVENT
DTSTART;TZID=America/Detroit:20221028T170000
DTEND;TZID=America/Detroit:20221028T200000
DTSTAMP:20260419T081522
CREATED:20221017T193948Z
LAST-MODIFIED:20221017T194136Z
UID:5541-1666976400-1666987200@ejchamber.org
SUMMARY:East Jordan Fire Department & Jordan Valley EMS Authority Open House
DESCRIPTION:Meet your local Firefighters and EMS employees\, See fire trucks and Ambulances & equipment\, Enjoy games\, treats\, prizes\, kids activities and more. \n 
URL:https://ejchamber.org/event/east-jordan-fire-department-jordan-valley-ems-authority-open-house/
LOCATION:East Jordan EMS/Fire Building\, 555 S. Maple Street\, East Jordan\, MI\, 49727\, United States
CATEGORIES:One Time Events
END:VEVENT
BEGIN:VEVENT
DTSTART;TZID=America/Detroit:20221031T170000
DTEND;TZID=America/Detroit:20221031T190000
DTSTAMP:20260419T081522
CREATED:20221017T190520Z
LAST-MODIFIED:20221017T190520Z
UID:5533-1667235600-1667242800@ejchamber.org
SUMMARY:Ellsworth Trunk-or-Treat Event
DESCRIPTION:Great fun for the whole family.  Ellsworth Community Park (Pavilion) \nFood\, Activities\, Music\, Photo Booth\, Hay Rides\, Haunted House\, Canned Good Drive and much more. \nCommunity organizations\, churches\, businesses and individuals are welcome to participate. To reserve a spot\, please contact the Village of Ellsworth office@villageofellsworth.com \n  \n 
URL:https://ejchamber.org/event/ellsworth-trunk-or-treat-event/
LOCATION:Village of Ellsworth\, MI\, United States
CATEGORIES:Festival Events
END:VEVENT
BEGIN:VEVENT
DTSTART;TZID=America/Detroit:20221031T170000
DTEND;TZID=America/Detroit:20221031T190000
DTSTAMP:20260419T081522
CREATED:20221017T190706Z
LAST-MODIFIED:20221017T190706Z
UID:5536-1667235600-1667242800@ejchamber.org
SUMMARY:Trunk-or-Treat - East Jordan United Methodist Church
DESCRIPTION:The East Jordan United Methodist Church will be having TRUNK OR TREAT on October 31 from 5-7pm.  Come to the church parking lot on 4th Street.  In case of inclement weather\, TRUNK OR TREAT will be held in the education unit off the parking lot entrance. \n 
URL:https://ejchamber.org/event/trunk-or-treat-east-jordan-united-methodist-church/
LOCATION:East Jordan United  Methodist Church\, 201 Fourth St.\, East Jordan\, MI\, 49727\, United States
CATEGORIES:One Time Events
END:VEVENT
END:VCALENDAR