BEGIN:VCALENDAR
VERSION:2.0
PRODID:-//East Jordan Chamber - ECPv6.15.20//NONSGML v1.0//EN
CALSCALE:GREGORIAN
METHOD:PUBLISH
X-ORIGINAL-URL:https://ejchamber.org
X-WR-CALDESC:Events for East Jordan Chamber
REFRESH-INTERVAL;VALUE=DURATION:PT1H
X-Robots-Tag:noindex
X-PUBLISHED-TTL:PT1H
BEGIN:VTIMEZONE
TZID:UTC
BEGIN:STANDARD
TZOFFSETFROM:+0000
TZOFFSETTO:+0000
TZNAME:UTC
DTSTART:20210101T000000
END:STANDARD
END:VTIMEZONE
BEGIN:VEVENT
DTSTART;TZID=UTC:20220804T100000
DTEND;TZID=UTC:20220804T140000
DTSTAMP:20260419T113617
CREATED:20220506T221451Z
LAST-MODIFIED:20220506T221451Z
UID:5351-1659607200-1659621600@ejchamber.org
SUMMARY:East Jordan Farmers Market
DESCRIPTION:Shop for local produce\, honey\, flowers\, baked goods\, crafts and much more. \nThursday’s 10:00 AM – 2:00 PM \nAt the East Jordan Tourist Park – 215 N. Lake Street
URL:https://ejchamber.org/event/east-jordan-farmers-market-62/
LOCATION:East Jordan Tourist Park\, 215 N. Lake St.\, East Jordan\, MI\, 49727\, United States
CATEGORIES:Recurring Events
END:VEVENT
BEGIN:VEVENT
DTSTART;TZID=UTC:20220804T183000
DTEND;TZID=UTC:20220804T200000
DTSTAMP:20260419T113617
CREATED:20220427T222134Z
LAST-MODIFIED:20220427T222134Z
UID:5260-1659637800-1659643200@ejchamber.org
SUMMARY:Elk Rapids Community Paddle (Harbor Days)
DESCRIPTION:August 4\, 6:30 – 8 pm; Elk Rapids Rotary Park\, 305 US-31 Elk Rapids\, MI 49629 \nMore Info: https://www.paddleantrim.com/event/elk-rapids-harbor-days-community-paddle/ \nGrab your paddleboard\, kayak\, or canoe and join Paddle Antrim for a slow out and back paddle. Check-in at 6:30 pm and we will launch as a group at 6:45 pm. We encourage all ages and types of paddle crafts to join us on the water for these slow paddles. Paddles last approximately one hour on the water\, are free\, and no pre-registration is required.  All paddlers must bring their own craft/boat\, paddle\, and a pfd (life jacket). All ages are welcome but children under 18 must be accompanied by an adult out on the water. All paddlers must complete a paddling event waiver prior to participation. \nContact info: \ninfo@paddleantrim.com \n231-498-2080 \n 
URL:https://ejchamber.org/event/elk-rapids-community-paddle-harbor-days/
LOCATION:MI
ATTACH;FMTTYPE=image/png:https://ejchamber.org/wp-content/uploads/2022/04/ER-Comm-Paddle-2.png
END:VEVENT
BEGIN:VEVENT
DTSTART;TZID=UTC:20220806T100000
DTEND;TZID=UTC:20220807T160000
DTSTAMP:20260419T113617
CREATED:20220302T204752Z
LAST-MODIFIED:20220302T204752Z
UID:5191-1659780000-1659888000@ejchamber.org
SUMMARY:Portside Art Fair
DESCRIPTION:Set at beautiful Elm Pointe on the shore if Lake Charlevoix. Wonderful art of all mediums will be on sale from artiest throughout the region. Also throughout the day there will be food and music to enjoy.
URL:https://ejchamber.org/event/portside-art-fair/
LOCATION:Elm Pointe\, 1656 S. M-66 Hwy\, East Jordan\, MI\, 49727\, United States
CATEGORIES:One Time Events
END:VEVENT
BEGIN:VEVENT
DTSTART;TZID=UTC:20220811T100000
DTEND;TZID=UTC:20220811T140000
DTSTAMP:20260419T113617
CREATED:20220506T221544Z
LAST-MODIFIED:20220506T221544Z
UID:5353-1660212000-1660226400@ejchamber.org
SUMMARY:East Jordan Farmers Market
DESCRIPTION:Shop for local produce\, honey\, flowers\, baked goods\, crafts and much more. \nThursday’s 10:00 AM – 2:00 PM \nAt the East Jordan Tourist Park – 215 N. Lake Street
URL:https://ejchamber.org/event/east-jordan-farmers-market-63/
LOCATION:East Jordan Tourist Park\, 215 N. Lake St.\, East Jordan\, MI\, 49727\, United States
CATEGORIES:Recurring Events
END:VEVENT
BEGIN:VEVENT
DTSTART;TZID=UTC:20220818T100000
DTEND;TZID=UTC:20220818T140000
DTSTAMP:20260419T113617
CREATED:20220506T221630Z
LAST-MODIFIED:20220506T221630Z
UID:5355-1660816800-1660831200@ejchamber.org
SUMMARY:East Jordan Farmers Market
DESCRIPTION:Shop for local produce\, honey\, flowers\, baked goods\, crafts and much more. \nThursday’s 10:00 AM – 2:00 PM \nAt the East Jordan Tourist Park – 215 N. Lake Street
URL:https://ejchamber.org/event/east-jordan-farmers-market-64/
LOCATION:East Jordan Tourist Park\, 215 North Lake Street\, East Jordan\, MI\, 49727\, United States
CATEGORIES:Recurring Events
END:VEVENT
BEGIN:VEVENT
DTSTART;TZID=UTC:20220818T140000
DTEND;TZID=UTC:20220818T160000
DTSTAMP:20260419T113617
CREATED:20220427T222409Z
LAST-MODIFIED:20220427T222409Z
UID:5283-1660831200-1660838400@ejchamber.org
SUMMARY:Kids Kayaking Class
DESCRIPTION:August 18\, 2 – 4 pm \nMore Info & to Register: https://www.paddleantrim.com/event/kids-kayaking-class-august-18-2-4pm/ \nPaddle Antrim kids’ class is a great way to introduce your child to the sport of kayaking. Designed with fun and water safety as primary goals\, we teach students through a variety of games and exploration. Our experienced\, certified instructors teach basic skills with a goal to empower kids to be comfortable while out on the water. Classes are taught in traditional youth sized sea kayaks. Life Jackets are required. All classes are taught by ACA (American Canoe Association) certified instructors. \nLocation: River Park\, 6625 Bridge St\, Ellsworth\, MI 49729 \nCost: $30/person/class \nContact info: \ninfo@paddleantrim.com \n231-498-2080
URL:https://ejchamber.org/event/kids-kayaking-class-6/
LOCATION:MI
END:VEVENT
BEGIN:VEVENT
DTSTART;TZID=UTC:20220818T183000
DTEND;TZID=UTC:20220818T200000
DTSTAMP:20260419T113617
CREATED:20220427T222145Z
LAST-MODIFIED:20220427T222145Z
UID:5263-1660847400-1660852800@ejchamber.org
SUMMARY:Bellaire Community Paddle (Rubber Ducky Festival)
DESCRIPTION:August 18\, 6:30 – 8 pm; Richardi Park\, 100 E Antrim St.\, Bellaire\, MI 49615 \nMore Inbfo:https://www.paddleantrim.com/event/bellaire-community-paddle-2/ \nGrab your paddleboard\, kayak\, or canoe and join Paddle Antrim for a slow out and back paddle. Check-in at 6:30 pm and we will launch as a group at 6:45 pm. We encourage all ages and types of paddle crafts to join us on the water for these slow paddles. Paddles last approximately one hour on the water\, are free\, and no pre-registration is required.  All paddlers must bring their own craft/boat\, paddle\, and a pfd (life jacket). All ages are welcome but children under 18 must be accompanied by an adult out on the water. All paddlers must complete a paddling event waiver prior to participation. \nContact info: \ninfo@paddleantrim.com \n231-498-2080
URL:https://ejchamber.org/event/bellaire-community-paddle-rubber-ducky-festival/
LOCATION:MI
ATTACH;FMTTYPE=image/png:https://ejchamber.org/wp-content/uploads/2022/04/ER-Comm-Paddle-3.png
END:VEVENT
BEGIN:VEVENT
DTSTART;TZID=UTC:20220825T100000
DTEND;TZID=UTC:20220825T140000
DTSTAMP:20260419T113617
CREATED:20220506T221713Z
LAST-MODIFIED:20220822T161047Z
UID:5357-1661421600-1661436000@ejchamber.org
SUMMARY:East Jordan Farmers Market
DESCRIPTION:Shop for local produce\, honey\, flowers\, baked goods\, crafts and much more. \nThursday’s 10:00 AM – 2:00 PM \nAt the East Jordan Tourist Park – 215 N. Lake Street
URL:https://ejchamber.org/event/east-jordan-farmers-market-65/
LOCATION:East Jordan Tourist Park\, 215 North Lake Street\, East Jordan\, MI\, 49727\, United States
CATEGORIES:Recurring Events
END:VEVENT
END:VCALENDAR