BEGIN:VCALENDAR
VERSION:2.0
PRODID:-//East Jordan Chamber - ECPv6.15.20//NONSGML v1.0//EN
CALSCALE:GREGORIAN
METHOD:PUBLISH
X-ORIGINAL-URL:https://ejchamber.org
X-WR-CALDESC:Events for East Jordan Chamber
REFRESH-INTERVAL;VALUE=DURATION:PT1H
X-Robots-Tag:noindex
X-PUBLISHED-TTL:PT1H
BEGIN:VTIMEZONE
TZID:UTC
BEGIN:STANDARD
TZOFFSETFROM:+0000
TZOFFSETTO:+0000
TZNAME:UTC
DTSTART:20210101T000000
END:STANDARD
END:VTIMEZONE
BEGIN:VEVENT
DTSTART;TZID=UTC:20220501T160000
DTEND;TZID=UTC:20220501T170000
DTSTAMP:20260419T165535
CREATED:20220420T195712Z
LAST-MODIFIED:20220420T195712Z
UID:5240-1651420800-1651424400@ejchamber.org
SUMMARY:GLCO presents The Hummel Trio
DESCRIPTION:Great Lakes Chamber Orchestra presents The Hummel Trio with Libor Ondras and Paul Sonner\, as part of the season’s Sunday Recital Series. The program will include works by Johann Nepomuk Hummel\, Joseph Haydn\, Johan Halvorsen\, and Wolfgang Amadeus Mozart.  The trio includes Dr.Libor Ondras\, viola; Emily Grabinski-Conklin\, piano; and Andrew Laven\, cello.  The trio will be joined by GLCO Concertmaster and violinist Paul Sonner.\nGenerous support for the Sunday Recital Series is provided by Carolyn Klender.
URL:https://ejchamber.org/event/glco-presents-the-hummel-trio/
LOCATION:First Presbyterian Church of Harbor Springs\, 7940 Cemetery Rd\, Harbor Springs\, MI\, 49740\, United States
CATEGORIES:One Time Events
ATTACH;FMTTYPE=image/jpeg:https://ejchamber.org/wp-content/uploads/2022/04/HUMMEL_TRIO.jpg
ORGANIZER;CN="Great Lakes Chamber Orchestra":MAILTO:info@glcorchestra.org
END:VEVENT
BEGIN:VEVENT
DTSTART;TZID=UTC:20220512T100000
DTEND;TZID=UTC:20220512T140000
DTSTAMP:20260419T165535
CREATED:20220506T204817Z
LAST-MODIFIED:20220506T204817Z
UID:5325-1652349600-1652364000@ejchamber.org
SUMMARY:East Jordan Farmers Market
DESCRIPTION:Shop for local produce\, honey\, flowers\, baked goods\, crafts and much more. \nThursday’s 10:00 AM – 2:00 PM \nAt the East Jordan Tourist Park – 215 N. Lake Street
URL:https://ejchamber.org/event/east-jordan-farmers-market-49/
LOCATION:East Jordan Tourist Park\, 215 N. Lake Street\, East Jordan\, MI\, 49727\, United States
CATEGORIES:Recurring Events
END:VEVENT
BEGIN:VEVENT
DTSTART;TZID=UTC:20220519T100000
DTEND;TZID=UTC:20220519T140000
DTSTAMP:20260419T165535
CREATED:20220506T204919Z
LAST-MODIFIED:20220506T204919Z
UID:5327-1652954400-1652968800@ejchamber.org
SUMMARY:East Jordan Farmers Market
DESCRIPTION:Shop for local produce\, honey\, flowers\, baked goods\, crafts and much more. \nThursday’s 10:00 AM – 2:00 PM \nAt the East Jordan Tourist Park – 215 N. Lake Street
URL:https://ejchamber.org/event/east-jordan-farmers-market-50/
LOCATION:East Jordan Tourist Park\, 215 N. Lake St.\, East Jordan\, MI\, 49727\, United States
CATEGORIES:Recurring Events
END:VEVENT
BEGIN:VEVENT
DTSTART;TZID=UTC:20220521T173000
DTEND;TZID=UTC:20220521T213000
DTSTAMP:20260419T165535
CREATED:20220302T011432Z
LAST-MODIFIED:20220302T011432Z
UID:5173-1653154200-1653168600@ejchamber.org
SUMMARY:Chamber Annual Meeting/Dinner/Auction/Awards
DESCRIPTION:Join us for a fun event. New for 2022 – The Valley View Farm is the place to be on Saturday\, May 21\, 2022. Great dinner\, awards\, both live and silent auction with something for everyone and the Chamber Annual Meeting. Ticket information coming soon.
URL:https://ejchamber.org/event/chamber-annual-meeting-dinner-auction-awards/
LOCATION:Valley View Farm\, 5018 S. Waterman Rd.\, East Jordan\, MI\, 49727\, United States
CATEGORIES:One Time Events
END:VEVENT
BEGIN:VEVENT
DTSTART;TZID=UTC:20220525T173000
DTEND;TZID=UTC:20220525T193000
DTSTAMP:20260419T165535
CREATED:20220302T011938Z
LAST-MODIFIED:20220302T011938Z
UID:5175-1653499800-1653507000@ejchamber.org
SUMMARY:Regional Business After Hours
DESCRIPTION:The Charlevoix County Chambers are coming together to host a grand Business After Hours Event at The Boathouse on Lake Charlevoix. Food\, Networking and Fun will all be on the menu for this great night. Entry fee will be $10 per person (including Chamber Members).
URL:https://ejchamber.org/event/regional-business-after-hours/
LOCATION:The Boathouse on Lake Charlevoix\, 204 Water Street\, East Jordan\, MI\, 49727\, United States
CATEGORIES:One Time Events
END:VEVENT
BEGIN:VEVENT
DTSTART;TZID=UTC:20220526T100000
DTEND;TZID=UTC:20220526T140000
DTSTAMP:20260419T165535
CREATED:20220506T205035Z
LAST-MODIFIED:20220506T205035Z
UID:5329-1653559200-1653573600@ejchamber.org
SUMMARY:East Jordan Farmers Market
DESCRIPTION:Shop for local produce\, honey\, flowers\, baked goods\, crafts and much more. \nThursday’s 10:00 AM – 2:00 PM \nAt the East Jordan Tourist Park – 215 N. Lake Street
URL:https://ejchamber.org/event/east-jordan-farmers-market-51/
LOCATION:East Jordan Tourist Park\, 215 North Lake Street\, East Jordan\, MI\, 49727\, United States
CATEGORIES:Recurring Events
END:VEVENT
BEGIN:VEVENT
DTSTART;TZID=UTC:20220527T100000
DTEND;TZID=UTC:20220528T160000
DTSTAMP:20260419T165535
CREATED:20220302T012408Z
LAST-MODIFIED:20220302T012446Z
UID:5177-1653645600-1653753600@ejchamber.org
SUMMARY:Garage Sales Across the Breezeway
DESCRIPTION:Grab you crew and hit the 26 miles of garage sales along The C-48 Breezeway from Atwood to Boyne Falls. Stop along the way to enjoy breakfast\, lunch or dinner\, coffee or ice cream. Treasures await you! Pick up a sale list or visit www.ridethebreezeway.com for a map of sales and events. \nContact the Chamber Office to have your garage sale listed on the site maps/lists. ($10 fee)
URL:https://ejchamber.org/event/garage-sales-across-the-breezeway-3/
LOCATION:The Breezeway\, U.S 31 to U.S. 131\, MI\, United States
CATEGORIES:One Time Events
END:VEVENT
BEGIN:VEVENT
DTSTART;TZID=UTC:20220530T100000
DTEND;TZID=UTC:20220530T110000
DTSTAMP:20260419T165535
CREATED:20220302T012851Z
LAST-MODIFIED:20220526T194039Z
UID:5179-1653904800-1653908400@ejchamber.org
SUMMARY:Memorial Day Parade
DESCRIPTION:Downtown East Jordan from GAR Park to Memorial Park. Main Street. Program following in Memorial Park. \nParade Line-up – 10:00 AM – GAR Park \nParade Start – 10:45 AM \nService to follow – 11:00 AM\, Memorial Park (rain or shine)
URL:https://ejchamber.org/event/memorial-day-parade-3/
LOCATION:Downtown East Jordan\, East Jordan\, MI\, 49727\, United States
CATEGORIES:One Time Events
END:VEVENT
END:VCALENDAR