BEGIN:VCALENDAR
VERSION:2.0
PRODID:-//East Jordan Chamber - ECPv6.15.20//NONSGML v1.0//EN
CALSCALE:GREGORIAN
METHOD:PUBLISH
X-ORIGINAL-URL:https://ejchamber.org
X-WR-CALDESC:Events for East Jordan Chamber
REFRESH-INTERVAL;VALUE=DURATION:PT1H
X-Robots-Tag:noindex
X-PUBLISHED-TTL:PT1H
BEGIN:VTIMEZONE
TZID:America/Detroit
BEGIN:DAYLIGHT
TZOFFSETFROM:-0500
TZOFFSETTO:-0400
TZNAME:EDT
DTSTART:20250309T070000
END:DAYLIGHT
BEGIN:STANDARD
TZOFFSETFROM:-0400
TZOFFSETTO:-0500
TZNAME:EST
DTSTART:20251102T060000
END:STANDARD
BEGIN:DAYLIGHT
TZOFFSETFROM:-0500
TZOFFSETTO:-0400
TZNAME:EDT
DTSTART:20260308T070000
END:DAYLIGHT
BEGIN:STANDARD
TZOFFSETFROM:-0400
TZOFFSETTO:-0500
TZNAME:EST
DTSTART:20261101T060000
END:STANDARD
BEGIN:DAYLIGHT
TZOFFSETFROM:-0500
TZOFFSETTO:-0400
TZNAME:EDT
DTSTART:20270314T070000
END:DAYLIGHT
BEGIN:STANDARD
TZOFFSETFROM:-0400
TZOFFSETTO:-0500
TZNAME:EST
DTSTART:20271107T060000
END:STANDARD
END:VTIMEZONE
BEGIN:VEVENT
DTSTART;TZID=America/Detroit:20260701T180000
DTEND;TZID=America/Detroit:20260701T200000
DTSTAMP:20260419T094528
CREATED:20260406T180755Z
LAST-MODIFIED:20260406T180755Z
UID:8827-1782928800-1782936000@ejchamber.org
SUMMARY:Singo at The Castle Pub
DESCRIPTION:Get ready for a night of music and fun at Singo Night! \n🎶 Join us from 6–8 PM in the Pub for this high-energy game where songs replace numbers as you test your knowledge of music from all genres. \nAdmission is free\, and we’ll have a variety of prizes up for grabs. Bring your friends\, grab a drink\, and get ready to sing along!
URL:https://ejchamber.org/event/singo-at-the-castle-pub-6/
LOCATION:Castle Farms\, 5052 M-66 North\, Charlevoix\, MI\, 49720\, United States
CATEGORIES:Recurring Events
ATTACH;FMTTYPE=image/png:https://ejchamber.org/wp-content/uploads/2026/04/Singo-Night-USE-5.png
ORGANIZER;CN="Castle Farms":MAILTO:info@castlefarms.com
END:VEVENT
BEGIN:VEVENT
DTSTART;TZID=America/Detroit:20260715T080000
DTEND;TZID=America/Detroit:20260715T170000
DTSTAMP:20260419T094528
CREATED:20260406T180810Z
LAST-MODIFIED:20260406T180810Z
UID:8832-1784102400-1784134800@ejchamber.org
SUMMARY:Singo at The Castle Pub
DESCRIPTION:Get ready for a night of music and fun at Singo Night! \n🎶 Join us from 6–8 PM in the Pub for this high-energy game where songs replace numbers as you test your knowledge of music from all genres. \nAdmission is free\, and we’ll have a variety of prizes up for grabs. Bring your friends\, grab a drink\, and get ready to sing along!
URL:https://ejchamber.org/event/singo-at-the-castle-pub-7/
LOCATION:Castle Farms\, 5052 M-66 North\, Charlevoix\, MI\, 49720\, United States
CATEGORIES:Recurring Events
ATTACH;FMTTYPE=image/png:https://ejchamber.org/wp-content/uploads/2026/04/Singo-Night-USE-6.png
ORGANIZER;CN="Castle Farms":MAILTO:info@castlefarms.com
END:VEVENT
BEGIN:VEVENT
DTSTART;TZID=America/Detroit:20260729T180000
DTEND;TZID=America/Detroit:20260729T200000
DTSTAMP:20260419T094528
CREATED:20260406T180824Z
LAST-MODIFIED:20260406T180824Z
UID:8837-1785348000-1785355200@ejchamber.org
SUMMARY:Singo at The Castle Pub
DESCRIPTION:Get ready for a night of music and fun at Singo Night! \n🎶 Join us from 6–8 PM in the Pub for this high-energy game where songs replace numbers as you test your knowledge of music from all genres. \nAdmission is free\, and we’ll have a variety of prizes up for grabs. Bring your friends\, grab a drink\, and get ready to sing along!
URL:https://ejchamber.org/event/singo-at-the-castle-pub-8/
LOCATION:Castle Farms\, 5052 M-66 North\, Charlevoix\, MI\, 49720\, United States
CATEGORIES:Recurring Events
ATTACH;FMTTYPE=image/png:https://ejchamber.org/wp-content/uploads/2026/04/Singo-Night-USE-7.png
ORGANIZER;CN="Castle Farms":MAILTO:johanna@castlefarms.com
END:VEVENT
END:VCALENDAR