BEGIN:VCALENDAR
VERSION:2.0
PRODID:-//East Jordan Chamber - ECPv6.15.20//NONSGML v1.0//EN
CALSCALE:GREGORIAN
METHOD:PUBLISH
X-ORIGINAL-URL:https://ejchamber.org
X-WR-CALDESC:Events for East Jordan Chamber
REFRESH-INTERVAL;VALUE=DURATION:PT1H
X-Robots-Tag:noindex
X-PUBLISHED-TTL:PT1H
BEGIN:VTIMEZONE
TZID:America/Detroit
BEGIN:DAYLIGHT
TZOFFSETFROM:-0500
TZOFFSETTO:-0400
TZNAME:EDT
DTSTART:20240310T070000
END:DAYLIGHT
BEGIN:STANDARD
TZOFFSETFROM:-0400
TZOFFSETTO:-0500
TZNAME:EST
DTSTART:20241103T060000
END:STANDARD
BEGIN:DAYLIGHT
TZOFFSETFROM:-0500
TZOFFSETTO:-0400
TZNAME:EDT
DTSTART:20250309T070000
END:DAYLIGHT
BEGIN:STANDARD
TZOFFSETFROM:-0400
TZOFFSETTO:-0500
TZNAME:EST
DTSTART:20251102T060000
END:STANDARD
BEGIN:DAYLIGHT
TZOFFSETFROM:-0500
TZOFFSETTO:-0400
TZNAME:EDT
DTSTART:20260308T070000
END:DAYLIGHT
BEGIN:STANDARD
TZOFFSETFROM:-0400
TZOFFSETTO:-0500
TZNAME:EST
DTSTART:20261101T060000
END:STANDARD
END:VTIMEZONE
BEGIN:VEVENT
DTSTART;TZID=America/Detroit:20250111T130000
DTEND;TZID=America/Detroit:20250111T134500
DTSTAMP:20260420T091126
CREATED:20221107T200218Z
LAST-MODIFIED:20241031T150449Z
UID:5569-1736600400-1736603100@ejchamber.org
SUMMARY:GLCO presents Little Waves children’s music program at Charlevoix library
DESCRIPTION:The Little Waves children’s music program\, from the Great Lakes Chamber Orchestra (GLCO)\, is held six times during the year at the Petoskey District Library and Charlevoix Public Library.\nFree and open to the public and sponsored by the GLCO\, the program is designed to introduce young children (ages 3 – 10) and their families to music in an entertaining setting.  The program takes place on Saturdays at 10:30 am in Petoskey and 1 pm in Charlevoix.  It is a drop-in program with no need to register.  \nDirected by GLCO percussionist and Little Waves program director\, Tim Mocny\, each unique event features a multimedia musical story\, an opportunity to hear one or more GLCO musicians demonstrate and explain how their instruments work\, and fun music-related activities for kids.  \nUpcoming dates are Oct. 19\, 2024; Nov. 9\, 2024; Jan. 11\, 2025; Feb. 8\, 2025; March 8\, 2025; and April 12\, 2025.   \nLittle Waves is brought to our communities through the generosity of Norma Brown. For more information\, contact the libraries\, the GLCO office at 231-487-0010\, or visit www.glcorchestra.org/education/little-waves/. \n  \n 
URL:https://ejchamber.org/event/glco-presents-little-waves-childrens-music-program-at-charlevoix-library/
LOCATION:Charlevoix Public Library\, MI\, United States
CATEGORIES:Recurring Events
ATTACH;FMTTYPE=image/png:https://ejchamber.org/wp-content/uploads/2022/11/22-23-Little-Waves-sched-png.png
ORGANIZER;CN="Great Lakes Chamber Orchestra":MAILTO:info@glcorchestra.org
END:VEVENT
BEGIN:VEVENT
DTSTART;TZID=America/Detroit:20250120T190000
DTEND;TZID=America/Detroit:20250120T210000
DTSTAMP:20260420T091126
CREATED:20241230T141418Z
LAST-MODIFIED:20241230T141418Z
UID:7822-1737399600-1737406800@ejchamber.org
SUMMARY:Northern Michigan Chorale begins rehearsals for spring concert
DESCRIPTION:Join the Northern Michigan Chorale\, a choir group for adults\, college and high school students. No auditions required. Rehearsals for our spring concert are Mondays 7 – 9 PM starting January 20th at Cross of Christ Lutheran Church\, 1450 E. Mitchell Rd. in Petoskey. New members come early to register. Spring concert is at the Great Lakes Center for the Arts May 3rd and 4th\, featuring music from Broadway\, cinema\, pop classics and more.   Visit nmchorale.org for more info
URL:https://ejchamber.org/event/northern-michigan-chorale-begins-rehearsals-for-spring-concert/
LOCATION:Cross of Christ Lutheran Church\, 1450 E. Mitchell Rd.\, Petoskey\, MI\, 49770\, United States
CATEGORIES:Default,Recurring Events
ATTACH;FMTTYPE=image/jpeg:https://ejchamber.org/wp-content/uploads/2024/12/NMC-Spring-2025-Poster-JPG.jpg
ORGANIZER;CN="Northern Michigan Chorale":MAILTO:ddpichard@gmail.com
END:VEVENT
END:VCALENDAR