BEGIN:VCALENDAR
VERSION:2.0
PRODID:-//East Jordan Chamber - ECPv6.15.20//NONSGML v1.0//EN
CALSCALE:GREGORIAN
METHOD:PUBLISH
X-WR-CALNAME:East Jordan Chamber
X-ORIGINAL-URL:https://ejchamber.org
X-WR-CALDESC:Events for East Jordan Chamber
REFRESH-INTERVAL;VALUE=DURATION:PT1H
X-Robots-Tag:noindex
X-PUBLISHED-TTL:PT1H
BEGIN:VTIMEZONE
TZID:America/Detroit
BEGIN:DAYLIGHT
TZOFFSETFROM:-0500
TZOFFSETTO:-0400
TZNAME:EDT
DTSTART:20230312T070000
END:DAYLIGHT
BEGIN:STANDARD
TZOFFSETFROM:-0400
TZOFFSETTO:-0500
TZNAME:EST
DTSTART:20231105T060000
END:STANDARD
BEGIN:DAYLIGHT
TZOFFSETFROM:-0500
TZOFFSETTO:-0400
TZNAME:EDT
DTSTART:20240310T070000
END:DAYLIGHT
BEGIN:STANDARD
TZOFFSETFROM:-0400
TZOFFSETTO:-0500
TZNAME:EST
DTSTART:20241103T060000
END:STANDARD
BEGIN:DAYLIGHT
TZOFFSETFROM:-0500
TZOFFSETTO:-0400
TZNAME:EDT
DTSTART:20250309T070000
END:DAYLIGHT
BEGIN:STANDARD
TZOFFSETFROM:-0400
TZOFFSETTO:-0500
TZNAME:EST
DTSTART:20251102T060000
END:STANDARD
END:VTIMEZONE
BEGIN:VEVENT
DTSTART;TZID=America/Detroit:20241201T070000
DTEND;TZID=America/Detroit:20241201T120000
DTSTAMP:20260420T110237
CREATED:20241106T153834Z
LAST-MODIFIED:20241106T153834Z
UID:7719-1733036400-1733054400@ejchamber.org
SUMMARY:East Jordan Trailblazer Breakfast
DESCRIPTION:1st Breakfast of the season! Come and join us. Veterans eat free.
URL:https://ejchamber.org/event/east-jordan-trailblazer-breakfast/
LOCATION:East Jordan Trailblazers Clubhouse\, 5586 Mt. Bliss Rd\, East Jordan\, MI\, 49727\, United States
CATEGORIES:Recurring Events
ORGANIZER;CN="East Jordan Trailblazers":MAILTO:charsmpsn@yahoo.com
END:VEVENT
BEGIN:VEVENT
DTSTART;TZID=America/Detroit:20241208T130000
DTEND;TZID=America/Detroit:20241208T150000
DTSTAMP:20260420T110237
CREATED:20241126T151831Z
LAST-MODIFIED:20241126T151831Z
UID:7739-1733662800-1733670000@ejchamber.org
SUMMARY:S'mores with Santa
DESCRIPTION:On December 8th from 1 PM to 3 PM\, families & children are welcome to visit Camp Daggett for an afternoon of festive activities! \nJoin us to meet and get a photo with Santa Claus\, enjoy a winter scavenger hunt\, decorate cookies\, write letters to the North Pole\, explore our campus\, and indulge in s’mores and hot cocoa around a cozy campfire. \nDress for the weather! This event has several outdoor components. \nThis event is free and open to the public\, but donations are always welcome. No registration is required. No pets\, alcohol\, or smoking allowed at this event.
URL:https://ejchamber.org/event/smores-with-santa/
LOCATION:Camp Daggett\, 03001 Church Road\, Petoskey\, MI\, 49770\, United States
CATEGORIES:Recurring Events
ORGANIZER;CN="Camp Daggett":MAILTO:kaylak@campdaggett.org
END:VEVENT
BEGIN:VEVENT
DTSTART;TZID=America/Detroit:20241213T190000
DTEND;TZID=America/Detroit:20241213T210000
DTSTAMP:20260420T110237
CREATED:20241031T125826Z
LAST-MODIFIED:20241031T125826Z
UID:7686-1734116400-1734123600@ejchamber.org
SUMMARY:GLCO presents Messiah by Candlelight concert
DESCRIPTION:  \nJoin us on Thursday\, December 12th and Friday\, December 13th for a cherished decades-long holiday tradition as the Great Lakes Chamber Orchestra presents a concert featuring Handel’s masterpiece\, Messiah. The performance will be at 7 p.m. on both nights at the Great Lakes Center for the Arts\, 800 Bay Harbor Dr.\, Petoskey. \n  \nThe Great Lakes Chamber Orchestra Chorus (GLCO) and guest soloists\, led by Director André Strydom\, will join the orchestra led by GLCO Conductor and Music Director Maestro Libor Ondras. The concert also includes Schubert’s Magnificat and Mozart’s Sleigh Ride. \n  \nGreat Lakes Chamber Orchestra is a non-profit organization headquartered in downtown Petoskey. Tickets from $35 – $65 are available at www.glcorchestra.org.  The concert is free for veterans\, active service members and students 18 and under by calling 231-487-0010. \n  \n 
URL:https://ejchamber.org/event/glco-presents-messiah-by-candlelight-concert-2/
LOCATION:Great Lakes Center for the Arts\, Bay Harbor\, 800 Bay Harbor Drive\, Bay Harbor\, MI\, 49770\, United States
CATEGORIES:Recurring Events
ATTACH;FMTTYPE=image/png:https://ejchamber.org/wp-content/uploads/2024/10/Messiah-24-flyer-1.png
ORGANIZER;CN="Great Lakes Chamber Orchestra":MAILTO:info@glcorchestra.org
END:VEVENT
END:VCALENDAR