BEGIN:VCALENDAR
VERSION:2.0
PRODID:-//East Jordan Chamber - ECPv6.15.20//NONSGML v1.0//EN
CALSCALE:GREGORIAN
METHOD:PUBLISH
X-ORIGINAL-URL:https://ejchamber.org
X-WR-CALDESC:Events for East Jordan Chamber
REFRESH-INTERVAL;VALUE=DURATION:PT1H
X-Robots-Tag:noindex
X-PUBLISHED-TTL:PT1H
BEGIN:VTIMEZONE
TZID:America/Detroit
BEGIN:DAYLIGHT
TZOFFSETFROM:-0500
TZOFFSETTO:-0400
TZNAME:EDT
DTSTART:20230312T070000
END:DAYLIGHT
BEGIN:STANDARD
TZOFFSETFROM:-0400
TZOFFSETTO:-0500
TZNAME:EST
DTSTART:20231105T060000
END:STANDARD
BEGIN:DAYLIGHT
TZOFFSETFROM:-0500
TZOFFSETTO:-0400
TZNAME:EDT
DTSTART:20240310T070000
END:DAYLIGHT
BEGIN:STANDARD
TZOFFSETFROM:-0400
TZOFFSETTO:-0500
TZNAME:EST
DTSTART:20241103T060000
END:STANDARD
BEGIN:DAYLIGHT
TZOFFSETFROM:-0500
TZOFFSETTO:-0400
TZNAME:EDT
DTSTART:20250309T070000
END:DAYLIGHT
BEGIN:STANDARD
TZOFFSETFROM:-0400
TZOFFSETTO:-0500
TZNAME:EST
DTSTART:20251102T060000
END:STANDARD
END:VTIMEZONE
BEGIN:VEVENT
DTSTART;TZID=America/Detroit:20240702T080000
DTEND;TZID=America/Detroit:20240702T130000
DTSTAMP:20260420T204631
CREATED:20240404T194923Z
LAST-MODIFIED:20240404T194923Z
UID:6940-1719907200-1719925200@ejchamber.org
SUMMARY:Castle Farmers Market
DESCRIPTION:Discover the Castle Farmers Market\, where artisans and growers unite to showcase their homemade and homegrown delights. Join us at Birch Lake\, Castle Farms\, Charlevoix\, every Tuesday from May 21st to October 15th\, 8:00 AM – 1:00 PM. Nestled against the scenic Birch Lake\, our market offers a prime location for your crafts and produce. Engage with a diverse audience of locals and tourists\, fostering community connections and support for your talents. We celebrate craftsmanship\, emphasizing the artistry of handmade goods and locally sourced produce. Don’t miss this opportunity to shine in a vibrant marketplace that honors your unique skills and passions.
URL:https://ejchamber.org/event/castle-farmers-market-8/
LOCATION:Castle Farms\, 5052 M-66 North\, Charlevoix\, MI\, 49720\, United States
CATEGORIES:Recurring Events
ATTACH;FMTTYPE=image/png:https://ejchamber.org/wp-content/uploads/2024/04/Farmers-Market-Image-6.png
ORGANIZER;CN="Jessica Anderson":MAILTO:jessica@castlefarms.com
END:VEVENT
BEGIN:VEVENT
DTSTART;TZID=America/Detroit:20240702T080000
DTEND;TZID=America/Detroit:20240702T130000
DTSTAMP:20260420T204631
CREATED:20240404T194935Z
LAST-MODIFIED:20240404T194935Z
UID:6944-1719907200-1719925200@ejchamber.org
SUMMARY:Castle Farmers Market
DESCRIPTION:Discover the Castle Farmers Market\, where artisans and growers unite to showcase their homemade and homegrown delights. Join us at Birch Lake\, Castle Farms\, Charlevoix\, every Tuesday from May 21st to October 15th\, 8:00 AM – 1:00 PM. Nestled against the scenic Birch Lake\, our market offers a prime location for your crafts and produce. Engage with a diverse audience of locals and tourists\, fostering community connections and support for your talents. We celebrate craftsmanship\, emphasizing the artistry of handmade goods and locally sourced produce. Don’t miss this opportunity to shine in a vibrant marketplace that honors your unique skills and passions.
URL:https://ejchamber.org/event/castle-farmers-market-9/
LOCATION:Castle Farms\, 5052 M-66 North\, Charlevoix\, MI\, 49720\, United States
CATEGORIES:Recurring Events
ATTACH;FMTTYPE=image/png:https://ejchamber.org/wp-content/uploads/2024/04/Farmers-Market-Image-7.png
ORGANIZER;CN="Jessica Anderson":MAILTO:jessica@castlefarms.com
END:VEVENT
BEGIN:VEVENT
DTSTART;TZID=America/Detroit:20240702T080000
DTEND;TZID=America/Detroit:20240702T130000
DTSTAMP:20260420T204631
CREATED:20240404T194946Z
LAST-MODIFIED:20240404T194946Z
UID:6948-1719907200-1719925200@ejchamber.org
SUMMARY:Castle Farmers Market
DESCRIPTION:Discover the Castle Farmers Market\, where artisans and growers unite to showcase their homemade and homegrown delights. Join us at Birch Lake\, Castle Farms\, Charlevoix\, every Tuesday from May 21st to October 15th\, 8:00 AM – 1:00 PM. Nestled against the scenic Birch Lake\, our market offers a prime location for your crafts and produce. Engage with a diverse audience of locals and tourists\, fostering community connections and support for your talents. We celebrate craftsmanship\, emphasizing the artistry of handmade goods and locally sourced produce. Don’t miss this opportunity to shine in a vibrant marketplace that honors your unique skills and passions.
URL:https://ejchamber.org/event/castle-farmers-market-10/
LOCATION:Castle Farms\, 5052 M-66 North\, Charlevoix\, MI\, 49720\, United States
CATEGORIES:Recurring Events
ATTACH;FMTTYPE=image/png:https://ejchamber.org/wp-content/uploads/2024/04/Farmers-Market-Image-8.png
ORGANIZER;CN="Jessica Anderson":MAILTO:jessica@castlefarms.com
END:VEVENT
BEGIN:VEVENT
DTSTART;TZID=America/Detroit:20240708T180000
DTEND;TZID=America/Detroit:20240708T190000
DTSTAMP:20260420T204631
CREATED:20240409T194446Z
LAST-MODIFIED:20240409T194512Z
UID:7203-1720461600-1720465200@ejchamber.org
SUMMARY:YOGA AT THE CASTLE
DESCRIPTION:Experience tranquility and self-discovery through Yoga at Castle Farms\, set amidst the serene beauty of gardens and architectural wonders. Led by a certified instructor\, engage in mindful asanas\, connecting breath with movement to dissolve daily stresses and foster balance. Against the backdrop of Castle Farms’ history\, this experience transcends\, inviting spiritual awakening and inner peace. Join us in Northern Michigan for a transformative journey of healing and growth. Classes cost $30\, run for an hour\, and require bringing your yoga mat. Limited to 20 participants\, with a minimum of 5 required. Tickets are nonrefundable\, except if the class is canceled. Rain plan is inside Castle Farms.
URL:https://ejchamber.org/event/yoga-at-the-castle/
LOCATION:Castle Farms\, 5052 M-66 North\, Charlevoix\, MI\, 49720\, United States
CATEGORIES:One Time Events,Recurring Events
ATTACH;FMTTYPE=image/png:https://ejchamber.org/wp-content/uploads/2024/04/Yoga-at-the-Castle-Image-7.png
ORGANIZER;CN="Jessica Anderson":MAILTO:jessica@castlefarms.com
END:VEVENT
BEGIN:VEVENT
DTSTART;TZID=America/Detroit:20240709T080000
DTEND;TZID=America/Detroit:20240709T130000
DTSTAMP:20260420T204631
CREATED:20240404T195010Z
LAST-MODIFIED:20240404T195010Z
UID:6960-1720512000-1720530000@ejchamber.org
SUMMARY:Castle Farmers Market
DESCRIPTION:Discover the Castle Farmers Market\, where artisans and growers unite to showcase their homemade and homegrown delights. Join us at Birch Lake\, Castle Farms\, Charlevoix\, every Tuesday from May 21st to October 15th\, 8:00 AM – 1:00 PM. Nestled against the scenic Birch Lake\, our market offers a prime location for your crafts and produce. Engage with a diverse audience of locals and tourists\, fostering community connections and support for your talents. We celebrate craftsmanship\, emphasizing the artistry of handmade goods and locally sourced produce. Don’t miss this opportunity to shine in a vibrant marketplace that honors your unique skills and passions.
URL:https://ejchamber.org/event/castle-farmers-market-12/
LOCATION:Castle Farms\, 5052 M-66 North\, Charlevoix\, MI\, 49720\, United States
CATEGORIES:Recurring Events
ATTACH;FMTTYPE=image/png:https://ejchamber.org/wp-content/uploads/2024/04/Farmers-Market-Image-10.png
ORGANIZER;CN="Jessica Anderson":MAILTO:jessica@castlefarms.com
END:VEVENT
BEGIN:VEVENT
DTSTART;TZID=America/Detroit:20240709T180000
DTEND;TZID=America/Detroit:20240709T200000
DTSTAMP:20260420T204631
CREATED:20240411T193751Z
LAST-MODIFIED:20240411T193751Z
UID:7255-1720548000-1720555200@ejchamber.org
SUMMARY:FAIRY/GNOME GARDEN MAKE & TAKE
DESCRIPTION:Create your very own miniature garden to lure in fairies\, dragons\, and garden gnomes. \nOur Fairy Garden Classes include soil and 1 miniature plant to get you started. Our gardener will begin with a brief history of how miniature gardens began and move on to instructing the class on the key aspects of creating a fairy garden. Perfect for all ages! Bring your own container or purchase one with your ticket. Hurry- a limited number are available! Fairy homes\, decor\, and accessories are available for purchase in the Gift Shop. \nNOTE: When purchasing your ticket\, you MUST select the number of ATTENDEES that will be participating in the class. The baskets are optional add on’s. Only those who are building a garden need to purchase a ticket. If you are only observing or supervising a child you do not need to purchase a ticket.
URL:https://ejchamber.org/event/fairy-gnome-garden-make-take-2/
LOCATION:Castle Farms\, 5052 M-66 North\, Charlevoix\, MI\, 49720\, United States
CATEGORIES:Recurring Events
ATTACH;FMTTYPE=image/jpeg:https://ejchamber.org/wp-content/uploads/2024/04/Karie-Anne-Photography-1-1536x1025-fairy-garden-make-take-1.jpg
ORGANIZER;CN="Jessica Anderson":MAILTO:jessica@castlefarms.com
END:VEVENT
BEGIN:VEVENT
DTSTART;TZID=America/Detroit:20240715T180000
DTEND;TZID=America/Detroit:20240715T190000
DTSTAMP:20260420T204631
CREATED:20240404T195047Z
LAST-MODIFIED:20240404T195047Z
UID:6978-1721066400-1721070000@ejchamber.org
SUMMARY:Yoga at Castle Farms
DESCRIPTION:Experience tranquility and self-discovery through Yoga at Castle Farms\, set amidst the serene beauty of gardens and architectural wonders. Led by a certified instructor\, engage in mindful asanas\, connecting breath with movement to dissolve daily stresses and foster balance. Against the backdrop of Castle Farms’ history\, this experience transcends\, inviting spiritual awakening and inner peace. Join us in Northern Michigan for a transformative journey of healing and growth. Classes cost $30\, run for an hour\, and require bringing your yoga mat. Limited to 20 participants\, with a minimum of 5 required. Tickets are nonrefundable\, except if the class is canceled. Rain plan is inside Castle Farms.
URL:https://ejchamber.org/event/yoga-at-castle-farms-3/
LOCATION:Castle Farms\, 5052 M-66 North\, Charlevoix\, MI\, 49720\, United States
CATEGORIES:Recurring Events
ATTACH;FMTTYPE=image/png:https://ejchamber.org/wp-content/uploads/2024/04/Yoga-at-the-Castle-Image-2.png
ORGANIZER;CN="Jessica Anderson":MAILTO:jessica@castlefarms.com
END:VEVENT
BEGIN:VEVENT
DTSTART;TZID=America/Detroit:20240716T080000
DTEND;TZID=America/Detroit:20240716T130000
DTSTAMP:20260420T204631
CREATED:20240409T194117Z
LAST-MODIFIED:20240409T194117Z
UID:7102-1721116800-1721134800@ejchamber.org
SUMMARY:FARMER’S MARKET
DESCRIPTION:Discover the Castle Farmers Market\, where artisans and growers unite to showcase their homemade and homegrown delights. Join us at Birch Lake\, Castle Farms\, Charlevoix\, every Tuesday from May 21st to October 15th\, 8:00 AM – 1:00 PM. Nestled against the scenic Birch Lake\, our market offers a prime location for your crafts and produce. Engage with a diverse audience of locals and tourists\, fostering community connections and support for your talents. We celebrate craftsmanship\, emphasizing the artistry of handmade goods and locally sourced produce. Don’t miss this opportunity to shine in a vibrant marketplace that honors your unique skills and passions.
URL:https://ejchamber.org/event/farmers-market-2/
LOCATION:Castle Farms\, 5052 M-66 North\, Charlevoix\, MI\, 49720\, United States
CATEGORIES:Recurring Events
ATTACH;FMTTYPE=image/png:https://ejchamber.org/wp-content/uploads/2024/04/Farmers-Market-Image-12.png
ORGANIZER;CN="Jessica Anderson":MAILTO:jessica@castlefarms.com
END:VEVENT
BEGIN:VEVENT
DTSTART;TZID=America/Detroit:20240716T080000
DTEND;TZID=America/Detroit:20240716T130000
DTSTAMP:20260420T204631
CREATED:20240409T194127Z
LAST-MODIFIED:20240409T194127Z
UID:7106-1721116800-1721134800@ejchamber.org
SUMMARY:FARMER’S MARKET
DESCRIPTION:Discover the Castle Farmers Market\, where artisans and growers unite to showcase their homemade and homegrown delights. Join us at Birch Lake\, Castle Farms\, Charlevoix\, every Tuesday from May 21st to October 15th\, 8:00 AM – 1:00 PM. Nestled against the scenic Birch Lake\, our market offers a prime location for your crafts and produce. Engage with a diverse audience of locals and tourists\, fostering community connections and support for your talents. We celebrate craftsmanship\, emphasizing the artistry of handmade goods and locally sourced produce. Don’t miss this opportunity to shine in a vibrant marketplace that honors your unique skills and passions.
URL:https://ejchamber.org/event/farmers-market-3/
LOCATION:Castle Farms\, 5052 M-66 North\, Charlevoix\, MI\, 49720\, United States
CATEGORIES:Recurring Events
ATTACH;FMTTYPE=image/png:https://ejchamber.org/wp-content/uploads/2024/04/Farmers-Market-Image-13.png
ORGANIZER;CN="Jessica Anderson":MAILTO:jessica@castlefarms.com
END:VEVENT
BEGIN:VEVENT
DTSTART;TZID=America/Detroit:20240716T080000
DTEND;TZID=America/Detroit:20240716T130000
DTSTAMP:20260420T204631
CREATED:20240409T194152Z
LAST-MODIFIED:20240409T194152Z
UID:7108-1721116800-1721134800@ejchamber.org
SUMMARY:FARMER’S MARKET
DESCRIPTION:Discover the Castle Farmers Market\, where artisans and growers unite to showcase their homemade and homegrown delights. Join us at Birch Lake\, Castle Farms\, Charlevoix\, every Tuesday from May 21st to October 15th\, 8:00 AM – 1:00 PM. Nestled against the scenic Birch Lake\, our market offers a prime location for your crafts and produce. Engage with a diverse audience of locals and tourists\, fostering community connections and support for your talents. We celebrate craftsmanship\, emphasizing the artistry of handmade goods and locally sourced produce. Don’t miss this opportunity to shine in a vibrant marketplace that honors your unique skills and passions.
URL:https://ejchamber.org/event/farmers-market-4/
LOCATION:Castle Farms\, 5052 M-66 North\, Charlevoix\, MI\, 49720\, United States
CATEGORIES:Recurring Events
ATTACH;FMTTYPE=image/png:https://ejchamber.org/wp-content/uploads/2024/04/Farmers-Market-Image-14.png
ORGANIZER;CN="Jessica Anderson":MAILTO:jessica@castlefarms.com
END:VEVENT
BEGIN:VEVENT
DTSTART;TZID=America/Detroit:20240723T080000
DTEND;TZID=America/Detroit:20240723T130000
DTSTAMP:20260420T204631
CREATED:20240409T194205Z
LAST-MODIFIED:20240409T194205Z
UID:7116-1721721600-1721739600@ejchamber.org
SUMMARY:FARMER’S MARKET
DESCRIPTION:Discover the Castle Farmers Market\, where artisans and growers unite to showcase their homemade and homegrown delights. Join us at Birch Lake\, Castle Farms\, Charlevoix\, every Tuesday from May 21st to October 15th\, 8:00 AM – 1:00 PM. Nestled against the scenic Birch Lake\, our market offers a prime location for your crafts and produce. Engage with a diverse audience of locals and tourists\, fostering community connections and support for your talents. We celebrate craftsmanship\, emphasizing the artistry of handmade goods and locally sourced produce. Don’t miss this opportunity to shine in a vibrant marketplace that honors your unique skills and passions.
URL:https://ejchamber.org/event/farmers-market-5/
LOCATION:Castle Farms\, 5052 M-66 North\, Charlevoix\, MI\, 49720\, United States
CATEGORIES:Recurring Events
ATTACH;FMTTYPE=image/png:https://ejchamber.org/wp-content/uploads/2024/04/Farmers-Market-Image-15.png
ORGANIZER;CN="Jessica Anderson":MAILTO:jessica@castlefarms.com
END:VEVENT
END:VCALENDAR