BEGIN:VCALENDAR
VERSION:2.0
PRODID:-//East Jordan Chamber - ECPv6.15.20//NONSGML v1.0//EN
CALSCALE:GREGORIAN
METHOD:PUBLISH
X-ORIGINAL-URL:https://ejchamber.org
X-WR-CALDESC:Events for East Jordan Chamber
REFRESH-INTERVAL;VALUE=DURATION:PT1H
X-Robots-Tag:noindex
X-PUBLISHED-TTL:PT1H
BEGIN:VTIMEZONE
TZID:UTC
BEGIN:STANDARD
TZOFFSETFROM:+0000
TZOFFSETTO:+0000
TZNAME:UTC
DTSTART:20210101T000000
END:STANDARD
END:VTIMEZONE
BEGIN:VEVENT
DTSTART;TZID=UTC:20220901T100000
DTEND;TZID=UTC:20220901T140000
DTSTAMP:20260424T171626
CREATED:20220506T221804Z
LAST-MODIFIED:20220506T221804Z
UID:5359-1662026400-1662040800@ejchamber.org
SUMMARY:East Jordan Farmers Market
DESCRIPTION:Shop for local produce\, honey\, flowers\, baked goods\, crafts and much more. \nThursday’s 10:00 AM – 2:00 PM \nAt the East Jordan Tourist Park – 215 N. Lake Street
URL:https://ejchamber.org/event/east-jordan-farmers-market-66/
LOCATION:East Jordan Tourist Park\, 215 N. Lake St.\, East Jordan\, MI\, 49727\, United States
CATEGORIES:Recurring Events
END:VEVENT
BEGIN:VEVENT
DTSTART;TZID=UTC:20220908T100000
DTEND;TZID=UTC:20220908T140000
DTSTAMP:20260424T171626
CREATED:20220506T221854Z
LAST-MODIFIED:20220506T221854Z
UID:5361-1662631200-1662645600@ejchamber.org
SUMMARY:East Jordan Farmers Market
DESCRIPTION:Shop for local produce\, honey\, flowers\, baked goods\, crafts and much more. \nThursday’s 10:00 AM – 2:00 PM \nAt the East Jordan Tourist Park – 215 N. Lake Street
URL:https://ejchamber.org/event/east-jordan-farmers-market-67/
LOCATION:East Jordan Tourist Park\, 215 North Lake Street\, East Jordan\, MI\, 49727\, United States
CATEGORIES:Recurring Events
END:VEVENT
BEGIN:VEVENT
DTSTART;TZID=UTC:20220915T100000
DTEND;TZID=UTC:20220915T140000
DTSTAMP:20260424T171626
CREATED:20220506T221950Z
LAST-MODIFIED:20220506T221950Z
UID:5363-1663236000-1663250400@ejchamber.org
SUMMARY:East Jordan Farmers Market
DESCRIPTION:Shop for local produce\, honey\, flowers\, baked goods\, crafts and much more. \nThursday’s 10:00 AM – 2:00 PM \nAt the East Jordan Tourist Park – 215 N. Lake Street
URL:https://ejchamber.org/event/east-jordan-farmers-market-68/
LOCATION:East Jordan Tourist Park\, 215 N. Lake St.\, East Jordan\, MI\, 49727\, United States
CATEGORIES:Recurring Events
END:VEVENT
BEGIN:VEVENT
DTSTART;TZID=UTC:20220922T100000
DTEND;TZID=UTC:20220922T140000
DTSTAMP:20260424T171626
CREATED:20220506T222045Z
LAST-MODIFIED:20220506T222045Z
UID:5365-1663840800-1663855200@ejchamber.org
SUMMARY:East Jordan Farmers Market
DESCRIPTION:Shop for local produce\, honey\, flowers\, baked goods\, crafts and much more. \nThursday’s 10:00 AM – 2:00 PM \nAt the East Jordan Tourist Park – 215 N. Lake Street
URL:https://ejchamber.org/event/east-jordan-farmers-market-69/
LOCATION:East Jordan Tourist Park\, 215 N. Lake St.\, East Jordan\, MI\, 49727\, United States
CATEGORIES:Recurring Events
END:VEVENT
BEGIN:VEVENT
DTSTART;TZID=UTC:20220924T100000
DTEND;TZID=UTC:20220924T170000
DTSTAMP:20260424T171626
CREATED:20220302T215219Z
LAST-MODIFIED:20220302T215219Z
UID:5206-1664013600-1664038800@ejchamber.org
SUMMARY:Breezeway Fall Color Cruise
DESCRIPTION:Cruise the 26 Mile C-48 The Breezeway at your own pace stopping along the way. So much to see and do from dining\, shopping\, apples\, pumpkin patches\, art walks and much\, much more. Pick up your goodie bags filled with coupons and trinkets at Royal Farms from 10:00 AM – Noon.
URL:https://ejchamber.org/event/breezeway-fall-color-cruise-11/
LOCATION:MI
CATEGORIES:Recurring Events
END:VEVENT
BEGIN:VEVENT
DTSTART;TZID=UTC:20220929T100000
DTEND;TZID=UTC:20220929T140000
DTSTAMP:20260424T171626
CREATED:20220506T222148Z
LAST-MODIFIED:20220506T222148Z
UID:5367-1664445600-1664460000@ejchamber.org
SUMMARY:East Jordan Farmers Market
DESCRIPTION:Shop for local produce\, honey\, flowers\, baked goods\, crafts and much more. \nThursday’s 10:00 AM – 2:00 PM \nAt the East Jordan Tourist Park – 215 N. Lake Street
URL:https://ejchamber.org/event/east-jordan-farmers-market-70/
LOCATION:East Jordan Tourist Park\, 215 N. Lake St.\, East Jordan\, MI\, 49727\, United States
CATEGORIES:Recurring Events
END:VEVENT
END:VCALENDAR