BEGIN:VCALENDAR
VERSION:2.0
PRODID:-//East Jordan Chamber - ECPv6.15.20//NONSGML v1.0//EN
CALSCALE:GREGORIAN
METHOD:PUBLISH
X-ORIGINAL-URL:https://ejchamber.org
X-WR-CALDESC:Events for East Jordan Chamber
REFRESH-INTERVAL;VALUE=DURATION:PT1H
X-Robots-Tag:noindex
X-PUBLISHED-TTL:PT1H
BEGIN:VTIMEZONE
TZID:America/Detroit
BEGIN:DAYLIGHT
TZOFFSETFROM:-0500
TZOFFSETTO:-0400
TZNAME:EDT
DTSTART:20230312T070000
END:DAYLIGHT
BEGIN:STANDARD
TZOFFSETFROM:-0400
TZOFFSETTO:-0500
TZNAME:EST
DTSTART:20231105T060000
END:STANDARD
BEGIN:DAYLIGHT
TZOFFSETFROM:-0500
TZOFFSETTO:-0400
TZNAME:EDT
DTSTART:20240310T070000
END:DAYLIGHT
BEGIN:STANDARD
TZOFFSETFROM:-0400
TZOFFSETTO:-0500
TZNAME:EST
DTSTART:20241103T060000
END:STANDARD
BEGIN:DAYLIGHT
TZOFFSETFROM:-0500
TZOFFSETTO:-0400
TZNAME:EDT
DTSTART:20250309T070000
END:DAYLIGHT
BEGIN:STANDARD
TZOFFSETFROM:-0400
TZOFFSETTO:-0500
TZNAME:EST
DTSTART:20251102T060000
END:STANDARD
END:VTIMEZONE
BEGIN:VEVENT
DTSTART;TZID=America/Detroit:20240615T180000
DTEND;TZID=America/Detroit:20240615T210000
DTSTAMP:20260420T091435
CREATED:20240403T163246Z
LAST-MODIFIED:20240403T163246Z
UID:7006-1718474400-1718485200@ejchamber.org
SUMMARY:Father/Son Banquet
DESCRIPTION:The East Jordan Rotary is proud to bring you the annual Father/Son Banquet. \nEast Jordan Middle/High School \nTickets will be available at the door or from Rotary Members
URL:https://ejchamber.org/event/father-son-banquet/
LOCATION:East Jordan High School\, 101 Maple Street\, East Jordan\, MI\, 49727\, United States
CATEGORIES:One Time Events
END:VEVENT
END:VCALENDAR