BEGIN:VCALENDAR
VERSION:2.0
PRODID:-//East Jordan Chamber - ECPv6.15.20//NONSGML v1.0//EN
CALSCALE:GREGORIAN
METHOD:PUBLISH
X-WR-CALNAME:East Jordan Chamber
X-ORIGINAL-URL:https://ejchamber.org
X-WR-CALDESC:Events for East Jordan Chamber
REFRESH-INTERVAL;VALUE=DURATION:PT1H
X-Robots-Tag:noindex
X-PUBLISHED-TTL:PT1H
BEGIN:VTIMEZONE
TZID:America/Detroit
BEGIN:DAYLIGHT
TZOFFSETFROM:-0500
TZOFFSETTO:-0400
TZNAME:EDT
DTSTART:20250309T070000
END:DAYLIGHT
BEGIN:STANDARD
TZOFFSETFROM:-0400
TZOFFSETTO:-0500
TZNAME:EST
DTSTART:20251102T060000
END:STANDARD
BEGIN:DAYLIGHT
TZOFFSETFROM:-0500
TZOFFSETTO:-0400
TZNAME:EDT
DTSTART:20260308T070000
END:DAYLIGHT
BEGIN:STANDARD
TZOFFSETFROM:-0400
TZOFFSETTO:-0500
TZNAME:EST
DTSTART:20261101T060000
END:STANDARD
BEGIN:DAYLIGHT
TZOFFSETFROM:-0500
TZOFFSETTO:-0400
TZNAME:EDT
DTSTART:20270314T070000
END:DAYLIGHT
BEGIN:STANDARD
TZOFFSETFROM:-0400
TZOFFSETTO:-0500
TZNAME:EST
DTSTART:20271107T060000
END:STANDARD
END:VTIMEZONE
BEGIN:VEVENT
DTSTART;TZID=America/Detroit:20260711T100000
DTEND;TZID=America/Detroit:20260711T150000
DTSTAMP:20260419T214015
CREATED:20260213T181652Z
LAST-MODIFIED:20260213T181652Z
UID:8724-1783764000-1783782000@ejchamber.org
SUMMARY:South Arm Classics Car Show
DESCRIPTION:Downtown East Jordan will be filled with beautiful cars & trucks from days gone by.
URL:https://ejchamber.org/event/south-arm-classics-car-show-2/
LOCATION:Downtown East Jordan\, East Jordan\, MI\, 49727\, United States
CATEGORIES:Festival Events
ORGANIZER;CN="East Jordan Lions Club":MAILTO:skpursel@yahoo.com
END:VEVENT
BEGIN:VEVENT
DTSTART;TZID=America/Detroit:20260718T150000
DTEND;TZID=America/Detroit:20260719T230000
DTSTAMP:20260419T214015
CREATED:20260213T182504Z
LAST-MODIFIED:20260213T182504Z
UID:8728-1784386800-1784502000@ejchamber.org
SUMMARY:Up North Busker Fest - East Jordan
DESCRIPTION:One of the area’s most unique events. Buskers (street performers) from all over gather in East Jordan to put on one of the coolest shows around. Kids events\, Shows\, Beer Tent and much more. Visit https://www.facebook.com/upnorthbuskerfest for full details and show schedules. Downtown East Jordan is the place to be
URL:https://ejchamber.org/event/up-north-busker-fest-east-jordan/
LOCATION:Memorial Park\, 101 Spring Street\, East Jordan\, Michigan\, 49727
CATEGORIES:Festival Events
ORGANIZER;CN="Up North Busker Fest Committee":MAILTO:tommytropic@yahoo.com
END:VEVENT
BEGIN:VEVENT
DTSTART;TZID=America/Detroit:20260925T070000
DTEND;TZID=America/Detroit:20260926T230000
DTSTAMP:20260419T214015
CREATED:20260213T183951Z
LAST-MODIFIED:20260213T183951Z
UID:8737-1790319600-1790463600@ejchamber.org
SUMMARY:Fall Festival
DESCRIPTION:Activities for the whole family. Live music\, kids activities & shows\, softball tournament\, beer tent\, food\, small rides\, early Trick-or-Treat and much more.
URL:https://ejchamber.org/event/fall-festival-2/
LOCATION:East Jordan Tourist Park\, 215 N. Lake St.\, East Jordan\, MI\, 49727\, United States
CATEGORIES:Festival Events
END:VEVENT
END:VCALENDAR