BEGIN:VCALENDAR
VERSION:2.0
PRODID:-//East Jordan Chamber - ECPv6.15.20//NONSGML v1.0//EN
CALSCALE:GREGORIAN
METHOD:PUBLISH
X-ORIGINAL-URL:https://ejchamber.org
X-WR-CALDESC:Events for East Jordan Chamber
REFRESH-INTERVAL;VALUE=DURATION:PT1H
X-Robots-Tag:noindex
X-PUBLISHED-TTL:PT1H
BEGIN:VTIMEZONE
TZID:America/Detroit
BEGIN:DAYLIGHT
TZOFFSETFROM:-0500
TZOFFSETTO:-0400
TZNAME:EDT
DTSTART:20210314T070000
END:DAYLIGHT
BEGIN:STANDARD
TZOFFSETFROM:-0400
TZOFFSETTO:-0500
TZNAME:EST
DTSTART:20211107T060000
END:STANDARD
BEGIN:DAYLIGHT
TZOFFSETFROM:-0500
TZOFFSETTO:-0400
TZNAME:EDT
DTSTART:20220313T070000
END:DAYLIGHT
BEGIN:STANDARD
TZOFFSETFROM:-0400
TZOFFSETTO:-0500
TZNAME:EST
DTSTART:20221106T060000
END:STANDARD
BEGIN:DAYLIGHT
TZOFFSETFROM:-0500
TZOFFSETTO:-0400
TZNAME:EDT
DTSTART:20230312T070000
END:DAYLIGHT
BEGIN:STANDARD
TZOFFSETFROM:-0400
TZOFFSETTO:-0500
TZNAME:EST
DTSTART:20231105T060000
END:STANDARD
BEGIN:DAYLIGHT
TZOFFSETFROM:-0500
TZOFFSETTO:-0400
TZNAME:EDT
DTSTART:20240310T070000
END:DAYLIGHT
BEGIN:STANDARD
TZOFFSETFROM:-0400
TZOFFSETTO:-0500
TZNAME:EST
DTSTART:20241103T060000
END:STANDARD
BEGIN:DAYLIGHT
TZOFFSETFROM:-0500
TZOFFSETTO:-0400
TZNAME:EDT
DTSTART:20250309T070000
END:DAYLIGHT
BEGIN:STANDARD
TZOFFSETFROM:-0400
TZOFFSETTO:-0500
TZNAME:EST
DTSTART:20251102T060000
END:STANDARD
END:VTIMEZONE
BEGIN:VTIMEZONE
TZID:UTC
BEGIN:STANDARD
TZOFFSETFROM:+0000
TZOFFSETTO:+0000
TZNAME:UTC
DTSTART:20210101T000000
END:STANDARD
END:VTIMEZONE
BEGIN:VEVENT
DTSTART;TZID=America/Detroit:20241204T170000
DTEND;TZID=America/Detroit:20241204T190000
DTSTAMP:20260419T113813
CREATED:20241126T151847Z
LAST-MODIFIED:20241126T151847Z
UID:7749-1733331600-1733338800@ejchamber.org
SUMMARY:Live Nativity Scene
DESCRIPTION:Experience the wonder of the season with a live Nativity Scene at Castle Farms! Join us on December 4th and December 18th\, from 5 PM to 7 PM\, in the enchanting Queen’s Courtyard. Watch as the story of the first Christmas comes to life amidst the beautiful castle setting\, featuring live animals provided by Hungry Ducks.\n\nGather your family and friends for this festive and heartfelt event\, perfect for all ages. Admission is free\, and everyone is welcome to come and share in the spirit of the holidays. Don’t miss this unique and memorable holiday experience!
URL:https://ejchamber.org/event/live-nativity-scene/
LOCATION:Castle Farms\, 5052 M-66 North\, Charlevoix\, MI\, 49720\, United States
CATEGORIES:Festival Events
ATTACH;FMTTYPE=image/png:https://ejchamber.org/wp-content/uploads/2024/11/Nativity-Scene-Flyer-1920-x-1080-px.png
ORGANIZER;CN="Castle Farms":MAILTO:johanna@castlefarms.com
END:VEVENT
BEGIN:VEVENT
DTSTART;TZID=America/Detroit:20240927T170000
DTEND;TZID=America/Detroit:20240928T230000
DTSTAMP:20260419T113813
CREATED:20240403T185209Z
LAST-MODIFIED:20240403T185209Z
UID:7021-1727456400-1727564400@ejchamber.org
SUMMARY:Fall Festival
DESCRIPTION:Held annually at the East Jordan Tourist Park\, this family friendly fall festival is great fun for all. Live music\, trick-or-treating\, hay rides\, softball tournament\, beer tent\, kids activities\, vendor booths and more.
URL:https://ejchamber.org/event/fall-festival/
LOCATION:East Jordan Tourist Park\, 215 N. Lake St.\, East Jordan\, MI\, 49727\, United States
CATEGORIES:Festival Events
END:VEVENT
BEGIN:VEVENT
DTSTART;VALUE=DATE:20240912
DTEND;VALUE=DATE:20240915
DTSTAMP:20260419T113813
CREATED:20240624T183231Z
LAST-MODIFIED:20240624T183231Z
UID:7407-1726099200-1726358399@ejchamber.org
SUMMARY:Paddle Antrim Festival
DESCRIPTION:The Paddle Antrim Festival celebrates the amazing waterways and communities of Northern Michigan. The Festival\, always the second weekend after Labor Day\, includes a two-day paddle event through the Chain of Lakes Water Trail. This choose your own adventure paddle provides the opportunity for you to paddle one or both days and decide how far to travel. There are exits strategically placed along the route so you may go anywhere from 7 miles to all 42 miles. \nRegistration is now open on RunSignUp! \nRegister Today!
URL:https://ejchamber.org/event/paddle-antrim-festival-2/
LOCATION:Ellsworth\, Center Street\, Ellsworth\, MI\, 49729\, United States
CATEGORIES:Festival Events
ATTACH;FMTTYPE=image/jpeg:https://ejchamber.org/wp-content/uploads/2024/06/Paddle-Antrim-Festival_small37263.jpg
END:VEVENT
BEGIN:VEVENT
DTSTART;VALUE=DATE:20240803
DTEND;VALUE=DATE:20240805
DTSTAMP:20260419T113813
CREATED:20240403T165739Z
LAST-MODIFIED:20240403T165739Z
UID:7015-1722643200-1722815999@ejchamber.org
SUMMARY:Portside Art Fair
DESCRIPTION:Portside Arts Fair welcomes all guests. We are sponsored by the East Jordan Historical Society\, so your time spent with us is free! Donations are accepted at the gate and benefit the Historical Society. The Portside Arts Fair goal is to help local artists exhibit and sell their works. Portside has a reputation of displaying both the works of established artists as well as the works of new and innovative young artists. Each year a judge educated in the visual arts selects artwork deemed best of the show. The Portside Arts Fair is open to all artists and craftspeople who exhibit work of original design and execution. Live entertainment and concessions are available throughout the weekend. \n  \nTo become a vendor contact: Chris at 231-675-4841 or Kim at 231-536-3282
URL:https://ejchamber.org/event/portside-art-fair-2/
LOCATION:Elm Pointe\, 1656 S. M-66 Hwy\, East Jordan\, MI\, 49727\, United States
CATEGORIES:Festival Events
END:VEVENT
BEGIN:VEVENT
DTSTART;TZID=America/Detroit:20240719T170000
DTEND;TZID=America/Detroit:20240720T230000
DTSTAMP:20260419T113813
CREATED:20240403T164658Z
LAST-MODIFIED:20240403T164658Z
UID:7012-1721408400-1721516400@ejchamber.org
SUMMARY:Up North Busker Fest
DESCRIPTION:World class Street Performer Festival. Balloon Twisting\, Freestyle Running\, Jugglers\, Magic\, Mermaids and much\, much more. A wonderful family friendly event including things you just don’t see everyday!
URL:https://ejchamber.org/event/up-north-busker-fest-2/
LOCATION:Downtown East Jordan\, East Jordan\, MI\, 49727\, United States
CATEGORIES:Festival Events
ORGANIZER;CN="Up North Busker Fest Committee":MAILTO:tommytropic@yahoo.com
END:VEVENT
BEGIN:VEVENT
DTSTART;TZID=America/Detroit:20240713T100000
DTEND;TZID=America/Detroit:20240713T150000
DTSTAMP:20260419T113813
CREATED:20231030T161657Z
LAST-MODIFIED:20231031T144740Z
UID:6750-1720864800-1720882800@ejchamber.org
SUMMARY:South Arm Classics Car Show
DESCRIPTION:On the beautiful South Arm of Lake Charlevoix the South Arm Classics Car Show is the place to be. \nFor information on the show or to register a car email. southarmclassics@gmail.com
URL:https://ejchamber.org/event/south-arm-classics-car-show/
LOCATION:Downtown East Jordan\, East Jordan\, MI\, 49727\, United States
CATEGORIES:Festival Events
ORGANIZER;CN="East Jordan Lions Club":MAILTO:skpursel@yahoo.com
END:VEVENT
BEGIN:VEVENT
DTSTART;TZID=America/Detroit:20240619T160000
DTEND;TZID=America/Detroit:20240623T160000
DTSTAMP:20260419T113813
CREATED:20231214T145139Z
LAST-MODIFIED:20231214T145139Z
UID:6777-1718812800-1719158400@ejchamber.org
SUMMARY:East Jordan Freedom Festival
DESCRIPTION:Family fun for all to enjoy! – Great live music\, carnival\, food trucks\, block party\, parades\, kids events and more. Join us in downtown East Jordan for a fabulous family festival.
URL:https://ejchamber.org/event/east-jordan-freedom-festival/
LOCATION:Downtown East Jorda\, East Jordan\, MI\, 49727
CATEGORIES:Festival Events
ORGANIZER;CN="East Jordan Freedom Festival":MAILTO:info@eastjordanfreedomfestival.org
END:VEVENT
BEGIN:VEVENT
DTSTART;VALUE=DATE:20240614
DTEND;VALUE=DATE:20240616
DTSTAMP:20260419T113813
CREATED:20240403T163447Z
LAST-MODIFIED:20240403T163521Z
UID:7008-1718323200-1718495999@ejchamber.org
SUMMARY:Ellsworth Pig Roast
DESCRIPTION:A celebration of food\, family and fun. Join Ellsworth for a great meal\, fun and games\, a parade and something for everyone.
URL:https://ejchamber.org/event/ellsworth-pig-roast-2/
LOCATION:Ellsworth\, Center Street\, Ellsworth\, MI\, 49729\, United States
CATEGORIES:Festival Events
END:VEVENT
BEGIN:VEVENT
DTSTART;TZID=America/Detroit:20231210T090000
DTEND;TZID=America/Detroit:20231210T150000
DTSTAMP:20260419T113813
CREATED:20231101T192253Z
LAST-MODIFIED:20231101T192253Z
UID:6760-1702198800-1702220400@ejchamber.org
SUMMARY:Santa's Workshop
DESCRIPTION:It’s time to build and craft with Santa in his Workshop at Castle Farms! Our Santa’s Workshop sessions will be held on Saturday and Sunday\, December 9 and 10\, 2023 at pre-scheduled times throughout the day.  Participate in an age-appropriate craft (chosen at time of online registration)\, enjoy hot cocoa and a treat. Chat with Santa himself and get a special gift.  Professional photos with Santa are also included and will be available for download after the event! \nTickets must be purchased by 11:59 PM EST on December 7\, 2023. Each child ticket includes 2 adults. You may purchase extra adult tickets for $5 each.
URL:https://ejchamber.org/event/santas-workshop-2/
LOCATION:Castle Farms\, 5052 M-66 North\, Charlevoix\, MI\, 49720\, United States
CATEGORIES:Festival Events
ATTACH;FMTTYPE=image/png:https://ejchamber.org/wp-content/uploads/2023/11/General-add-with-crafts-1.png
ORGANIZER;CN="Jessica Anderson":MAILTO:jessica@castlefarms.com
END:VEVENT
BEGIN:VEVENT
DTSTART;TZID=America/Detroit:20231209T090000
DTEND;TZID=America/Detroit:20231209T150000
DTSTAMP:20260419T113813
CREATED:20231101T192239Z
LAST-MODIFIED:20231101T192239Z
UID:6757-1702112400-1702134000@ejchamber.org
SUMMARY:Santa's Workshop
DESCRIPTION:It’s time to build and craft with Santa in his Workshop at Castle Farms! Our Santa’s Workshop sessions will be held on Saturday and Sunday\, December 9 and 10\, 2023 at pre-scheduled times throughout the day.  Participate in an age-appropriate craft (chosen at time of online registration)\, enjoy hot cocoa and a treat. Chat with Santa himself and get a special gift.  Professional photos with Santa are also included and will be available for download after the event! \nTickets must be purchased by 11:59 PM EST on December 7\, 2023. Each child ticket includes 2 adults. You may purchase extra adult tickets for $5 each.
URL:https://ejchamber.org/event/santas-workshop/
LOCATION:Castle Farms\, 5052 M-66 North\, Charlevoix\, MI\, 49720\, United States
CATEGORIES:Festival Events
ATTACH;FMTTYPE=image/png:https://ejchamber.org/wp-content/uploads/2023/11/General-add-with-crafts.png
ORGANIZER;CN="Jessica Anderson":MAILTO:jessica@castlefarms.com
END:VEVENT
BEGIN:VEVENT
DTSTART;TZID=America/Detroit:20231130T173000
DTEND;TZID=America/Detroit:20231130T190000
DTSTAMP:20260419T113813
CREATED:20231030T160312Z
LAST-MODIFIED:20231110T181437Z
UID:6746-1701365400-1701370800@ejchamber.org
SUMMARY:Jubilee of Trees for 501 C3's & Holiday Business After Hours
DESCRIPTION:Join us at The Boathouse on Lake Charlevoix (204 Water Street\, East Jordan)  for the 2023 Jubilee of Trees for 501 C3’s and the Holiday Business After Hours event proudly sponsored by EJ. 25 beautifully decorated Christmas Trees and 5 Baskets will be on display and part of a silent auction. As a winning bidder\, you will be allowed to choose the Chamber Member 501 C3 that you would like your donation to go to. The Holiday Business After Hours is open to everyone and it’s a great time to meet\, network and learn about our local businesses\, their owners/managers and kick-off the holiday season. Entry to the event will be by cash donations that will be divided between our local food pantries. Care and Share of East Jordan and The Good Samarian of Ellsworth.
URL:https://ejchamber.org/event/jubilee-of-trees-for-501-c3s-holiday-business-after-hours/
LOCATION:The Boathouse on Lake Charlevoix\, 204 Water Street\, East Jordan\, MI\, 49727\, United States
CATEGORIES:Festival Events
END:VEVENT
BEGIN:VEVENT
DTSTART;TZID=America/Detroit:20230929T170000
DTEND;TZID=America/Detroit:20230930T233000
DTSTAMP:20260419T113813
CREATED:20230608T165411Z
LAST-MODIFIED:20230608T165411Z
UID:6620-1696006800-1696116600@ejchamber.org
SUMMARY:East Jordan Fall Fest
DESCRIPTION:A celebration of fall in Northern Michigan. Celebrate with live music\, beer tent\, food trucks\, softball tournament\, kid’s activities and much more. Held at the East Jordan Tourist Park.
URL:https://ejchamber.org/event/east-jordan-fall-fest/
LOCATION:East Jordan Tourist Park\, 215 N. Lake St.\, East Jordan\, MI\, 49727\, United States
CATEGORIES:Festival Events
END:VEVENT
BEGIN:VEVENT
DTSTART;VALUE=DATE:20230914
DTEND;VALUE=DATE:20230918
DTSTAMP:20260419T113813
CREATED:20230612T193814Z
LAST-MODIFIED:20230612T193814Z
UID:6630-1694649600-1694995199@ejchamber.org
SUMMARY:Paddle Antrim Festival
DESCRIPTION:The Paddle Antrim Festival celebrates the amazing waterways and communities of Northern Michigan. The Festival\, always the second weekend after Labor Day\, includes a two-day paddle event through the Chain of Lakes Water Trail. This choose your own adventure paddle provides the opportunity for you to paddle one or both days and decide how far to travel. There are exits strategically placed along the route so you may go anywhere from 7 miles to all 42 miles.
URL:https://ejchamber.org/event/paddle-antrim-festival/
LOCATION:MI
CATEGORIES:Festival Events
ATTACH;FMTTYPE=image/jpeg:https://ejchamber.org/wp-content/uploads/2023/06/Paddle-Antrim-Festival_small37263.jpg
END:VEVENT
BEGIN:VEVENT
DTSTART;TZID=America/Detroit:20230622T170000
DTEND;TZID=America/Detroit:20230625T120000
DTSTAMP:20260419T113813
CREATED:20230104T164810Z
LAST-MODIFIED:20230104T164810Z
UID:5654-1687453200-1687694400@ejchamber.org
SUMMARY:East Jordan Freedom Festival
DESCRIPTION:Fun Family Event – something for everyone to enjoy. Live music\, Contests\, Carnival\, Food\, Games\, Kid’s Activities\, Fireworks\, Parades and more.
URL:https://ejchamber.org/event/east-jordan-freedom-festival-5/
LOCATION:East Jordan Community\, East Jordan\, MI\, 49727\, United States
CATEGORIES:Festival Events
ORGANIZER;CN="East Jordan Freedom Festival":MAILTO:info@eastjordanfreedomfestival.org
END:VEVENT
BEGIN:VEVENT
DTSTART;TZID=America/Detroit:20230616T180000
DTEND;TZID=America/Detroit:20230617T180000
DTSTAMP:20260419T113813
CREATED:20230608T160557Z
LAST-MODIFIED:20230608T160557Z
UID:6597-1686938400-1687024800@ejchamber.org
SUMMARY:Ellsworth Pig Roast
DESCRIPTION:A celebration of food\, family and fun. This year we are celebrating over 40 years. Visit www.facebook.com/ellsworthpigroast for a full schedule of events.
URL:https://ejchamber.org/event/ellsworth-pig-roast/
LOCATION:Ellsworth\, Center Street\, Ellsworth\, MI\, 49729\, United States
CATEGORIES:Festival Events
END:VEVENT
BEGIN:VEVENT
DTSTART;TZID=America/Detroit:20230217T180000
DTEND;TZID=America/Detroit:20230219T180000
DTSTAMP:20260419T113813
CREATED:20230104T150104Z
LAST-MODIFIED:20230104T150111Z
UID:5645-1676656800-1676829600@ejchamber.org
SUMMARY:Sno-Blast Festival
DESCRIPTION:Come and have some fun in the snow! (no snow? – there will still be lots to do) \nEvents will be taking place at the East Jordan Trailblazers Clubhouse on Mt. Bliss Road and at venues around town. (full schedule TBA)
URL:https://ejchamber.org/event/sno-blast-festival-2/
LOCATION:East Jordan Trailblazers Club & Around Town\, 5586 Mt. Bliss Rd\, East Jordan\, MI\, 49727\, United States
CATEGORIES:Festival Events
END:VEVENT
BEGIN:VEVENT
DTSTART;TZID=America/Detroit:20221031T170000
DTEND;TZID=America/Detroit:20221031T190000
DTSTAMP:20260419T113813
CREATED:20221017T190520Z
LAST-MODIFIED:20221017T190520Z
UID:5533-1667235600-1667242800@ejchamber.org
SUMMARY:Ellsworth Trunk-or-Treat Event
DESCRIPTION:Great fun for the whole family.  Ellsworth Community Park (Pavilion) \nFood\, Activities\, Music\, Photo Booth\, Hay Rides\, Haunted House\, Canned Good Drive and much more. \nCommunity organizations\, churches\, businesses and individuals are welcome to participate. To reserve a spot\, please contact the Village of Ellsworth office@villageofellsworth.com \n  \n 
URL:https://ejchamber.org/event/ellsworth-trunk-or-treat-event/
LOCATION:Village of Ellsworth\, MI\, United States
CATEGORIES:Festival Events
END:VEVENT
BEGIN:VEVENT
DTSTART;TZID=UTC:20220924T120000
DTEND;TZID=UTC:20220924T220000
DTSTAMP:20260419T113813
CREATED:20220302T212950Z
LAST-MODIFIED:20220302T212950Z
UID:5197-1664020800-1664056800@ejchamber.org
SUMMARY:Fall Fest
DESCRIPTION:Food Trucks\, Live Music\, Games\, Brews and Fun. Held at the East Jordan Tourist Park under the big tent.
URL:https://ejchamber.org/event/fall-fest-3/
LOCATION:East Jordan Tourist Park\, 215 North Lake Street\, East Jordan\, MI\, 49727\, United States
CATEGORIES:Festival Events
END:VEVENT
BEGIN:VEVENT
DTSTART;TZID=UTC:20220916T080000
DTEND;TZID=UTC:20220917T170000
DTSTAMP:20260419T113813
CREATED:20220302T212451Z
LAST-MODIFIED:20220302T212451Z
UID:5195-1663315200-1663434000@ejchamber.org
SUMMARY:Paddle Antrim
DESCRIPTION:Two-day kayak paddle covering over 40 miles of Northern Michigan’s Chain of Lakes. Join the crew on Thursday night for the kick-off party in Ellsworth.
URL:https://ejchamber.org/event/paddle-antrim-4/
LOCATION:Antrim County Chain of Lakes\, MI\, United States
CATEGORIES:Festival Events
END:VEVENT
BEGIN:VEVENT
DTSTART;TZID=UTC:20220709T100000
DTEND;TZID=UTC:20220709T160000
DTSTAMP:20260419T113813
CREATED:20220302T013941Z
LAST-MODIFIED:20220302T014016Z
UID:5185-1657360800-1657382400@ejchamber.org
SUMMARY:South Arm Classic Car Show/Boat Show
DESCRIPTION:Classic cars and boats fill East Jordan’s Memorial Park\, City Marina and Spring Street. Stroll downtown East Jordan\, enjoy the Car Show – Boat Show\, enjoy a meal or snack\, do some shopping and see what East Jordan has to offer.
URL:https://ejchamber.org/event/south-arm-classic-car-show-boat-show/
LOCATION:Downtown East Jordan\, East Jordan\, MI\, 49727\, United States
CATEGORIES:Festival Events
END:VEVENT
BEGIN:VEVENT
DTSTART;TZID=UTC:20220617T170000
DTEND;TZID=UTC:20220617T170000
DTSTAMP:20260419T113813
CREATED:20220302T013646Z
LAST-MODIFIED:20220302T013646Z
UID:5183-1655485200-1655485200@ejchamber.org
SUMMARY:Ellsworth Pig Roast
DESCRIPTION:Food\, Family Fun\, Parade\, Games and more! Enjoy a weekend of fun at the Ellsworth Annual Pig Roast
URL:https://ejchamber.org/event/ellsworth-pig-roast-6/
LOCATION:Ellsworth\, Center Street\, Ellsworth\, MI\, 49729\, United States
CATEGORIES:Festival Events
END:VEVENT
END:VCALENDAR