BEGIN:VCALENDAR
VERSION:2.0
PRODID:-//East Jordan Chamber - ECPv6.15.20//NONSGML v1.0//EN
CALSCALE:GREGORIAN
METHOD:PUBLISH
X-ORIGINAL-URL:https://ejchamber.org
X-WR-CALDESC:Events for East Jordan Chamber
REFRESH-INTERVAL;VALUE=DURATION:PT1H
X-Robots-Tag:noindex
X-PUBLISHED-TTL:PT1H
BEGIN:VTIMEZONE
TZID:America/Detroit
BEGIN:DAYLIGHT
TZOFFSETFROM:-0500
TZOFFSETTO:-0400
TZNAME:EDT
DTSTART:20240310T070000
END:DAYLIGHT
BEGIN:STANDARD
TZOFFSETFROM:-0400
TZOFFSETTO:-0500
TZNAME:EST
DTSTART:20241103T060000
END:STANDARD
BEGIN:DAYLIGHT
TZOFFSETFROM:-0500
TZOFFSETTO:-0400
TZNAME:EDT
DTSTART:20250309T070000
END:DAYLIGHT
BEGIN:STANDARD
TZOFFSETFROM:-0400
TZOFFSETTO:-0500
TZNAME:EST
DTSTART:20251102T060000
END:STANDARD
BEGIN:DAYLIGHT
TZOFFSETFROM:-0500
TZOFFSETTO:-0400
TZNAME:EDT
DTSTART:20260308T070000
END:DAYLIGHT
BEGIN:STANDARD
TZOFFSETFROM:-0400
TZOFFSETTO:-0500
TZNAME:EST
DTSTART:20261101T060000
END:STANDARD
END:VTIMEZONE
BEGIN:VEVENT
DTSTART;TZID=America/Detroit:20250716T163000
DTEND;TZID=America/Detroit:20250716T203000
DTSTAMP:20260420T014136
CREATED:20250617T184620Z
LAST-MODIFIED:20250617T184620Z
UID:8230-1752683400-1752697800@ejchamber.org
SUMMARY:Kanin Wren Concert – Featuring Shortstop!
DESCRIPTION:🎤 Kanin Wren in Concert – Featuring Shortstop\n📅 Wednesday\, July 16\, 2025\n📍 Castle Farms – Queen’s Court & Serenity Garden\, Charlevoix\, MI \nJoin us for a magical summer evening at Castle Farms as rising country-pop star Kanin Wren takes the stage with her powerhouse vocals\, heartfelt originals\, and the fan-favorite Taylor Swift Experience—a dynamic tribute packed with the hits you love\, from “Love Story” to “Cruel Summer.” \nThe night kicks off with Shortstop\, an exciting young trio featured as part of Kanin’s new platform to uplift and mentor aspiring musicians. These rising stars will open the show with a performance full of talent\, energy\, and inspiration. \n$30 General Admission\n$65 VIP + Meet & Greet\n$280 VIP + Meet & Greet + Reserved Table for FOUR People + 4 drink tickets \nVIP options include early entry for prime seating options\, 3 acoustic songs performed by Kanin Wren\, Poster of Kanin Wren\, and early autograph session. \nItinerary\n\n• 4:30 PM: VIP Doors Open\n• 5:00 PM: VIP Meet and Greet\n• 5:45 PM: Shortstop Performance (Opening Act)\n• 6:30 PM: Kanin Wren Live\n• 8:30: Encore + Additional Meet and Greets (if time allows)
URL:https://ejchamber.org/event/kanin-wren-concert-featuring-shortstop/
LOCATION:Castle Farms\, 5052 M-66 North\, Charlevoix\, MI\, 49720\, United States
CATEGORIES:Festival Events
END:VEVENT
END:VCALENDAR