BEGIN:VCALENDAR
VERSION:2.0
PRODID:-//East Jordan Chamber - ECPv6.15.20//NONSGML v1.0//EN
CALSCALE:GREGORIAN
METHOD:PUBLISH
X-WR-CALNAME:East Jordan Chamber
X-ORIGINAL-URL:https://ejchamber.org
X-WR-CALDESC:Events for East Jordan Chamber
REFRESH-INTERVAL;VALUE=DURATION:PT1H
X-Robots-Tag:noindex
X-PUBLISHED-TTL:PT1H
BEGIN:VTIMEZONE
TZID:America/Detroit
BEGIN:DAYLIGHT
TZOFFSETFROM:-0500
TZOFFSETTO:-0400
TZNAME:EDT
DTSTART:20220313T070000
END:DAYLIGHT
BEGIN:STANDARD
TZOFFSETFROM:-0400
TZOFFSETTO:-0500
TZNAME:EST
DTSTART:20221106T060000
END:STANDARD
BEGIN:DAYLIGHT
TZOFFSETFROM:-0500
TZOFFSETTO:-0400
TZNAME:EDT
DTSTART:20230312T070000
END:DAYLIGHT
BEGIN:STANDARD
TZOFFSETFROM:-0400
TZOFFSETTO:-0500
TZNAME:EST
DTSTART:20231105T060000
END:STANDARD
BEGIN:DAYLIGHT
TZOFFSETFROM:-0500
TZOFFSETTO:-0400
TZNAME:EDT
DTSTART:20240310T070000
END:DAYLIGHT
BEGIN:STANDARD
TZOFFSETFROM:-0400
TZOFFSETTO:-0500
TZNAME:EST
DTSTART:20241103T060000
END:STANDARD
END:VTIMEZONE
BEGIN:VEVENT
DTSTART;TZID=America/Detroit:20231210T090000
DTEND;TZID=America/Detroit:20231210T150000
DTSTAMP:20260419T191430
CREATED:20231101T192253Z
LAST-MODIFIED:20231101T192253Z
UID:6760-1702198800-1702220400@ejchamber.org
SUMMARY:Santa's Workshop
DESCRIPTION:It’s time to build and craft with Santa in his Workshop at Castle Farms! Our Santa’s Workshop sessions will be held on Saturday and Sunday\, December 9 and 10\, 2023 at pre-scheduled times throughout the day.  Participate in an age-appropriate craft (chosen at time of online registration)\, enjoy hot cocoa and a treat. Chat with Santa himself and get a special gift.  Professional photos with Santa are also included and will be available for download after the event! \nTickets must be purchased by 11:59 PM EST on December 7\, 2023. Each child ticket includes 2 adults. You may purchase extra adult tickets for $5 each.
URL:https://ejchamber.org/event/santas-workshop-2/
LOCATION:Castle Farms\, 5052 M-66 North\, Charlevoix\, MI\, 49720\, United States
CATEGORIES:Festival Events
ATTACH;FMTTYPE=image/png:https://ejchamber.org/wp-content/uploads/2023/11/General-add-with-crafts-1.png
ORGANIZER;CN="Jessica Anderson":MAILTO:jessica@castlefarms.com
END:VEVENT
END:VCALENDAR