BEGIN:VCALENDAR
VERSION:2.0
PRODID:-//East Jordan Chamber - ECPv6.15.20//NONSGML v1.0//EN
CALSCALE:GREGORIAN
METHOD:PUBLISH
X-ORIGINAL-URL:https://ejchamber.org
X-WR-CALDESC:Events for East Jordan Chamber
REFRESH-INTERVAL;VALUE=DURATION:PT1H
X-Robots-Tag:noindex
X-PUBLISHED-TTL:PT1H
BEGIN:VTIMEZONE
TZID:America/Detroit
BEGIN:DAYLIGHT
TZOFFSETFROM:-0500
TZOFFSETTO:-0400
TZNAME:EDT
DTSTART:20210314T070000
END:DAYLIGHT
BEGIN:STANDARD
TZOFFSETFROM:-0400
TZOFFSETTO:-0500
TZNAME:EST
DTSTART:20211107T060000
END:STANDARD
BEGIN:DAYLIGHT
TZOFFSETFROM:-0500
TZOFFSETTO:-0400
TZNAME:EDT
DTSTART:20220313T070000
END:DAYLIGHT
BEGIN:STANDARD
TZOFFSETFROM:-0400
TZOFFSETTO:-0500
TZNAME:EST
DTSTART:20221106T060000
END:STANDARD
BEGIN:DAYLIGHT
TZOFFSETFROM:-0500
TZOFFSETTO:-0400
TZNAME:EDT
DTSTART:20230312T070000
END:DAYLIGHT
BEGIN:STANDARD
TZOFFSETFROM:-0400
TZOFFSETTO:-0500
TZNAME:EST
DTSTART:20231105T060000
END:STANDARD
END:VTIMEZONE
BEGIN:VEVENT
DTSTART;TZID=America/Detroit:20221031T170000
DTEND;TZID=America/Detroit:20221031T190000
DTSTAMP:20260420T193404
CREATED:20221017T190520Z
LAST-MODIFIED:20221017T190520Z
UID:5533-1667235600-1667242800@ejchamber.org
SUMMARY:Ellsworth Trunk-or-Treat Event
DESCRIPTION:Great fun for the whole family.  Ellsworth Community Park (Pavilion) \nFood\, Activities\, Music\, Photo Booth\, Hay Rides\, Haunted House\, Canned Good Drive and much more. \nCommunity organizations\, churches\, businesses and individuals are welcome to participate. To reserve a spot\, please contact the Village of Ellsworth office@villageofellsworth.com \n  \n 
URL:https://ejchamber.org/event/ellsworth-trunk-or-treat-event/
LOCATION:Village of Ellsworth\, MI\, United States
CATEGORIES:Festival Events
END:VEVENT
END:VCALENDAR