BEGIN:VCALENDAR
VERSION:2.0
PRODID:-//East Jordan Chamber - ECPv6.15.20//NONSGML v1.0//EN
CALSCALE:GREGORIAN
METHOD:PUBLISH
X-WR-CALNAME:East Jordan Chamber
X-ORIGINAL-URL:https://ejchamber.org
X-WR-CALDESC:Events for East Jordan Chamber
REFRESH-INTERVAL;VALUE=DURATION:PT1H
X-Robots-Tag:noindex
X-PUBLISHED-TTL:PT1H
BEGIN:VTIMEZONE
TZID:America/Detroit
BEGIN:DAYLIGHT
TZOFFSETFROM:-0500
TZOFFSETTO:-0400
TZNAME:EDT
DTSTART:20240310T070000
END:DAYLIGHT
BEGIN:STANDARD
TZOFFSETFROM:-0400
TZOFFSETTO:-0500
TZNAME:EST
DTSTART:20241103T060000
END:STANDARD
BEGIN:DAYLIGHT
TZOFFSETFROM:-0500
TZOFFSETTO:-0400
TZNAME:EDT
DTSTART:20250309T070000
END:DAYLIGHT
BEGIN:STANDARD
TZOFFSETFROM:-0400
TZOFFSETTO:-0500
TZNAME:EST
DTSTART:20251102T060000
END:STANDARD
BEGIN:DAYLIGHT
TZOFFSETFROM:-0500
TZOFFSETTO:-0400
TZNAME:EDT
DTSTART:20260308T070000
END:DAYLIGHT
BEGIN:STANDARD
TZOFFSETFROM:-0400
TZOFFSETTO:-0500
TZNAME:EST
DTSTART:20261101T060000
END:STANDARD
END:VTIMEZONE
BEGIN:VEVENT
DTSTART;TZID=America/Detroit:20250712T080000
DTEND;TZID=America/Detroit:20250712T100000
DTSTAMP:20260419T233204
CREATED:20250204T155715Z
LAST-MODIFIED:20250204T155715Z
UID:7916-1752307200-1752314400@ejchamber.org
SUMMARY:11 Annual Sweaty Yeti Run
DESCRIPTION:The Sweaty Yeti 5K & Make a Memory Mile Fun Run are celebrating their 11th year in 2025. This amazing event is held to benefit the Barber-Galvin Memorial Scholarship Fund. This is a timed event. The event also has so many other family fun activities. \nAlways the 2nd Saturday in July.
URL:https://ejchamber.org/event/11-annual-sweaty-yeti-run/
LOCATION:Boswell Stadium\, 101 North Maple St.\, East Jordan\, MI\, 49727\, United States
CATEGORIES:Festival Events
END:VEVENT
BEGIN:VEVENT
DTSTART;TZID=America/Detroit:20250712T100000
DTEND;TZID=America/Detroit:20250712T150000
DTSTAMP:20260419T233204
CREATED:20250204T155125Z
LAST-MODIFIED:20250616T163909Z
UID:7914-1752314400-1752332400@ejchamber.org
SUMMARY:South Arm Classic Car Show
DESCRIPTION:Beautiful downtown East Jordan comes alive with the beautiful automobiles from the past. Memorial Park & Spring Street will be lined with the bright\, colorful cars of days gone by for all to view. Sponsored by East Jordan Lion’s Club. Food\, music and fun will also be part of this fantastic day in East Jordan. \nRegistration: Starting at 7:00 AM\, Memorial Park \nShow starts at: 10:00 AM \nAwards: 2:00 PM
URL:https://ejchamber.org/event/south-arm-classic-car-show-2/
LOCATION:Memorial Park\, 101 Spring Street\, East Jordan\, Michigan\, 49727
CATEGORIES:Festival Events
ORGANIZER;CN="East Jordan Lions Club":MAILTO:skpursel@yahoo.com
END:VEVENT
BEGIN:VEVENT
DTSTART;TZID=America/Detroit:20250716T163000
DTEND;TZID=America/Detroit:20250716T203000
DTSTAMP:20260419T233204
CREATED:20250617T184620Z
LAST-MODIFIED:20250617T184620Z
UID:8230-1752683400-1752697800@ejchamber.org
SUMMARY:Kanin Wren Concert – Featuring Shortstop!
DESCRIPTION:🎤 Kanin Wren in Concert – Featuring Shortstop\n📅 Wednesday\, July 16\, 2025\n📍 Castle Farms – Queen’s Court & Serenity Garden\, Charlevoix\, MI \nJoin us for a magical summer evening at Castle Farms as rising country-pop star Kanin Wren takes the stage with her powerhouse vocals\, heartfelt originals\, and the fan-favorite Taylor Swift Experience—a dynamic tribute packed with the hits you love\, from “Love Story” to “Cruel Summer.” \nThe night kicks off with Shortstop\, an exciting young trio featured as part of Kanin’s new platform to uplift and mentor aspiring musicians. These rising stars will open the show with a performance full of talent\, energy\, and inspiration. \n$30 General Admission\n$65 VIP + Meet & Greet\n$280 VIP + Meet & Greet + Reserved Table for FOUR People + 4 drink tickets \nVIP options include early entry for prime seating options\, 3 acoustic songs performed by Kanin Wren\, Poster of Kanin Wren\, and early autograph session. \nItinerary\n\n• 4:30 PM: VIP Doors Open\n• 5:00 PM: VIP Meet and Greet\n• 5:45 PM: Shortstop Performance (Opening Act)\n• 6:30 PM: Kanin Wren Live\n• 8:30: Encore + Additional Meet and Greets (if time allows)
URL:https://ejchamber.org/event/kanin-wren-concert-featuring-shortstop/
LOCATION:Castle Farms\, 5052 M-66 North\, Charlevoix\, MI\, 49720\, United States
CATEGORIES:Festival Events
END:VEVENT
BEGIN:VEVENT
DTSTART;VALUE=DATE:20250718
DTEND;VALUE=DATE:20250720
DTSTAMP:20260419T233204
CREATED:20250204T160150Z
LAST-MODIFIED:20250204T160150Z
UID:7918-1752796800-1752969599@ejchamber.org
SUMMARY:Up North Busker Fest
DESCRIPTION:What’s a Busker you ask? A Busker is a person who performs music or other entertainment in the street or another public place for monetary donations. This one of a kind festival has something for everyone. You will be kept busy with performances taking place on two stages\, kids activities\, visits by live Mermaids\, musicians\, jugglers\, craft show\, beer tent and much more.
URL:https://ejchamber.org/event/up-north-busker-fest-3/
LOCATION:Memorial Park\, 101 Spring Street\, East Jordan\, Michigan\, 49727
CATEGORIES:Festival Events
ORGANIZER;CN="Up North Busker Fest Committee":MAILTO:tommytropic@yahoo.com
END:VEVENT
BEGIN:VEVENT
DTSTART;TZID=America/Detroit:20250721T100000
DTEND;TZID=America/Detroit:20250724T170000
DTSTAMP:20260419T233204
CREATED:20250224T162213Z
LAST-MODIFIED:20250224T162213Z
UID:7953-1753092000-1753376400@ejchamber.org
SUMMARY:Enchanted Art Market
DESCRIPTION:This event is hosted by Blue Ribbon Events Group AT Castle Farms! \nEnchanted Art Market at Castle Farms\n📅 July 21-24\, 2025 | ⏰ 10 AM – 5 PM\n🎟️ $5 per person (Includes access to the market\, live music\, scavenger hunt\, make & take project\, and a self-guided tour of Castle Farms!) \nStep into a world of creativity and magic at the Enchanted Art Market\, a boutique-style market filled with handcrafted treasures\, live music\, and enchanting experiences! \n✨ Explore the Market – Browse a unique selection of artisan goods and artwork from talented creators. \n🎶 Live Music Daily – Enjoy the sounds of local musicians from 12 PM – 5 PM as you stroll through the market. \n🌲 Enchanted Forest Scavenger Hunt – Embark on a whimsical adventure throughout Castle Farms’ scenic grounds. \n🎨 Make & Take: Enchanted Rock Project – Unleash your creativity!\n🗓️ Tuesday & Thursday | 11 AM – 3 PM\n💰 Free for kids | $5 for adults (includes two rocks – one to keep\, one to share)\n📍 Choose where your enchanted rock goes! Hide it around Castle Farms for future visitors or let us place it in a local community. \n🏰 Self-Guided Tour – Your admission includes a self-guided tour of the castle’s historic buildings and breathtaking grounds. \n🍷 Castle Pub Open Daily – From 11 AM – 11 PM\, enjoy refreshing drinks and tasty snacks. \nDon’t miss this magical celebration of art and imagination at Castle Farms! ✨
URL:https://ejchamber.org/event/enchanted-art-market/
LOCATION:Castle Farms\, 5052 M-66 North\, Charlevoix\, MI\, 49720\, United States
CATEGORIES:Festival Events
ATTACH;FMTTYPE=image/jpeg:https://ejchamber.org/wp-content/uploads/2025/02/Enchanted-logo1.jpg
END:VEVENT
END:VCALENDAR