BEGIN:VCALENDAR
VERSION:2.0
PRODID:-//East Jordan Chamber - ECPv6.15.20//NONSGML v1.0//EN
CALSCALE:GREGORIAN
METHOD:PUBLISH
X-WR-CALNAME:East Jordan Chamber
X-ORIGINAL-URL:https://ejchamber.org
X-WR-CALDESC:Events for East Jordan Chamber
REFRESH-INTERVAL;VALUE=DURATION:PT1H
X-Robots-Tag:noindex
X-PUBLISHED-TTL:PT1H
BEGIN:VTIMEZONE
TZID:America/Detroit
BEGIN:DAYLIGHT
TZOFFSETFROM:-0500
TZOFFSETTO:-0400
TZNAME:EDT
DTSTART:20230312T070000
END:DAYLIGHT
BEGIN:STANDARD
TZOFFSETFROM:-0400
TZOFFSETTO:-0500
TZNAME:EST
DTSTART:20231105T060000
END:STANDARD
BEGIN:DAYLIGHT
TZOFFSETFROM:-0500
TZOFFSETTO:-0400
TZNAME:EDT
DTSTART:20240310T070000
END:DAYLIGHT
BEGIN:STANDARD
TZOFFSETFROM:-0400
TZOFFSETTO:-0500
TZNAME:EST
DTSTART:20241103T060000
END:STANDARD
BEGIN:DAYLIGHT
TZOFFSETFROM:-0500
TZOFFSETTO:-0400
TZNAME:EDT
DTSTART:20250309T070000
END:DAYLIGHT
BEGIN:STANDARD
TZOFFSETFROM:-0400
TZOFFSETTO:-0500
TZNAME:EST
DTSTART:20251102T060000
END:STANDARD
END:VTIMEZONE
BEGIN:VEVENT
DTSTART;TZID=America/Detroit:20241204T170000
DTEND;TZID=America/Detroit:20241204T190000
DTSTAMP:20260419T153705
CREATED:20241126T151847Z
LAST-MODIFIED:20241126T151847Z
UID:7749-1733331600-1733338800@ejchamber.org
SUMMARY:Live Nativity Scene
DESCRIPTION:Experience the wonder of the season with a live Nativity Scene at Castle Farms! Join us on December 4th and December 18th\, from 5 PM to 7 PM\, in the enchanting Queen’s Courtyard. Watch as the story of the first Christmas comes to life amidst the beautiful castle setting\, featuring live animals provided by Hungry Ducks.\n\nGather your family and friends for this festive and heartfelt event\, perfect for all ages. Admission is free\, and everyone is welcome to come and share in the spirit of the holidays. Don’t miss this unique and memorable holiday experience!
URL:https://ejchamber.org/event/live-nativity-scene/
LOCATION:Castle Farms\, 5052 M-66 North\, Charlevoix\, MI\, 49720\, United States
CATEGORIES:Festival Events
ATTACH;FMTTYPE=image/png:https://ejchamber.org/wp-content/uploads/2024/11/Nativity-Scene-Flyer-1920-x-1080-px.png
ORGANIZER;CN="Castle Farms":MAILTO:johanna@castlefarms.com
END:VEVENT
BEGIN:VEVENT
DTSTART;TZID=America/Detroit:20241204T180000
DTEND;TZID=America/Detroit:20241204T200000
DTSTAMP:20260419T153705
CREATED:20241126T151917Z
LAST-MODIFIED:20241126T151917Z
UID:7759-1733335200-1733342400@ejchamber.org
SUMMARY:Winter Castle Gala
DESCRIPTION:Join us for an enchanting evening at the Winter Gala hosted at the beautiful Castle. Immerse yourself in the magic of the season with a festive night filled with dinner\, delightful drinks\, and live holiday music that will warm your heart. \nTickets will include live music\, dinner\, a complementary glass of wine and access to the live nativity scene. \nWhether you’re celebrating with friends\, family\, or colleagues\, this elegant winter celebration promises a memorable experience in the stunning surroundings of Castle Farms\, all aglow with holiday cheer. \nEvent Dates: \n\nWednesday December 4th from 6 pm to 8 pm.\nWednesday December 18th from 6 pm to 8 pm.\n\nTicket Information: \nGeneral Admission: $70
URL:https://ejchamber.org/event/winter-castle-gala/
LOCATION:Castle Farms\, 5052 M-66 North\, Charlevoix\, MI\, 49720\, United States
CATEGORIES:Festival Events
ATTACH;FMTTYPE=image/png:https://ejchamber.org/wp-content/uploads/2024/11/Winter-Gala-Flyer-Half-Sheet-5.75-x-4.25-in-1.png
ORGANIZER;CN="Castle Farms":MAILTO:johanna@castlefarms.com
END:VEVENT
BEGIN:VEVENT
DTSTART;TZID=America/Detroit:20241205T170000
DTEND;TZID=America/Detroit:20241205T183000
DTSTAMP:20260419T153705
CREATED:20240403T190911Z
LAST-MODIFIED:20240905T155514Z
UID:7033-1733418000-1733423400@ejchamber.org
SUMMARY:4th Annual Jubilee of Trees for 501C3's & Holiday Business After Hours
DESCRIPTION:Come celebrate the holidays and support our local 501 C3’s at the same time. Decorated Christmas Trees  & Holiday Baskets will be on display and up for auction at the silent auction. All proceeds to benefit the winning bidders choice of Chamber Member 501 C3’s. \nWe will also celebrate the season with our Holiday Business After Hours proudly sponsored by EJ. Come and enjoy hors devours\, drinks and networking. \nEveryone welcome to attend \n  \nHeld at The Boathouse on Lake Charlevoix
URL:https://ejchamber.org/event/4th-annual-jubilee-of-trees-for-501c3s-holiday-business-after-hours/
LOCATION:The Boathouse on Lake Charlevoix\, 204 Water Street\, East Jordan\, MI\, 49727\, United States
CATEGORIES:Festival Events
END:VEVENT
BEGIN:VEVENT
DTSTART;TZID=America/Detroit:20241206T170000
DTEND;TZID=America/Detroit:20241206T190000
DTSTAMP:20260419T153705
CREATED:20240403T192352Z
LAST-MODIFIED:20240403T192352Z
UID:7035-1733504400-1733511600@ejchamber.org
SUMMARY:Light Up East Jordan For Christmas Parade
DESCRIPTION:The East Jordan Helping Hearts invite you to downtown East Jordan for a night of fun for the whole family. Lighted Christmas Parade down Main Street\, Visit with Mrs. Claus & Santa\, live Reindeer\, Treats\, Crafts and more.
URL:https://ejchamber.org/event/light-up-east-jordan-for-christmas-parade/
LOCATION:Downtown East Jordan\, East Jordan\, MI\, 49727\, United States
CATEGORIES:Festival Events
ORGANIZER;CN="Helping Hearts of East Jordan":MAILTO:shandrasweet@hotmail.com
END:VEVENT
BEGIN:VEVENT
DTSTART;TZID=America/Detroit:20241214T090000
DTEND;TZID=America/Detroit:20241214T150000
DTSTAMP:20260419T153705
CREATED:20241126T151947Z
LAST-MODIFIED:20241126T151947Z
UID:7769-1734166800-1734188400@ejchamber.org
SUMMARY:Santa’s Workshop
DESCRIPTION:Santa’s coming…and he’s bringing the GRINCH! \nIt’s time to build and craft with Santa in his Workshop at Castle Farms! Our Santa’s Workshop sessions will be held on Saturday and Sunday\, December 14 and 15\, 2024 at pre-scheduled times throughout the day.  Participate in an age-appropriate craft (chosen at time of online registration)\, enjoy hot cocoa and a treat. Chat with Santa himself and get a special gift. Professional photos with Santa are also included and will be available for download after the event! \nTicket Cost: $30 per child \nSanta Sessions Available:  9am\, 10:30am\, 12pm\, & 2pm each day \nLimit of 25 children per session. \nTickets must be purchased by 11:59 PM EST on December 13\, 2024. Each child ticket includes 2 adults. You may purchase extra adult tickets for $5 each.
URL:https://ejchamber.org/event/santas-workshop-3/
LOCATION:Castle Farms\, 5052 M-66 North\, Charlevoix\, MI\, 49720\, United States
CATEGORIES:Festival Events
ATTACH;FMTTYPE=image/png:https://ejchamber.org/wp-content/uploads/2024/11/Santas-Workshop-Half-Sheet-5.75-x-4-in-5.75-x-3-in-8.5-x-5.5-in-1.png
ORGANIZER;CN="Castle Farms":MAILTO:info@castlefarms.com
END:VEVENT
BEGIN:VEVENT
DTSTART;TZID=America/Detroit:20241215T090000
DTEND;TZID=America/Detroit:20241215T150000
DTSTAMP:20260419T153705
CREATED:20241126T152000Z
LAST-MODIFIED:20241126T152000Z
UID:7774-1734253200-1734274800@ejchamber.org
SUMMARY:Santa’s Workshop
DESCRIPTION:Santa’s coming…and he’s bringing the GRINCH! \nIt’s time to build and craft with Santa in his Workshop at Castle Farms! Our Santa’s Workshop sessions will be held on Saturday and Sunday\, December 14 and 15\, 2024 at pre-scheduled times throughout the day.  Participate in an age-appropriate craft (chosen at time of online registration)\, enjoy hot cocoa and a treat. Chat with Santa himself and get a special gift. Professional photos with Santa are also included and will be available for download after the event! \nTicket Cost: $30 per child \nSanta Sessions Available:  9am\, 10:30am\, 12pm\, & 2pm each day \nLimit of 25 children per session. \nTickets must be purchased by 11:59 PM EST on December 13\, 2024. Each child ticket includes 2 adults. You may purchase extra adult tickets for $5 each.
URL:https://ejchamber.org/event/santas-workshop-4/
LOCATION:Castle Farms\, 5052 M-66 North\, Charlevoix\, MI\, 49720\, United States
CATEGORIES:Festival Events
ATTACH;FMTTYPE=image/png:https://ejchamber.org/wp-content/uploads/2024/11/Santas-Workshop-Half-Sheet-5.75-x-4-in-5.75-x-3-in-8.5-x-5.5-in-1-1.png
ORGANIZER;CN="Castle Farms":MAILTO:johanna@castlefarms.com
END:VEVENT
BEGIN:VEVENT
DTSTART;TZID=America/Detroit:20241218T170000
DTEND;TZID=America/Detroit:20241218T190000
DTSTAMP:20260419T153705
CREATED:20241126T151900Z
LAST-MODIFIED:20241126T151900Z
UID:7754-1734541200-1734548400@ejchamber.org
SUMMARY:Live Nativity Scene
DESCRIPTION:Experience the wonder of the season with a live Nativity Scene at Castle Farms! Join us on December 4th and December 18th\, from 5 PM to 7 PM\, in the enchanting Queen’s Courtyard. Watch as the story of the first Christmas comes to life amidst the beautiful castle setting\, featuring live animals provided by Hungry Ducks.\n\nGather your family and friends for this festive and heartfelt event\, perfect for all ages. Admission is free\, and everyone is welcome to come and share in the spirit of the holidays. Don’t miss this unique and memorable holiday experience!
URL:https://ejchamber.org/event/live-nativity-scene-2/
LOCATION:Castle Farms\, 5052 M-66 North\, Charlevoix\, MI\, 49720\, United States
CATEGORIES:Festival Events
ATTACH;FMTTYPE=image/png:https://ejchamber.org/wp-content/uploads/2024/11/Nativity-Scene-Flyer-1920-x-1080-px-1.png
ORGANIZER;CN="Castle Farms":MAILTO:johanna@castlefarms.com
END:VEVENT
END:VCALENDAR