BEGIN:VCALENDAR
VERSION:2.0
PRODID:-//East Jordan Chamber - ECPv6.15.20//NONSGML v1.0//EN
CALSCALE:GREGORIAN
METHOD:PUBLISH
X-ORIGINAL-URL:https://ejchamber.org
X-WR-CALDESC:Events for East Jordan Chamber
REFRESH-INTERVAL;VALUE=DURATION:PT1H
X-Robots-Tag:noindex
X-PUBLISHED-TTL:PT1H
BEGIN:VTIMEZONE
TZID:America/Detroit
BEGIN:DAYLIGHT
TZOFFSETFROM:-0500
TZOFFSETTO:-0400
TZNAME:EDT
DTSTART:20230312T070000
END:DAYLIGHT
BEGIN:STANDARD
TZOFFSETFROM:-0400
TZOFFSETTO:-0500
TZNAME:EST
DTSTART:20231105T060000
END:STANDARD
BEGIN:DAYLIGHT
TZOFFSETFROM:-0500
TZOFFSETTO:-0400
TZNAME:EDT
DTSTART:20240310T070000
END:DAYLIGHT
BEGIN:STANDARD
TZOFFSETFROM:-0400
TZOFFSETTO:-0500
TZNAME:EST
DTSTART:20241103T060000
END:STANDARD
BEGIN:DAYLIGHT
TZOFFSETFROM:-0500
TZOFFSETTO:-0400
TZNAME:EDT
DTSTART:20250309T070000
END:DAYLIGHT
BEGIN:STANDARD
TZOFFSETFROM:-0400
TZOFFSETTO:-0500
TZNAME:EST
DTSTART:20251102T060000
END:STANDARD
END:VTIMEZONE
BEGIN:VEVENT
DTSTART;TZID=America/Detroit:20240420T180000
DTEND;TZID=America/Detroit:20240420T193000
DTSTAMP:20260419T082319
CREATED:20240408T165509Z
LAST-MODIFIED:20240408T165513Z
UID:7086-1713636000-1713641400@ejchamber.org
SUMMARY:Lyl Dia Concert
DESCRIPTION:Lyl Dia is a Northern Michigan teen rapping positive messages.  Bring the whole family to enjoy this one of a kind concert!  Open to the community and surrounding areas! Admission by donation.
URL:https://ejchamber.org/event/lyl-dia-concert/
LOCATION:East Jordan Community Auditorium\, 304 Fourth Street\, East Jordan\, MI\, 49727\, United States
CATEGORIES:One Time Events
ATTACH;FMTTYPE=image/png:https://ejchamber.org/wp-content/uploads/2024/04/LYL-DIA-240420-1.png
ORGANIZER;CN="The Depot Jordan Valley Teen Center":MAILTO:depotjvteencenter@gmail.com
END:VEVENT
BEGIN:VEVENT
DTSTART;TZID=America/Detroit:20240420T190000
DTEND;TZID=America/Detroit:20240420T210000
DTSTAMP:20260419T082319
CREATED:20240404T194630Z
LAST-MODIFIED:20240404T194630Z
UID:6876-1713639600-1713646800@ejchamber.org
SUMMARY:GLCO presents Dreams of Faraway Lands
DESCRIPTION:Join us for an exciting musical journey inspired by the cultures of faraway lands. Musical portraits by celebrated composers will transport you to the distant regions of the Middle East\, Asia\, Africa\, Southern Europe in this smorgasbord-concert of distinct musical cultures presenting works such as Mozart’s Abduction from Seraglio and Turkish March\, Rossini’s Italian Girl in Algiers\, Turina’s Five Gipsy Dances\, and Sibelius’ incidental score for the play Belshazzar’s Feast.  \nThe highlight of the concert is Marcus Paus’ Portrait of Zhou for Flute and Orchestra\, presented by Nancy Stagnitta\, award-winning classical and jazz flutist. \nThe concert will take place at the Great Lakes Center for the Arts in Petoskey on Saturday\, April 20th at 7 PM.
URL:https://ejchamber.org/event/glco-presents-dreams-of-faraway-lands/
LOCATION:Great Lakes Center for the Arts\, Bay Harbor\, 800 Bay Harbor Drive\, Bay Harbor\, MI\, 49770\, United States
ORGANIZER;CN="Great Lakes Chamber Orchestra":MAILTO:info@glcorchestra.org
END:VEVENT
END:VCALENDAR