BEGIN:VCALENDAR
VERSION:2.0
PRODID:-//East Jordan Chamber - ECPv6.15.20//NONSGML v1.0//EN
CALSCALE:GREGORIAN
METHOD:PUBLISH
X-WR-CALNAME:East Jordan Chamber
X-ORIGINAL-URL:https://ejchamber.org
X-WR-CALDESC:Events for East Jordan Chamber
REFRESH-INTERVAL;VALUE=DURATION:PT1H
X-Robots-Tag:noindex
X-PUBLISHED-TTL:PT1H
BEGIN:VTIMEZONE
TZID:America/Detroit
BEGIN:DAYLIGHT
TZOFFSETFROM:-0500
TZOFFSETTO:-0400
TZNAME:EDT
DTSTART:20230312T070000
END:DAYLIGHT
BEGIN:STANDARD
TZOFFSETFROM:-0400
TZOFFSETTO:-0500
TZNAME:EST
DTSTART:20231105T060000
END:STANDARD
BEGIN:DAYLIGHT
TZOFFSETFROM:-0500
TZOFFSETTO:-0400
TZNAME:EDT
DTSTART:20240310T070000
END:DAYLIGHT
BEGIN:STANDARD
TZOFFSETFROM:-0400
TZOFFSETTO:-0500
TZNAME:EST
DTSTART:20241103T060000
END:STANDARD
BEGIN:DAYLIGHT
TZOFFSETFROM:-0500
TZOFFSETTO:-0400
TZNAME:EDT
DTSTART:20250309T070000
END:DAYLIGHT
BEGIN:STANDARD
TZOFFSETFROM:-0400
TZOFFSETTO:-0500
TZNAME:EST
DTSTART:20251102T060000
END:STANDARD
END:VTIMEZONE
BEGIN:VEVENT
DTSTART;TZID=America/Detroit:20240419T180000
DTEND;TZID=America/Detroit:20240419T200000
DTSTAMP:20260419T082225
CREATED:20240305T162423Z
LAST-MODIFIED:20240305T162423Z
UID:6835-1713549600-1713556800@ejchamber.org
SUMMARY:Wine Paring Dinner
DESCRIPTION:Experience an exquisite evening of culinary delight at 1918 Cellars in historic Castle Farms. Indulge in an unforgettable wine pairing dinner meticulously crafted to tantalize your taste buds and elevate your senses.
URL:https://ejchamber.org/event/wine-paring-dinner/
LOCATION:Castle Farms\, 5052 M-66 North\, Charlevoix\, MI\, 49720\, United States
ATTACH;FMTTYPE=image/png:https://ejchamber.org/wp-content/uploads/2024/03/Flyer-April-Dinner.png
ORGANIZER;CN="Jessica Anderson":MAILTO:jessica@castlefarms.com
END:VEVENT
END:VCALENDAR