BEGIN:VCALENDAR
VERSION:2.0
PRODID:-//East Jordan Chamber - ECPv6.15.20//NONSGML v1.0//EN
CALSCALE:GREGORIAN
METHOD:PUBLISH
X-WR-CALNAME:East Jordan Chamber
X-ORIGINAL-URL:https://ejchamber.org
X-WR-CALDESC:Events for East Jordan Chamber
REFRESH-INTERVAL;VALUE=DURATION:PT1H
X-Robots-Tag:noindex
X-PUBLISHED-TTL:PT1H
BEGIN:VTIMEZONE
TZID:America/Detroit
BEGIN:DAYLIGHT
TZOFFSETFROM:-0500
TZOFFSETTO:-0400
TZNAME:EDT
DTSTART:20220313T070000
END:DAYLIGHT
BEGIN:STANDARD
TZOFFSETFROM:-0400
TZOFFSETTO:-0500
TZNAME:EST
DTSTART:20221106T060000
END:STANDARD
BEGIN:DAYLIGHT
TZOFFSETFROM:-0500
TZOFFSETTO:-0400
TZNAME:EDT
DTSTART:20230312T070000
END:DAYLIGHT
BEGIN:STANDARD
TZOFFSETFROM:-0400
TZOFFSETTO:-0500
TZNAME:EST
DTSTART:20231105T060000
END:STANDARD
BEGIN:DAYLIGHT
TZOFFSETFROM:-0500
TZOFFSETTO:-0400
TZNAME:EDT
DTSTART:20240310T070000
END:DAYLIGHT
BEGIN:STANDARD
TZOFFSETFROM:-0400
TZOFFSETTO:-0500
TZNAME:EST
DTSTART:20241103T060000
END:STANDARD
END:VTIMEZONE
BEGIN:VEVENT
DTSTART;TZID=America/Detroit:20231027T150000
DTEND;TZID=America/Detroit:20231027T170000
DTSTAMP:20260419T082223
CREATED:20230914T180811Z
LAST-MODIFIED:20230914T183148Z
UID:6692-1698418800-1698426000@ejchamber.org
SUMMARY:NDNW Flu Clinic
DESCRIPTION:The Health Department of Northwest Michigan is offering convenient fall flu clinics that are open to the public. For questions or to schedule an appointment\, call 800-432-4121. to view a full list of public clinics in the area visit https://www.nwhealth.org/flu.html
URL:https://ejchamber.org/event/ndnw-flu-clinic/
LOCATION:Central Lake Middle/High School\, 8169 W State Street\, Central Lake\, MI\, 49622\, United States
CATEGORIES:One Time Events
END:VEVENT
END:VCALENDAR