BEGIN:VCALENDAR
VERSION:2.0
PRODID:-//East Jordan Chamber - ECPv6.15.20//NONSGML v1.0//EN
CALSCALE:GREGORIAN
METHOD:PUBLISH
X-ORIGINAL-URL:https://ejchamber.org
X-WR-CALDESC:Events for East Jordan Chamber
REFRESH-INTERVAL;VALUE=DURATION:PT1H
X-Robots-Tag:noindex
X-PUBLISHED-TTL:PT1H
BEGIN:VTIMEZONE
TZID:America/Detroit
BEGIN:DAYLIGHT
TZOFFSETFROM:-0500
TZOFFSETTO:-0400
TZNAME:EDT
DTSTART:20220313T070000
END:DAYLIGHT
BEGIN:STANDARD
TZOFFSETFROM:-0400
TZOFFSETTO:-0500
TZNAME:EST
DTSTART:20221106T060000
END:STANDARD
BEGIN:DAYLIGHT
TZOFFSETFROM:-0500
TZOFFSETTO:-0400
TZNAME:EDT
DTSTART:20230312T070000
END:DAYLIGHT
BEGIN:STANDARD
TZOFFSETFROM:-0400
TZOFFSETTO:-0500
TZNAME:EST
DTSTART:20231105T060000
END:STANDARD
BEGIN:DAYLIGHT
TZOFFSETFROM:-0500
TZOFFSETTO:-0400
TZNAME:EDT
DTSTART:20240310T070000
END:DAYLIGHT
BEGIN:STANDARD
TZOFFSETFROM:-0400
TZOFFSETTO:-0500
TZNAME:EST
DTSTART:20241103T060000
END:STANDARD
END:VTIMEZONE
BEGIN:VEVENT
DTSTART;TZID=America/Detroit:20231014T100000
DTEND;TZID=America/Detroit:20231014T170000
DTSTAMP:20260419T082316
CREATED:20230608T170131Z
LAST-MODIFIED:20230608T170131Z
UID:6626-1697277600-1697302800@ejchamber.org
SUMMARY:Breezeway Fall Color Cruises
DESCRIPTION:Three Saturday Cruises…at your own pace. Enjoy the beautiful fall colors\, Corn Mazes\, Pumpkins\, Apples\, Scarecrows and more along the 26 mile C-49 The Breezeway. Plan for time to stop along the way at the communities of Atwood\, Ellsworth\, East Jordan and Boyne Falls to visit the art centers\, restaurants\, shops and much more. Be sure to pick up your goodie bags filled with coupons\, trinkets\, maps and a “things to do” list at Royal Farms starting at 10:00 AM. (while supplies last) visit www.ridethebreezeway.com or find us on Facebook.com/thebreezeway
URL:https://ejchamber.org/event/breezeway-fall-color-cruises-3/
LOCATION:The Breezeway\, U.S 31 to U.S. 131\, MI\, United States
CATEGORIES:Recurring Events
END:VEVENT
BEGIN:VEVENT
DTSTART;TZID=America/Detroit:20231014T120000
DTEND;TZID=America/Detroit:20231014T160000
DTSTAMP:20260419T082316
CREATED:20230919T142120Z
LAST-MODIFIED:20230919T142120Z
UID:6695-1697284800-1697299200@ejchamber.org
SUMMARY:Annular Solar Eclipse Viewing Event
DESCRIPTION:This annular eclipse is the second of three notable solar eclipses viewable from the USA\, where the Sun forms a ‘ring of fire’ around the Moon. The previous Annual Solar Eclipse was viewable 11 years ago. \nThe eclipse will be seen in Michigan at approximately 12pm (noon). \nBring your friends & family! \nEveryone must wear solar glasses. You may purchase solar glasses for $2 each at Raven Hill or bring your own. \nFree admission is part of our FREE 2nd Saturday program (final one for 2023)
URL:https://ejchamber.org/event/annular-solar-eclipse-viewing-event/
LOCATION:Raven Hill Discovery Center\, 4737 Fuller Road\, East Jordan\, MI\, 49727\, United States
ORGANIZER;CN="Raven Hill Discovery Center":MAILTO:info@ravenhill.org
END:VEVENT
BEGIN:VEVENT
DTSTART;TZID=America/Detroit:20231014T130000
DTEND;TZID=America/Detroit:20231014T140000
DTSTAMP:20260419T082316
CREATED:20231004T185100Z
LAST-MODIFIED:20231004T185100Z
UID:6722-1697288400-1697292000@ejchamber.org
SUMMARY:GLCO's Children's Library Music Program
DESCRIPTION:Petoskey District Library and Charlevoix Public Library are hosting “Little Waves\,” a young children’s music program. Free and open to the public and sponsored by the Great Lakes Chamber Orchestra (GLCO)\, the program is designed to introduce young children (ages 4 – 10) and their families to music in an entertaining setting. Each drop-in event takes place at 10:30 am in Petoskey and 1 pm in Charlevoix. The theme for this year is “Musical Adventures.” Each session features a multimedia story\, an opportunity to hear one or more GLCO musicians demonstrate and explain how their instruments work\, and fun music-related activities for kids. The next event is Sat. October 14\, featuring brass instruments.  Dont miss the fun!  For more information\, contact the library\, GLCO 231-487-0010\, or visit www.glcorchestra.org/education/little-waves/.
URL:https://ejchamber.org/event/glcos-childrens-library-music-program/
LOCATION:Charlevoix Public Library\, 220 Clinton St\, Charlevoix\, MI\, 49720\, United States
CATEGORIES:Recurring Events
ATTACH;FMTTYPE=image/png:https://ejchamber.org/wp-content/uploads/2023/10/Little-Waves-both.png
ORGANIZER;CN="Great Lakes Chamber Orchestra":MAILTO:info@glcorchestra.org
END:VEVENT
END:VCALENDAR