BEGIN:VCALENDAR
VERSION:2.0
PRODID:-//East Jordan Chamber - ECPv6.15.20//NONSGML v1.0//EN
CALSCALE:GREGORIAN
METHOD:PUBLISH
X-WR-CALNAME:East Jordan Chamber
X-ORIGINAL-URL:https://ejchamber.org
X-WR-CALDESC:Events for East Jordan Chamber
REFRESH-INTERVAL;VALUE=DURATION:PT1H
X-Robots-Tag:noindex
X-PUBLISHED-TTL:PT1H
BEGIN:VTIMEZONE
TZID:America/Detroit
BEGIN:DAYLIGHT
TZOFFSETFROM:-0500
TZOFFSETTO:-0400
TZNAME:EDT
DTSTART:20220313T070000
END:DAYLIGHT
BEGIN:STANDARD
TZOFFSETFROM:-0400
TZOFFSETTO:-0500
TZNAME:EST
DTSTART:20221106T060000
END:STANDARD
BEGIN:DAYLIGHT
TZOFFSETFROM:-0500
TZOFFSETTO:-0400
TZNAME:EDT
DTSTART:20230312T070000
END:DAYLIGHT
BEGIN:STANDARD
TZOFFSETFROM:-0400
TZOFFSETTO:-0500
TZNAME:EST
DTSTART:20231105T060000
END:STANDARD
BEGIN:DAYLIGHT
TZOFFSETFROM:-0500
TZOFFSETTO:-0400
TZNAME:EDT
DTSTART:20240310T070000
END:DAYLIGHT
BEGIN:STANDARD
TZOFFSETFROM:-0400
TZOFFSETTO:-0500
TZNAME:EST
DTSTART:20241103T060000
END:STANDARD
END:VTIMEZONE
BEGIN:VEVENT
DTSTART;TZID=America/Detroit:20230826T100000
DTEND;TZID=America/Detroit:20231007T160000
DTSTAMP:20260419T080313
CREATED:20230919T142326Z
LAST-MODIFIED:20230919T142326Z
UID:6704-1693044000-1696694400@ejchamber.org
SUMMARY:Smithsonian Traveling Exhibit at Raven Hill
DESCRIPTION:Raven Hill Discovery Center was selected as a host site for the newest Smithsonian Museum’s national traveling exhibit\, “Spark! Places of Innovation” from August 26 – October 7\, 2023. \n  \nInspired by an exhibition by the National Museum of American History\, the exhibit features stories gathered from diverse communities across the nation. Photographs\, engaging interactives\, objects\, videos\, and augmented reality bring a multilayered experience to reveal the leaders\, challenges\, successes\, and future of innovation in each town. \n  \nThe Smithsonian exhibit is free to everyone. Visitors can enjoy the rest of Raven Hill Discovery Center with an entrance fee of $10\, which includes a special viewing of their newest exploratory section on “Innovation or Invention?” In this section\, you’ll get inspiration for bringing inventions to life by learning about what goes on inside a patent office.
URL:https://ejchamber.org/event/smithsonian-traveling-exhibit-at-raven-hill/
LOCATION:Raven Hill Discovery Center\, 4737 Fuller Road\, East Jordan\, MI\, 49727\, United States
CATEGORIES:Recurring Events
ATTACH;FMTTYPE=image/jpeg:https://ejchamber.org/wp-content/uploads/2023/09/Smithsonian-Exhibit-Raven-Hill-Post-8.jpg
ORGANIZER;CN="Raven Hill Discovery Center":MAILTO:info@ravenhill.org
END:VEVENT
BEGIN:VEVENT
DTSTART;TZID=America/Detroit:20230921T170000
DTEND;TZID=America/Detroit:20230921T183000
DTSTAMP:20260419T080313
CREATED:20230908T153014Z
LAST-MODIFIED:20230908T153439Z
UID:6685-1695315600-1695321000@ejchamber.org
SUMMARY:Business After Hours
DESCRIPTION:Hosted by the East Jordan Historical Society\, this Business After Hours will be a great place to network with other Business Owners/Managers\, Community Members\, and Leaders. It will be a great time to tour the East Jordan Historical Museum located inside East Jordan City Hall. Members of the Historical Society will be on hand to answer questions. Light snacks will be provided. This event is FREE to East Jordan Area Chamber of Commerce Members and only $10 for Not-Yet-Members.
URL:https://ejchamber.org/event/business-after-hours/
LOCATION:East Jordan City Hall\, 201 Main Street\, East Jordan\, MI\, 49727\, United States
CATEGORIES:One Time Events
END:VEVENT
END:VCALENDAR