BEGIN:VCALENDAR
VERSION:2.0
PRODID:-//East Jordan Chamber - ECPv6.15.20//NONSGML v1.0//EN
CALSCALE:GREGORIAN
METHOD:PUBLISH
X-WR-CALNAME:East Jordan Chamber
X-ORIGINAL-URL:https://ejchamber.org
X-WR-CALDESC:Events for East Jordan Chamber
REFRESH-INTERVAL;VALUE=DURATION:PT1H
X-Robots-Tag:noindex
X-PUBLISHED-TTL:PT1H
BEGIN:VTIMEZONE
TZID:America/Detroit
BEGIN:DAYLIGHT
TZOFFSETFROM:-0500
TZOFFSETTO:-0400
TZNAME:EDT
DTSTART:20210314T070000
END:DAYLIGHT
BEGIN:STANDARD
TZOFFSETFROM:-0400
TZOFFSETTO:-0500
TZNAME:EST
DTSTART:20211107T060000
END:STANDARD
BEGIN:DAYLIGHT
TZOFFSETFROM:-0500
TZOFFSETTO:-0400
TZNAME:EDT
DTSTART:20220313T070000
END:DAYLIGHT
BEGIN:STANDARD
TZOFFSETFROM:-0400
TZOFFSETTO:-0500
TZNAME:EST
DTSTART:20221106T060000
END:STANDARD
BEGIN:DAYLIGHT
TZOFFSETFROM:-0500
TZOFFSETTO:-0400
TZNAME:EDT
DTSTART:20230312T070000
END:DAYLIGHT
BEGIN:STANDARD
TZOFFSETFROM:-0400
TZOFFSETTO:-0500
TZNAME:EST
DTSTART:20231105T060000
END:STANDARD
END:VTIMEZONE
BEGIN:VEVENT
DTSTART;TZID=America/Detroit:20221027T170000
DTEND;TZID=America/Detroit:20221027T183000
DTSTAMP:20260419T094425
CREATED:20221017T200647Z
LAST-MODIFIED:20221017T200647Z
UID:5549-1666890000-1666895400@ejchamber.org
SUMMARY:Business After Hours
DESCRIPTION:Join us for some fall fun at Royal Farms Wine Room. Networking\, snacks\, cash bar and fun. \nSponsored by: Royal Farms\, Ellsworth Farmers Exchange & House on the Hill Bed & Breakfast \nFREE for EJ Chamber Members – $10 for Not-Yet-Members
URL:https://ejchamber.org/event/business-after-hours-11/
LOCATION:Royal Farms Farm Market & Wine Cellar\, 10445 US 31\, Ellsworth\, MI\, 49729
CATEGORIES:One Time Events
END:VEVENT
BEGIN:VEVENT
DTSTART;TZID=America/Detroit:20221027T190000
DTEND;TZID=America/Detroit:20221028T210000
DTSTAMP:20260419T094425
CREATED:20221017T194624Z
LAST-MODIFIED:20221017T194624Z
UID:5546-1666897200-1666990800@ejchamber.org
SUMMARY:3rd Annual Pumpkin Walk
DESCRIPTION:Family Fun Night – October 27 starting at 7:00 PM – Walk the path lit with decorated pumpkins \nDisc Golf Tournament – October 28 – 5:00 PM \nHaunted Trail – October 28 starting at 7:00 PM – Enter if you dare – the trail will become haunted so enter for thrills and chills \nEnter by donation. All donations to benefit The Depot Jordan Valley Teen Center
URL:https://ejchamber.org/event/3rd-annual-pumpkin-walk/
LOCATION:East Jordan Community Park\, 805 Maple Street\, East Jordan\, MI\, 49727\, United States
ORGANIZER;CN="The Depot Jordan Valley Teen Center":MAILTO:depotjvteencenter@gmail.com
END:VEVENT
END:VCALENDAR