BEGIN:VCALENDAR
VERSION:2.0
PRODID:-//East Jordan Chamber - ECPv6.15.20//NONSGML v1.0//EN
CALSCALE:GREGORIAN
METHOD:PUBLISH
X-WR-CALNAME:East Jordan Chamber
X-ORIGINAL-URL:https://ejchamber.org
X-WR-CALDESC:Events for East Jordan Chamber
REFRESH-INTERVAL;VALUE=DURATION:PT1H
X-Robots-Tag:noindex
X-PUBLISHED-TTL:PT1H
BEGIN:VTIMEZONE
TZID:UTC
BEGIN:STANDARD
TZOFFSETFROM:+0000
TZOFFSETTO:+0000
TZNAME:UTC
DTSTART:20210101T000000
END:STANDARD
END:VTIMEZONE
BEGIN:VEVENT
DTSTART;VALUE=DATE:20220915
DTEND;VALUE=DATE:20220919
DTSTAMP:20260419T113550
CREATED:20220427T222548Z
LAST-MODIFIED:20220427T222548Z
UID:5301-1663200000-1663545599@ejchamber.org
SUMMARY:Paddle Antrim Festival
DESCRIPTION:September 15 – 17 \nThe Paddle Antrim Festival celebrates the amazing waterways and communities of Northern Michigan. The Festival\, always the second weekend after Labor Day\, includes a two-day paddle event through the Chain of Lakes Water Trail. This choose your own adventure paddle provides the opportunity for you to paddle one or both days and decide how far to travel. There are exits strategically placed along the route so you may go anywhere from 7 miles to all 42 miles. \nWhere: Chain of Lakes Water Trail (starting in Ellsworth at River Park (6625 Bridge St.) \nLearn more\, fees and registration: https://www.paddleantrim.com/festival/ \nContact info: \ninfo@paddleantrim.com \n231-498-2080
URL:https://ejchamber.org/event/paddle-antrim-festival-3/
LOCATION:MI
ATTACH;FMTTYPE=image/jpeg:https://ejchamber.org/wp-content/uploads/2022/04/Paddle-Antrim-Festival_small37263.jpg
END:VEVENT
BEGIN:VEVENT
DTSTART;TZID=UTC:20220915T100000
DTEND;TZID=UTC:20220915T140000
DTSTAMP:20260419T113550
CREATED:20220506T221950Z
LAST-MODIFIED:20220506T221950Z
UID:5363-1663236000-1663250400@ejchamber.org
SUMMARY:East Jordan Farmers Market
DESCRIPTION:Shop for local produce\, honey\, flowers\, baked goods\, crafts and much more. \nThursday’s 10:00 AM – 2:00 PM \nAt the East Jordan Tourist Park – 215 N. Lake Street
URL:https://ejchamber.org/event/east-jordan-farmers-market-68/
LOCATION:East Jordan Tourist Park\, 215 N. Lake St.\, East Jordan\, MI\, 49727\, United States
CATEGORIES:Recurring Events
END:VEVENT
END:VCALENDAR