BEGIN:VCALENDAR
VERSION:2.0
PRODID:-//East Jordan Chamber - ECPv6.15.20//NONSGML v1.0//EN
CALSCALE:GREGORIAN
METHOD:PUBLISH
X-WR-CALNAME:East Jordan Chamber
X-ORIGINAL-URL:https://ejchamber.org
X-WR-CALDESC:Events for East Jordan Chamber
REFRESH-INTERVAL;VALUE=DURATION:PT1H
X-Robots-Tag:noindex
X-PUBLISHED-TTL:PT1H
BEGIN:VTIMEZONE
TZID:America/Detroit
BEGIN:DAYLIGHT
TZOFFSETFROM:-0500
TZOFFSETTO:-0400
TZNAME:EDT
DTSTART:20210314T070000
END:DAYLIGHT
BEGIN:STANDARD
TZOFFSETFROM:-0400
TZOFFSETTO:-0500
TZNAME:EST
DTSTART:20211107T060000
END:STANDARD
BEGIN:DAYLIGHT
TZOFFSETFROM:-0500
TZOFFSETTO:-0400
TZNAME:EDT
DTSTART:20220313T070000
END:DAYLIGHT
BEGIN:STANDARD
TZOFFSETFROM:-0400
TZOFFSETTO:-0500
TZNAME:EST
DTSTART:20221106T060000
END:STANDARD
BEGIN:DAYLIGHT
TZOFFSETFROM:-0500
TZOFFSETTO:-0400
TZNAME:EDT
DTSTART:20230312T070000
END:DAYLIGHT
BEGIN:STANDARD
TZOFFSETFROM:-0400
TZOFFSETTO:-0500
TZNAME:EST
DTSTART:20231105T060000
END:STANDARD
END:VTIMEZONE
BEGIN:VEVENT
DTSTART;TZID=America/Detroit:20220911T160000
DTEND;TZID=America/Detroit:20220911T170000
DTSTAMP:20260419T113550
CREATED:20220831T195207Z
LAST-MODIFIED:20220831T195207Z
UID:5476-1662912000-1662915600@ejchamber.org
SUMMARY:GLCO presents The Traverse Quartet
DESCRIPTION:Free Sunday Series concert from the Great Lakes Chamber Orchestra \n  \nThe Traverse Quartet from the Great Lakes Chamber Orchestra (GLCO) will perform a free concert on Sunday\, September 11 at 4 p.m. at Emmanuel Episcopal Church\, 1020 E. Mitchell St.\, Petoskey\, as part of GLCO’s Sunday Series\, bringing small orchestra ensembles to neighborhood venues across Charlevoix and Emmet counties \nThe Traverse Quartet features Elizabeth Bert (cello)\, Kaylee Erlewein (violin)\, Lynn Hansen (oboe) and Ann Schoelles (viola). \nA variety of music will be performed from classical to jazz and pop\, including works by Haydn\, Mozart\, Gershwin\, Rutter\, Ellington\, and the Beatles. \nThe concert will begin promptly at 4 p.m. No tickets or registration are needed for this free\, public concert. For more information\, visit www.glcorchestra.org or call 231-487-0010.
URL:https://ejchamber.org/event/glco-presents-the-traverse-quartet/
LOCATION:Emmanuel Espiscopal Church\, Petoskey\, 1020 E. Mitchell Street\, Petoskey\, MI\, 49770\, United States
CATEGORIES:One Time Events
ATTACH;FMTTYPE=image/jpeg:https://ejchamber.org/wp-content/uploads/2022/08/Traverse-Quartet-jpg.jpg
ORGANIZER;CN="Great Lakes Chamber Orchestra":MAILTO:info@glcorchestra.org
END:VEVENT
END:VCALENDAR