BEGIN:VCALENDAR
VERSION:2.0
PRODID:-//East Jordan Chamber - ECPv6.15.20//NONSGML v1.0//EN
CALSCALE:GREGORIAN
METHOD:PUBLISH
X-WR-CALNAME:East Jordan Chamber
X-ORIGINAL-URL:https://ejchamber.org
X-WR-CALDESC:Events for East Jordan Chamber
REFRESH-INTERVAL;VALUE=DURATION:PT1H
X-Robots-Tag:noindex
X-PUBLISHED-TTL:PT1H
BEGIN:VTIMEZONE
TZID:America/Detroit
BEGIN:DAYLIGHT
TZOFFSETFROM:-0500
TZOFFSETTO:-0400
TZNAME:EDT
DTSTART:20210314T070000
END:DAYLIGHT
BEGIN:STANDARD
TZOFFSETFROM:-0400
TZOFFSETTO:-0500
TZNAME:EST
DTSTART:20211107T060000
END:STANDARD
BEGIN:DAYLIGHT
TZOFFSETFROM:-0500
TZOFFSETTO:-0400
TZNAME:EDT
DTSTART:20220313T070000
END:DAYLIGHT
BEGIN:STANDARD
TZOFFSETFROM:-0400
TZOFFSETTO:-0500
TZNAME:EST
DTSTART:20221106T060000
END:STANDARD
BEGIN:DAYLIGHT
TZOFFSETFROM:-0500
TZOFFSETTO:-0400
TZNAME:EDT
DTSTART:20230312T070000
END:DAYLIGHT
BEGIN:STANDARD
TZOFFSETFROM:-0400
TZOFFSETTO:-0500
TZNAME:EST
DTSTART:20231105T060000
END:STANDARD
END:VTIMEZONE
BEGIN:VTIMEZONE
TZID:UTC
BEGIN:STANDARD
TZOFFSETFROM:+0000
TZOFFSETTO:+0000
TZNAME:UTC
DTSTART:20210101T000000
END:STANDARD
END:VTIMEZONE
BEGIN:VEVENT
DTSTART;TZID=America/Detroit:20220908T080000
DTEND;TZID=America/Detroit:20220908T170000
DTSTAMP:20260419T113551
CREATED:20220912T165821Z
LAST-MODIFIED:20220912T165821Z
UID:5485-1662624000-1662656400@ejchamber.org
SUMMARY:GLCO presents Aspects of America
DESCRIPTION:Aspects of America\, opening concert of the Great Lakes Chamber Orchestra’s ’22 – ’23 season\, will be held at 7 pm on Saturday\, Oct. 1\, at the Great Lakes Center for the Arts in Bay Harbor. The journey through the history of American classical music spotlights composers from the mid 19th century to present day. \nFeatured is the 2022 Charles F. Davis Young Artist Competition winner Karlie Thomas\, performing with the orchestra on saxophone in Darius Milhaud’s Scaramouche concerto. \nComposers represented are Grant Still\, Piazzolla\, Barber\, Villa-Lobos\, Milhaud\, Kernis\, Bolcom\, Paus\, and Gould. \nA pre-concert talk by Libor Ondras\, orchestra conductor and music director\, starts at 6 p.m. in the Community Engagement Room. \nTickets from $35 – $65 for the Oct. 1 event are available at www.glcorchestra.org.  The concert is free for veterans\, active service members and students 18 and under by calling 231-487-0010.
URL:https://ejchamber.org/event/glco-presents-aspects-of-america/
LOCATION:Great Lakes Center for the Arts\, Bay Harbor\, 800 Bay Harbor Drive\, Bay Harbor\, MI\, 49770\, United States
ORGANIZER;CN="Great Lakes Chamber Orchestra":MAILTO:info@glcorchestra.org
END:VEVENT
BEGIN:VEVENT
DTSTART;TZID=UTC:20220908T100000
DTEND;TZID=UTC:20220908T140000
DTSTAMP:20260419T113551
CREATED:20220506T221854Z
LAST-MODIFIED:20220506T221854Z
UID:5361-1662631200-1662645600@ejchamber.org
SUMMARY:East Jordan Farmers Market
DESCRIPTION:Shop for local produce\, honey\, flowers\, baked goods\, crafts and much more. \nThursday’s 10:00 AM – 2:00 PM \nAt the East Jordan Tourist Park – 215 N. Lake Street
URL:https://ejchamber.org/event/east-jordan-farmers-market-67/
LOCATION:East Jordan Tourist Park\, 215 North Lake Street\, East Jordan\, MI\, 49727\, United States
CATEGORIES:Recurring Events
END:VEVENT
END:VCALENDAR