BEGIN:VCALENDAR
VERSION:2.0
PRODID:-//East Jordan Chamber - ECPv6.15.20//NONSGML v1.0//EN
CALSCALE:GREGORIAN
METHOD:PUBLISH
X-WR-CALNAME:East Jordan Chamber
X-ORIGINAL-URL:https://ejchamber.org
X-WR-CALDESC:Events for East Jordan Chamber
REFRESH-INTERVAL;VALUE=DURATION:PT1H
X-Robots-Tag:noindex
X-PUBLISHED-TTL:PT1H
BEGIN:VTIMEZONE
TZID:UTC
BEGIN:STANDARD
TZOFFSETFROM:+0000
TZOFFSETTO:+0000
TZNAME:UTC
DTSTART:20210101T000000
END:STANDARD
END:VTIMEZONE
BEGIN:VEVENT
DTSTART;TZID=UTC:20220730T120000
DTEND;TZID=UTC:20220730T160000
DTSTAMP:20260419T145815
CREATED:20220609T232302Z
LAST-MODIFIED:20220609T232302Z
UID:5410-1659182400-1659196800@ejchamber.org
SUMMARY:Garden Club Flower Show
DESCRIPTION:East Jordan Garden Club will show off their flower magic on July 30th at the Jordan River Arts Center from Noon – 4:00 PM \n  \nEveryone is welcome to stop in and view the show.
URL:https://ejchamber.org/event/garden-club-flower-show/
LOCATION:Jordan River Arts Council\, 301 Main Stree\, East Jordan\, MI\, 49727\, United States
CATEGORIES:One Time Events
END:VEVENT
BEGIN:VEVENT
DTSTART;TZID=UTC:20220730T130000
DTEND;TZID=UTC:20220730T160000
DTSTAMP:20260419T145815
CREATED:20220503T220245Z
LAST-MODIFIED:20220503T220245Z
UID:5308-1659186000-1659196800@ejchamber.org
SUMMARY:Kayaking Essentials Class
DESCRIPTION:July 30\, 1 – 4pm \nLearn more & register: https://www.paddleantrim.com/event/kayaking-essentials-class-july-30-100pm/ \nThis class teaches paddlers the basics for paddling all types of kayaks in a fun and safe way. You’ll learn about what kayaks work best for what conditions and other paddling best practices. Learn how to make the kayak go where you want it to go and basic safety skills needed on the water. You will have the opportunity to learn what to do when (not if) you end in the water\, out of your boat. This class is great for beginners but anyone who has never received formal instruction will benefit. Classes are taught by ACA (American Canoe Association) certified instructors. \nLocation: River Park\, 6625 Bridge St\, Ellsworth\, MI 49729 \nAges: 14 and up\n$45/person/class \nContact info: info@paddleantrim.com \n231-498-2080
URL:https://ejchamber.org/event/kayaking-essentials-class-8/
LOCATION:MI
END:VEVENT
END:VCALENDAR