BEGIN:VCALENDAR
VERSION:2.0
PRODID:-//East Jordan Chamber - ECPv6.15.20//NONSGML v1.0//EN
CALSCALE:GREGORIAN
METHOD:PUBLISH
X-ORIGINAL-URL:https://ejchamber.org
X-WR-CALDESC:Events for East Jordan Chamber
REFRESH-INTERVAL;VALUE=DURATION:PT1H
X-Robots-Tag:noindex
X-PUBLISHED-TTL:PT1H
BEGIN:VTIMEZONE
TZID:UTC
BEGIN:STANDARD
TZOFFSETFROM:+0000
TZOFFSETTO:+0000
TZNAME:UTC
DTSTART:20210101T000000
END:STANDARD
END:VTIMEZONE
BEGIN:VEVENT
DTSTART;TZID=UTC:20220727T140000
DTEND;TZID=UTC:20220727T160000
DTSTAMP:20260419T145926
CREATED:20220427T222251Z
LAST-MODIFIED:20220427T222251Z
UID:5281-1658930400-1658937600@ejchamber.org
SUMMARY:Kids Kayaking Class
DESCRIPTION:July 27\, 2 – 4 pm \nMore Info & to Register: https://www.paddleantrim.com/event/kids-kayaking-class-july-27-2-4-pm/ \nPaddle Antrim kids’ class is a great way to introduce your child to the sport of kayaking. Designed with fun and water safety as primary goals\, we teach students through a variety of games and exploration. Our experienced\, certified instructors teach basic skills with a goal to empower kids to be comfortable while out on the water. Classes are taught in traditional youth sized sea kayaks. Life Jackets are required. All classes are taught by ACA (American Canoe Association) certified instructors. \nLocation: River Park\, 6625 Bridge St\, Ellsworth\, MI 49729 \nCost: $30/person/class \nContact info: \ninfo@paddleantrim.com \n231-498-2080
URL:https://ejchamber.org/event/kids-kayaking-class-5/
LOCATION:MI
END:VEVENT
BEGIN:VEVENT
DTSTART;TZID=UTC:20220727T170000
DTEND;TZID=UTC:20220727T200000
DTSTAMP:20260419T145926
CREATED:20220427T222535Z
LAST-MODIFIED:20220427T222535Z
UID:5297-1658941200-1658952000@ejchamber.org
SUMMARY:Kayaking Essentials Class
DESCRIPTION:July 27\, 5 – 8 pm \nLearn more & register: https://www.paddleantrim.com/event/kayaking-essentials-class-july-27-500pm/ \nThis class teaches paddlers the basics for paddling all types of kayaks in a fun and safe way. You’ll learn about what kayaks work best for what conditions and other paddling best practices. Learn how to make the kayak go where you want it to go and basic safety skills needed on the water. You will have the opportunity to learn what to do when (not if) you end in the water\, out of your boat. This class is great for beginners but anyone who has never received formal instruction will benefit. Classes are taught by ACA (American Canoe Association) certified instructors. \nLocation: River Park\, 6625 Bridge St\, Ellsworth\, MI 49729 \nAges: 14 and up\n$45/person/class \nContact info: info@paddleantrim.com \n231-498-2080
URL:https://ejchamber.org/event/kayaking-essentials-class-7/
LOCATION:MI
END:VEVENT
END:VCALENDAR