BEGIN:VCALENDAR
VERSION:2.0
PRODID:-//East Jordan Chamber - ECPv6.15.20//NONSGML v1.0//EN
CALSCALE:GREGORIAN
METHOD:PUBLISH
X-ORIGINAL-URL:https://ejchamber.org
X-WR-CALDESC:Events for East Jordan Chamber
REFRESH-INTERVAL;VALUE=DURATION:PT1H
X-Robots-Tag:noindex
X-PUBLISHED-TTL:PT1H
BEGIN:VTIMEZONE
TZID:UTC
BEGIN:STANDARD
TZOFFSETFROM:+0000
TZOFFSETTO:+0000
TZNAME:UTC
DTSTART:20210101T000000
END:STANDARD
END:VTIMEZONE
BEGIN:VEVENT
DTSTART;TZID=UTC:20220721T100000
DTEND;TZID=UTC:20220721T140000
DTSTAMP:20260419T150827
CREATED:20220506T221319Z
LAST-MODIFIED:20220506T221319Z
UID:5347-1658397600-1658412000@ejchamber.org
SUMMARY:East Jordan Farmers Market
DESCRIPTION:Shop for local produce\, honey\, flowers\, baked goods\, crafts and much more. \nThursday’s 10:00 AM – 2:00 PM \nAt the East Jordan Tourist Park – 215 N. Lake Street
URL:https://ejchamber.org/event/east-jordan-farmers-market-60/
LOCATION:East Jordan Tourist Park\, 215 N. Lake St.\, East Jordan\, MI\, 49727\, United States
CATEGORIES:Recurring Events
END:VEVENT
BEGIN:VEVENT
DTSTART;TZID=UTC:20220721T183000
DTEND;TZID=UTC:20220721T200000
DTSTAMP:20260419T150827
CREATED:20220427T222124Z
LAST-MODIFIED:20220427T222124Z
UID:5258-1658428200-1658433600@ejchamber.org
SUMMARY:St Claire Six Mile Community Paddle
DESCRIPTION:St. Claire Six Mile Community Paddle; July 21\, 6:30 – 8 pm; \nSt. Clair Lake DNR Boat Access Site\, 9400 Six Mile Lake Rd\, Ellsworth\, MI 49729 \nMore Info: https://www.paddleantrim.com/event/st-clair-lake-six-mile-lake-natural-area-community-paddle-2/ \nGrab your paddleboard\, kayak\, or canoe and join Paddle Antrim for a slow out and back paddle. Check-in at 6:30 pm and we will launch as a group at 6:45 pm. We encourage all ages and types of paddle crafts to join us on the water for these slow paddles. Paddles last approximately one hour on the water\, are free\, and no pre-registration is required.  All paddlers must bring their own craft/boat\, paddle\, and a pfd (life jacket). All ages are welcome but children under 18 must be accompanied by an adult out on the water. All paddlers must complete a paddling event waiver prior to participation. \nContact info: \ninfo@paddleantrim.com \n231-498-2080
URL:https://ejchamber.org/event/st-claire-six-mile-community-paddle/
LOCATION:MI
END:VEVENT
END:VCALENDAR