BEGIN:VCALENDAR
VERSION:2.0
PRODID:-//East Jordan Chamber - ECPv6.15.20//NONSGML v1.0//EN
CALSCALE:GREGORIAN
METHOD:PUBLISH
X-WR-CALNAME:East Jordan Chamber
X-ORIGINAL-URL:https://ejchamber.org
X-WR-CALDESC:Events for East Jordan Chamber
REFRESH-INTERVAL;VALUE=DURATION:PT1H
X-Robots-Tag:noindex
X-PUBLISHED-TTL:PT1H
BEGIN:VTIMEZONE
TZID:America/Detroit
BEGIN:DAYLIGHT
TZOFFSETFROM:-0500
TZOFFSETTO:-0400
TZNAME:EDT
DTSTART:20210314T070000
END:DAYLIGHT
BEGIN:STANDARD
TZOFFSETFROM:-0400
TZOFFSETTO:-0500
TZNAME:EST
DTSTART:20211107T060000
END:STANDARD
BEGIN:DAYLIGHT
TZOFFSETFROM:-0500
TZOFFSETTO:-0400
TZNAME:EDT
DTSTART:20220313T070000
END:DAYLIGHT
BEGIN:STANDARD
TZOFFSETFROM:-0400
TZOFFSETTO:-0500
TZNAME:EST
DTSTART:20221106T060000
END:STANDARD
BEGIN:DAYLIGHT
TZOFFSETFROM:-0500
TZOFFSETTO:-0400
TZNAME:EDT
DTSTART:20230312T070000
END:DAYLIGHT
BEGIN:STANDARD
TZOFFSETFROM:-0400
TZOFFSETTO:-0500
TZNAME:EST
DTSTART:20231105T060000
END:STANDARD
END:VTIMEZONE
BEGIN:VEVENT
DTSTART;TZID=America/Detroit:20220719T190000
DTEND;TZID=America/Detroit:20220719T210000
DTSTAMP:20260419T145901
CREATED:20220628T144422Z
LAST-MODIFIED:20220628T144422Z
UID:5429-1658257200-1658264400@ejchamber.org
SUMMARY:Rockin' with GLCO Pops
DESCRIPTION:Rockin’ with the GLCO Pops at 7 pm Tuesday\, July 19th at Great Lakes Center for the Arts features internationally popular vocal group Rockapella with their full-band contemporary a cappella sound. The group will also collaborate with the Great Lakes Chamber Orchestra for favorites from Elton John\, Three Dog Night\, George Harrison and more.\nThe concert includes two other exciting orchestral works based on dance music of Mexico.\nHuapango by José Pablo Moncayo is an enduring classic with exciting\, rhythmic percussion and brass.\nDanzon 2 by Arturo Marquez is one of the most popular and frequently performed Mexican contemporary classical pieces\, with a dance form that originated in Cuba and became part of the folklore of Veracruz. \nTickets from $45 – $75 are available at www.glcorchestra.org.  Free for veterans\, Active Service Members and Students 18 and under by calling 231-487-0010. \n\n\n\n\n 
URL:https://ejchamber.org/event/rockin-with-glco-pops/
LOCATION:Great Lakes Center for the Arts\, Bay Harbor\, 800 Bay Harbor Drive\, Bay Harbor\, MI\, 49770\, United States
CATEGORIES:One Time Events
ATTACH;FMTTYPE=image/png:https://ejchamber.org/wp-content/uploads/2022/06/png-Rockapella-Facebook-Header1.png
ORGANIZER;CN="Great Lakes Chamber Orchestra":MAILTO:info@glcorchestra.org
END:VEVENT
END:VCALENDAR