BEGIN:VCALENDAR
VERSION:2.0
PRODID:-//East Jordan Chamber - ECPv6.15.20//NONSGML v1.0//EN
CALSCALE:GREGORIAN
METHOD:PUBLISH
X-WR-CALNAME:East Jordan Chamber
X-ORIGINAL-URL:https://ejchamber.org
X-WR-CALDESC:Events for East Jordan Chamber
REFRESH-INTERVAL;VALUE=DURATION:PT1H
X-Robots-Tag:noindex
X-PUBLISHED-TTL:PT1H
BEGIN:VTIMEZONE
TZID:UTC
BEGIN:STANDARD
TZOFFSETFROM:+0000
TZOFFSETTO:+0000
TZNAME:UTC
DTSTART:20210101T000000
END:STANDARD
END:VTIMEZONE
BEGIN:VEVENT
DTSTART;TZID=UTC:20220709T080000
DTEND;TZID=UTC:20220709T120000
DTSTAMP:20260419T145900
CREATED:20220302T204305Z
LAST-MODIFIED:20220302T204305Z
UID:5189-1657353600-1657368000@ejchamber.org
SUMMARY:Sweaty Yeti Run
DESCRIPTION:Sweaty Yeti Run 5K and Family Fun Run. Like them on Facebook for registration information and updates.
URL:https://ejchamber.org/event/sweaty-yeti-run-4/
LOCATION:Boswell Stadium\, 101 N. Maple St. \, East Jordan\, MI\, 49727\, United States
CATEGORIES:One Time Events
END:VEVENT
BEGIN:VEVENT
DTSTART;TZID=UTC:20220709T100000
DTEND;TZID=UTC:20220709T160000
DTSTAMP:20260419T145900
CREATED:20220302T013941Z
LAST-MODIFIED:20220302T014016Z
UID:5185-1657360800-1657382400@ejchamber.org
SUMMARY:South Arm Classic Car Show/Boat Show
DESCRIPTION:Classic cars and boats fill East Jordan’s Memorial Park\, City Marina and Spring Street. Stroll downtown East Jordan\, enjoy the Car Show – Boat Show\, enjoy a meal or snack\, do some shopping and see what East Jordan has to offer.
URL:https://ejchamber.org/event/south-arm-classic-car-show-boat-show/
LOCATION:Downtown East Jordan\, East Jordan\, MI\, 49727\, United States
CATEGORIES:Festival Events
END:VEVENT
BEGIN:VEVENT
DTSTART;TZID=UTC:20220709T160000
DTEND;TZID=UTC:20220709T210000
DTSTAMP:20260419T145900
CREATED:20220302T203649Z
LAST-MODIFIED:20220419T175258Z
UID:5187-1657382400-1657400400@ejchamber.org
SUMMARY:Rotary Brew Fest
DESCRIPTION:Put on your dancing shoes and come down to the City Harbor parking lot next to Memorial Park for some drinks and dancing. Sponsored by the Rotary Club of East Jordan.
URL:https://ejchamber.org/event/rotary-brew-fest/
LOCATION:Memorial Park\, 101 Spring Street\, East Jordan\, Michigan\, 49727
CATEGORIES:One Time Events
END:VEVENT
END:VCALENDAR