BEGIN:VCALENDAR
VERSION:2.0
PRODID:-//East Jordan Chamber - ECPv6.15.20//NONSGML v1.0//EN
CALSCALE:GREGORIAN
METHOD:PUBLISH
X-WR-CALNAME:East Jordan Chamber
X-ORIGINAL-URL:https://ejchamber.org
X-WR-CALDESC:Events for East Jordan Chamber
REFRESH-INTERVAL;VALUE=DURATION:PT1H
X-Robots-Tag:noindex
X-PUBLISHED-TTL:PT1H
BEGIN:VTIMEZONE
TZID:UTC
BEGIN:STANDARD
TZOFFSETFROM:+0000
TZOFFSETTO:+0000
TZNAME:UTC
DTSTART:20210101T000000
END:STANDARD
END:VTIMEZONE
BEGIN:VEVENT
DTSTART;TZID=UTC:20220623T100000
DTEND;TZID=UTC:20220623T140000
DTSTAMP:20260419T165507
CREATED:20220506T220931Z
LAST-MODIFIED:20220506T220931Z
UID:5339-1655978400-1655992800@ejchamber.org
SUMMARY:East Jordan Farmers Market
DESCRIPTION:Shop for local produce\, honey\, flowers\, baked goods\, crafts and much more. \nThursday’s 10:00 AM – 2:00 PM \nAt the East Jordan Tourist Park – 215 N. Lake Street
URL:https://ejchamber.org/event/east-jordan-farmers-market-56/
LOCATION:East Jordan Tourist Park\, 215 N. Lake St.\, East Jordan\, MI\, 49727\, United States
CATEGORIES:Recurring Events
END:VEVENT
END:VCALENDAR