BEGIN:VCALENDAR
VERSION:2.0
PRODID:-//East Jordan Chamber - ECPv6.15.20//NONSGML v1.0//EN
CALSCALE:GREGORIAN
METHOD:PUBLISH
X-WR-CALNAME:East Jordan Chamber
X-ORIGINAL-URL:https://ejchamber.org
X-WR-CALDESC:Events for East Jordan Chamber
REFRESH-INTERVAL;VALUE=DURATION:PT1H
X-Robots-Tag:noindex
X-PUBLISHED-TTL:PT1H
BEGIN:VTIMEZONE
TZID:UTC
BEGIN:STANDARD
TZOFFSETFROM:+0000
TZOFFSETTO:+0000
TZNAME:UTC
DTSTART:20210101T000000
END:STANDARD
END:VTIMEZONE
BEGIN:VEVENT
DTSTART;TZID=UTC:20220622T130000
DTEND;TZID=UTC:20220622T160000
DTSTAMP:20260419T165506
CREATED:20220427T222455Z
LAST-MODIFIED:20220427T222455Z
UID:5291-1655902800-1655913600@ejchamber.org
SUMMARY:Kayaking Essentials Class
DESCRIPTION:June 22\, 1 – 4 pm \nLearn more & register: https://www.paddleantrim.com/event/kayaking-essentials-class-june-22-100pm/ \nThis class teaches paddlers the basics for paddling all types of kayaks in a fun and safe way. You’ll learn about what kayaks work best for what conditions and other paddling best practices. Learn how to make the kayak go where you want it to go and basic safety skills needed on the water. You will have the opportunity to learn what to do when (not if) you end in the water\, out of your boat. This class is great for beginners but anyone who has never received formal instruction will benefit. Classes are taught by ACA (American Canoe Association) certified instructors. \nLocation: River Park\, 6625 Bridge St\, Ellsworth\, MI 49729 \nAges: 14 and up\n$45/person/class \nContact info: info@paddleantrim.com \n231-498-2080
URL:https://ejchamber.org/event/kayaking-essentials-class-4/
LOCATION:MI
END:VEVENT
BEGIN:VEVENT
DTSTART;TZID=UTC:20220622T170000
DTEND;TZID=UTC:20220622T200000
DTSTAMP:20260419T165506
CREATED:20220427T222507Z
LAST-MODIFIED:20220427T222507Z
UID:5293-1655917200-1655928000@ejchamber.org
SUMMARY:Kayaking Essentials Class
DESCRIPTION:June 22\, 5 – 8 pm \nLearn more & register: https://www.paddleantrim.com/event/kayaking-essentials-class-june-22-500pm/ \nThis class teaches paddlers the basics for paddling all types of kayaks in a fun and safe way. You’ll learn about what kayaks work best for what conditions and other paddling best practices. Learn how to make the kayak go where you want it to go and basic safety skills needed on the water. You will have the opportunity to learn what to do when (not if) you end in the water\, out of your boat. This class is great for beginners but anyone who has never received formal instruction will benefit. Classes are taught by ACA (American Canoe Association) certified instructors. \nLocation: River Park\, 6625 Bridge St\, Ellsworth\, MI 49729 \nAges: 14 and up\n$45/person/class \nContact info: info@paddleantrim.com \n231-498-2080
URL:https://ejchamber.org/event/kayaking-essentials-class-5/
LOCATION:MI
END:VEVENT
END:VCALENDAR