BEGIN:VCALENDAR
VERSION:2.0
PRODID:-//East Jordan Chamber - ECPv6.15.20//NONSGML v1.0//EN
CALSCALE:GREGORIAN
METHOD:PUBLISH
X-WR-CALNAME:East Jordan Chamber
X-ORIGINAL-URL:https://ejchamber.org
X-WR-CALDESC:Events for East Jordan Chamber
REFRESH-INTERVAL;VALUE=DURATION:PT1H
X-Robots-Tag:noindex
X-PUBLISHED-TTL:PT1H
BEGIN:VTIMEZONE
TZID:UTC
BEGIN:STANDARD
TZOFFSETFROM:+0000
TZOFFSETTO:+0000
TZNAME:UTC
DTSTART:20210101T000000
END:STANDARD
END:VTIMEZONE
BEGIN:VEVENT
DTSTART;TZID=UTC:20220621T120000
DTEND;TZID=UTC:20220621T140000
DTSTAMP:20260419T165509
CREATED:20220427T222208Z
LAST-MODIFIED:20220427T222208Z
UID:5270-1655812800-1655820000@ejchamber.org
SUMMARY:Kids Kayaking Class
DESCRIPTION:June 21\, 12 – 2 pm \nMore Info: https://www.paddleantrim.com/event/kids-kayaking-class-june-21-12pm/ \nPaddle Antrim kids’ class is a great way to introduce your child to the sport of kayaking. Designed with fun and water safety as primary goals\, we teach students through a variety of games and exploration. Our experienced\, certified instructors teach basic skills with a goal to empower kids to be comfortable while out on the water. Classes are taught in traditional youth sized sea kayaks. Life Jackets are required. All classes are taught by ACA (American Canoe Association) certified instructors. \nLocation: River Park\, 6625 Bridge St\, Ellsworth\, MI 49729 \nCost: $30/person/class \nContact info: \ninfo@paddleantrim.com \n231-498-2080
URL:https://ejchamber.org/event/kids-kayaking-class-2/
LOCATION:MI
END:VEVENT
BEGIN:VEVENT
DTSTART;TZID=UTC:20220621T143000
DTEND;TZID=UTC:20220621T163000
DTSTAMP:20260419T165509
CREATED:20220427T222236Z
LAST-MODIFIED:20220427T222236Z
UID:5279-1655821800-1655829000@ejchamber.org
SUMMARY:Kids Kayaking Class
DESCRIPTION:June 21\, 2:30 – 4:30 pm \nMore Info & to Register: https://www.paddleantrim.com/event/kids-kayaking-class-june-21-230pm/ \nPaddle Antrim kids’ class is a great way to introduce your child to the sport of kayaking. Designed with fun and water safety as primary goals\, we teach students through a variety of games and exploration. Our experienced\, certified instructors teach basic skills with a goal to empower kids to be comfortable while out on the water. Classes are taught in traditional youth sized sea kayaks. Life Jackets are required. All classes are taught by ACA (American Canoe Association) certified instructors. \nLocation: River Park\, 6625 Bridge St\, Ellsworth\, MI 49729 \nCost: $30/person/class \nContact info: \ninfo@paddleantrim.com \n231-498-2080
URL:https://ejchamber.org/event/kids-kayaking-class-4/
LOCATION:MI
END:VEVENT
BEGIN:VEVENT
DTSTART;TZID=UTC:20220621T170000
DTEND;TZID=UTC:20220621T210000
DTSTAMP:20260419T165509
CREATED:20220613T203120Z
LAST-MODIFIED:20220613T203120Z
UID:5416-1655830800-1655845200@ejchamber.org
SUMMARY:GLCO Crescendo Gala
DESCRIPTION:Join us for an open air evening gala celebrating music with the Great Lakes Chamber Orchestra at beautiful Castle Farms in Charlevoix\nHors d’oeuvres\, wine\, live music\, dinner\, fun auctions.\nReservations are limited.  Guarantee your seat today.\n231-487-0010 or www.glcorchestra.org
URL:https://ejchamber.org/event/glco-crescendo-gala/
LOCATION:Castle Farms\, 5052 M 66 N\, Charlevoix\, MI\, 49720\, United States
CATEGORIES:One Time Events
ATTACH;FMTTYPE=image/jpeg:https://ejchamber.org/wp-content/uploads/2022/06/GLCO_headers11.jpeg
ORGANIZER;CN="Great Lakes Chamber Orchestra":MAILTO:info@glcorchestra.org
END:VEVENT
END:VCALENDAR