BEGIN:VCALENDAR
VERSION:2.0
PRODID:-//East Jordan Chamber - ECPv6.15.20//NONSGML v1.0//EN
CALSCALE:GREGORIAN
METHOD:PUBLISH
X-WR-CALNAME:East Jordan Chamber
X-ORIGINAL-URL:https://ejchamber.org
X-WR-CALDESC:Events for East Jordan Chamber
REFRESH-INTERVAL;VALUE=DURATION:PT1H
X-Robots-Tag:noindex
X-PUBLISHED-TTL:PT1H
BEGIN:VTIMEZONE
TZID:UTC
BEGIN:STANDARD
TZOFFSETFROM:+0000
TZOFFSETTO:+0000
TZNAME:UTC
DTSTART:20210101T000000
END:STANDARD
END:VTIMEZONE
BEGIN:VEVENT
DTSTART;TZID=UTC:20220604T190000
DTEND;TZID=UTC:20220604T203000
DTSTAMP:20260419T165509
CREATED:20220503T220303Z
LAST-MODIFIED:20220503T220303Z
UID:5310-1654369200-1654374600@ejchamber.org
SUMMARY:GLCO presents Beethoven Symphony No. 9
DESCRIPTION:Experience Beethoven’s 9th Symphony\, regarded by many as his greatest work and one of the supreme achievements in the history of music. It was also Beethoven’s last complete symphony\, composed when he was almost completely deaf\, and is one of the most performed symphonies in the world. The 4th movement features the exultant “Ode to Joy” theme\, along with a chorus and celebrated soloists Risa Renae Harman (Soprano)\, Elise DesChamps (Mezzo-Soprano)\, John Bragle (Tenor) and William Bakhout (Baritone). Hear this masterpiece Saturday\, June 4th at 7 p.m. at the John M. Hall Auditorium in Bay View.  For tickets ($35 to $65) and more information\, visit www.glcorchestra.org.  Free for Veterans\, active service members and for those 18 and under by calling 231.487.0010.
URL:https://ejchamber.org/event/glco-presents-beethoven-symphony-no-9/
LOCATION:John M. Hall Auditorium\, 1725 Encampment\, Petoskey\, MI\, 49770\, United States
CATEGORIES:One Time Events
ATTACH;FMTTYPE=image/jpeg:https://ejchamber.org/wp-content/uploads/2022/05/Beethoven-image.jpeg
ORGANIZER;CN="Great Lakes Chamber Orchestra":MAILTO:info@glcorchestra.org
END:VEVENT
END:VCALENDAR