BEGIN:VCALENDAR
VERSION:2.0
PRODID:-//East Jordan Chamber - ECPv6.15.20//NONSGML v1.0//EN
CALSCALE:GREGORIAN
METHOD:PUBLISH
X-WR-CALNAME:East Jordan Chamber
X-ORIGINAL-URL:https://ejchamber.org
X-WR-CALDESC:Events for East Jordan Chamber
REFRESH-INTERVAL;VALUE=DURATION:PT1H
X-Robots-Tag:noindex
X-PUBLISHED-TTL:PT1H
BEGIN:VTIMEZONE
TZID:UTC
BEGIN:STANDARD
TZOFFSETFROM:+0000
TZOFFSETTO:+0000
TZNAME:UTC
DTSTART:20210101T000000
END:STANDARD
END:VTIMEZONE
BEGIN:VEVENT
DTSTART;TZID=UTC:20220603T113000
DTEND;TZID=UTC:20220603T170000
DTSTAMP:20260419T165506
CREATED:20220302T013449Z
LAST-MODIFIED:20220302T013449Z
UID:5181-1654255800-1654275600@ejchamber.org
SUMMARY:Chamber Annual Spring Golf Outing
DESCRIPTION:Get your 4 person team together and join us for the 25th Annual Chamber Spring Golf Outing at The Mallard Golf Club. Great Food\, Fun Games\, Networking\, Golf\, Gifts and Prizes. Contact the Chamber Office for a registration form.
URL:https://ejchamber.org/event/chamber-annual-spring-golf-outing/
LOCATION:The Mallard Golf Club\, 9569 Bailey Rd.\, East Jordan\, MI\, 49727\, United States
CATEGORIES:One Time Events
END:VEVENT
BEGIN:VEVENT
DTSTART;TZID=UTC:20220603T190000
DTEND;TZID=UTC:20220603T210000
DTSTAMP:20260419T165506
CREATED:20220506T222908Z
LAST-MODIFIED:20220506T222908Z
UID:5369-1654282800-1654290000@ejchamber.org
SUMMARY:Music in the Park - Jelly Roll Blues Band
DESCRIPTION:Bring a chair or blanket\, grab some dinner\, drinks or snacks from one of our restaurants and listen to some awesome music on the banks of the south arm of Lake Charlevoix. The band will take the stage at 7:00 PM. \nMusic in the Park is proudly brought to you by: The City of East Jordan\, Jordan River Arts Council and East Jordan Area Chamber of Commerce.
URL:https://ejchamber.org/event/music-in-the-park-jelly-roll-blues-band-2/
LOCATION:Memorial Park\, 101 Spring Street\, East Jordan\, Michigan\, 49727
CATEGORIES:Recurring Events
ORGANIZER;CN="Music in the Park Committee":MAILTO:fender.shannon@yahoo.com
END:VEVENT
END:VCALENDAR