BEGIN:VCALENDAR
VERSION:2.0
PRODID:-//East Jordan Chamber - ECPv6.15.20//NONSGML v1.0//EN
CALSCALE:GREGORIAN
METHOD:PUBLISH
X-ORIGINAL-URL:https://ejchamber.org
X-WR-CALDESC:Events for East Jordan Chamber
REFRESH-INTERVAL;VALUE=DURATION:PT1H
X-Robots-Tag:noindex
X-PUBLISHED-TTL:PT1H
BEGIN:VTIMEZONE
TZID:UTC
BEGIN:STANDARD
TZOFFSETFROM:+0000
TZOFFSETTO:+0000
TZNAME:UTC
DTSTART:20210101T000000
END:STANDARD
END:VTIMEZONE
BEGIN:VEVENT
DTSTART;TZID=UTC:20220501T160000
DTEND;TZID=UTC:20220501T170000
DTSTAMP:20260419T184859
CREATED:20220420T195712Z
LAST-MODIFIED:20220420T195712Z
UID:5240-1651420800-1651424400@ejchamber.org
SUMMARY:GLCO presents The Hummel Trio
DESCRIPTION:Great Lakes Chamber Orchestra presents The Hummel Trio with Libor Ondras and Paul Sonner\, as part of the season’s Sunday Recital Series. The program will include works by Johann Nepomuk Hummel\, Joseph Haydn\, Johan Halvorsen\, and Wolfgang Amadeus Mozart.  The trio includes Dr.Libor Ondras\, viola; Emily Grabinski-Conklin\, piano; and Andrew Laven\, cello.  The trio will be joined by GLCO Concertmaster and violinist Paul Sonner.\nGenerous support for the Sunday Recital Series is provided by Carolyn Klender.
URL:https://ejchamber.org/event/glco-presents-the-hummel-trio/
LOCATION:First Presbyterian Church of Harbor Springs\, 7940 Cemetery Rd\, Harbor Springs\, MI\, 49740\, United States
CATEGORIES:One Time Events
ATTACH;FMTTYPE=image/jpeg:https://ejchamber.org/wp-content/uploads/2022/04/HUMMEL_TRIO.jpg
ORGANIZER;CN="Great Lakes Chamber Orchestra":MAILTO:info@glcorchestra.org
END:VEVENT
END:VCALENDAR