BEGIN:VCALENDAR
VERSION:2.0
PRODID:-//East Jordan Chamber - ECPv6.15.20//NONSGML v1.0//EN
CALSCALE:GREGORIAN
METHOD:PUBLISH
X-WR-CALNAME:East Jordan Chamber
X-ORIGINAL-URL:https://ejchamber.org
X-WR-CALDESC:Events for East Jordan Chamber
REFRESH-INTERVAL;VALUE=DURATION:PT1H
X-Robots-Tag:noindex
X-PUBLISHED-TTL:PT1H
BEGIN:VTIMEZONE
TZID:UTC
BEGIN:STANDARD
TZOFFSETFROM:+0000
TZOFFSETTO:+0000
TZNAME:UTC
DTSTART:20210101T000000
END:STANDARD
END:VTIMEZONE
BEGIN:VEVENT
DTSTART;TZID=UTC:20220430T190000
DTEND;TZID=UTC:20220430T190000
DTSTAMP:20260419T184901
CREATED:20220302T010842Z
LAST-MODIFIED:20220302T011117Z
UID:5171-1651345200-1651345200@ejchamber.org
SUMMARY:Miss East Jordan Scholarship Pageant
DESCRIPTION:
URL:https://ejchamber.org/event/miss-east-jordan-scholarship-pageant-3/
LOCATION:East Jordan High School\, 101 Maple Street\, East Jordan\, MI\, 49727\, United States
CATEGORIES:One Time Events
END:VEVENT
END:VCALENDAR