BEGIN:VCALENDAR
VERSION:2.0
PRODID:-//East Jordan Chamber - ECPv6.15.20//NONSGML v1.0//EN
CALSCALE:GREGORIAN
METHOD:PUBLISH
X-ORIGINAL-URL:https://ejchamber.org
X-WR-CALDESC:Events for East Jordan Chamber
REFRESH-INTERVAL;VALUE=DURATION:PT1H
X-Robots-Tag:noindex
X-PUBLISHED-TTL:PT1H
BEGIN:VTIMEZONE
TZID:UTC
BEGIN:STANDARD
TZOFFSETFROM:+0000
TZOFFSETTO:+0000
TZNAME:UTC
DTSTART:20210101T000000
END:STANDARD
END:VTIMEZONE
BEGIN:VEVENT
DTSTART;TZID=UTC:20220302T080000
DTEND;TZID=UTC:20220302T170000
DTSTAMP:20260419T221616
CREATED:20220302T205100Z
LAST-MODIFIED:20220302T205100Z
UID:5193-1646208000-1646240400@ejchamber.org
SUMMARY:Kiersten's Ride
DESCRIPTION:Horseback / Walk / ATV Ride fundraiser for suicide awareness & Prevention. Like them on Facebook for more details. www.kierstensride.org \n 
URL:https://ejchamber.org/event/kierstens-ride-3/
LOCATION:Chandler Hill Campground\, 2930 Magee Rd\, Boyne Falls\, MI\, 49713\, United States
CATEGORIES:One Time Events
ORGANIZER;CN="Kiersten's Ride":MAILTO:kierstensride@outlook,com
END:VEVENT
END:VCALENDAR